Workbook
Name Doc_Header: Documentation!#REF!

Sheet NOTES
A1: US SAILING - PERFORMANCE PACKAGE
A3: Welcome to your Performance Package (Boat Polars)
A5: This Excel spreadsheet contains the following pages:
A7: Documentation -- read this to understand the assumptions behind performance prediction and how use the polar data
A9: Polars -- detailed list of predictions for true wind speeds of 6, 8, 10, 12, 16, 20 and 24 knots
A10: true wind angles vary in 1 degree increments from 180 degrees (dead downwind to about 30 degrees)
A11: there is one line per wind speed and angle combination; data includes true and apparent wind, boat speed,
A12: VMG (boat speed made good upwind or downwind), heel angle, REEF and FLAT "indicators" of how
A13: much the sail plan has been de-powered
A15: Polar Table -- summary of best peformance at each wind speed (PRINT THIS PAGE)
A17: Chart 1-7 -- Polar plot of boat speed vs wind angle for each wind speed. Each plot may contain multiple curves,
A18: depending on how many sail combinations are available. This illustrates jib/spinnaker crossovers.
... A42: FILES for OCKAM and NOBLETEC: e-mail JimTeeters@USSAILING.org

Sheet Documentation
A3: US SAILING - PERFORMANCE PACKAGE
A5: The Performance Package is custom-calculated for each individual boat. It is intended to augment, not to replace the many excellent books and articles offering general suggestions for improvement of sailing performance. At first study, the Performance Package will be of greater interest to the more sophisticated sailors but ultimately it may prove more useful to the beginner for whom there is more to be learned.
A7: The speed predictions for the individual boats which are central elements of the Performance Package are derived in two steps. First the hull is measured by use of an electronic device so as to put the hull lines into the computer data bank. The other elements of measurement, the rig dimensions, the flotation and stability are added to the data bank for this one boat. Second, a series of complex calculations is made to find the boat speeds at which all of the elements of drag come into equilibrium with the drive provided by the sails.
A9: At the speeds shown on the VPP data sheet, various factors of drag have been balanced against the driving force. The important thing to have in mind is that each factor contributes either to drive or to drag. There are no "speed producing" elements in the hull. Thus length is not a speed producer. It simply affects the drag differently under different sailing conditions. But drive (from the sails) and drag can be influenced in some degree by the way a boat is sailed.
A11: How accurate are the speed predictions? They are printed out to a thousandth of a knot but they aren't that accurate. (Thousandths are printed out so as to obviate the practice of adjusting flotation and the like with the intention of getting a new measurement which rounds off to a lower rating by a tenth of a foot.) One answer to the question of accuracy is that no one can know exactly. Onboard measurements of wind angle and speed are very hard to take with accuracy. So also it is hard to measure the speed of the boat. Wind conditions are constantly changing. But actual sailing trials have been conducted and about the best one can say is that speed predictions are as close as the instruments can measure. In a later section we will explain adjustments or corrections for wind instruments.
A13: It must be understood also that the speed predictions are based on perfect steering in absolutely steady wind and the sails are perfectly optimized to the sailing conditions, meaning that the reefing does not correspond to any particular set of jibs and/or mainsail reef points. Drag due to pitching in waves is accounted for using a wave spectrum that varies with the wind strength. Of course, real world wave conditions can vary quite independently of the wind strength.
A18: THE POLAR DIAGRAMS AND HOW TO READ THEM
A20: For many years polar diagrams derived from designers' estimates and from sailing trials have been used at sophisticated levels of sail racing, for example in America's Cup competition. But for most sailors they will be new and the explanation which follows assumes that this is an initial encounter.
A22: The wind direction is indicated by the drawn arrow and may be seen as blowing from the top of the diagram toward the bottom.
A24: Each radial line extending from the center represents a sailing angle relative to the indicated wind. Thus the horizontal line is at 90 to the wind. On one of the diagrams this is the true wind direction and on the other it is the apparent wind direction as it would appear on a boat's wind direction indicator. For the wind direction of 90 apparent, the wind direction true must be farther aft. You will see that on the diagram for true wind angle the direction is about 105 to result in the same boat speed as achieved in a wind of 90 apparent. Of course, it is all the same wind, just a difference in how the direction is defined, relative to itself (true) or relative to the moving boat (apparent). Most of the time you will be interested in the apparent wind; this is what you feel and what your indicator displays.
A26: Each radial line is graduated into one-knot increments by tick marks with smaller ticks on tenths of knots. These show the predicted boat speed. The farther from the center the higher the boat speed. The corresponding speeds in knots are shown along the 90 line.
A28: The irregular curves are the plots of boat speeds at seven different wind speeds; 6, 8, 10, 12, 16, 20 and 24 knots. The inner curve nearest the center presents the boat speeds at the six-knot wind speed and the curve farthest from the center presents boat speeds at 24-knot wind speed.
... A165: NOTE: "Course" above means the direction of the midline of the hull without any allowance for leeway.

Sheet Polars
A1: Options: /FONT /US_DATES /LJS /US_COPY_RIGHT /VCR /HPGL /AMERICAP
A2: Options: /VPP1DEG /ICWL
A3: ORR AMENDED FOR 2015
A4: DATE RUN: 25/MAR/2015 TIME: 13:48 HYDROSTATICS & THEORETIC STABILITY
A5: CERT. NO: 42449
A6: YACHT: SHUANG HSI VCG = VERTICAL CENTER OF GRAVITY
A7: SAIL NO: USA-176 VCB = VERTICAL CENTER OF BUOYANCY
A8: CLASS: TASHIBA 40 LCB = LONGITUDINAL CENTER OF BUOYANCY
A9: --------------------------- LPP INPUT DATA ---------------------------
A10: INPUT FILES: US42449.DAT 04/MAR/15 13:38:51
A11: OFFSETS Measured: 00/00/00 US18250.OFF 03/JUL/93 08:30:42
A12: Flotation date year: 85 Specific Gravity: 1.023
... A204: --------------------------------------------------------------------------------
A205: VTW BTW VAW BAW V VMG PHI REEF FLAT CL iter | C205: VTW | D205: BTW | E205: VAW | F205: BAW | G205: V | H205: VMG | I205: PHI | J205: SAIL
A206: --------------------------------------------------------------------------------
A207: 6.0 180.0 3.12 180.00 2.807 -2.807 0.0 1.0000 1.0000 -0.0391 3 Asym Spin tacked on CL | C207: 6 | D207: 180 | E207: 3.12 | F207: 180 | G207: 2.807 | H207: -2.807 | I207: 0 | J207: Asym Spin tacked on CL
A208: 6.0 179.0 3.11 178.10 2.810 -2.810 0.0 1.0000 1.0000 -0.0042 1 Asym Spin tacked on CL | C208: 6 | D208: 179 | E208: 3.11 | F208: 178.1 | G208: 2.81 | H208: -2.81 | I208: 0 | J208: Asym Spin tacked on CL
A209: 6.0 178.0 3.11 176.19 2.814 -2.813 0.0 1.0000 1.0000 0.0308 2 Asym Spin tacked on CL | C209: 6 | D209: 178 | E209: 3.11 | F209: 176.19 | G209: 2.814 | H209: -2.813 | I209: 0 | J209: Asym Spin tacked on CL
A210: 6.0 177.0 3.11 174.28 2.820 -2.816 0.0 1.0000 1.0000 0.0660 2 Asym Spin tacked on CL | C210: 6 | D210: 177 | E210: 3.11 | F210: 174.28 | G210: 2.82 | H210: -2.816 | I210: 0 | J210: Asym Spin tacked on CL
A211: 6.0 176.0 3.11 172.36 2.827 -2.820 0.0 1.0000 1.0000 0.1015 2 Asym Spin tacked on CL | C211: 6 | D211: 176 | E211: 3.11 | F211: 172.36 | G211: 2.827 | H211: -2.82 | I211: 0 | J211: Asym Spin tacked on CL
A212: 6.0 175.0 3.11 170.44 2.835 -2.824 0.1 1.0000 1.0000 0.1373 2 Asym Spin tacked on CL | C212: 6 | D212: 175 | E212: 3.11 | F212: 170.44 | G212: 2.835 | H212: -2.824 | I212: 0.1 | J212: Asym Spin tacked on CL
A213: 6.0 174.0 3.11 168.51 2.844 -2.828 0.1 1.0000 1.0000 0.1735 2 Asym Spin tacked on CL | C213: 6 | D213: 174 | E213: 3.11 | F213: 168.51 | G213: 2.844 | H213: -2.828 | I213: 0.1 | J213: Asym Spin tacked on CL
A214: 6.0 173.0 3.11 166.57 2.855 -2.833 0.1 1.0000 1.0000 0.2102 2 Asym Spin tacked on CL | C214: 6 | D214: 173 | E214: 3.11 | F214: 166.57 | G214: 2.855 | H214: -2.833 | I214: 0.1 | J214: Asym Spin tacked on CL
A215: 6.0 172.0 3.11 164.63 2.867 -2.839 0.1 1.0000 1.0000 0.2473 2 Asym Spin tacked on CL | C215: 6 | D215: 172 | E215: 3.11 | F215: 164.63 | G215: 2.867 | H215: -2.839 | I215: 0.1 | J215: Asym Spin tacked on CL
A216: 6.0 171.0 3.11 162.67 2.880 -2.844 0.1 1.0000 1.0000 0.2850 2 Asym Spin tacked on CL | C216: 6 | D216: 171 | E216: 3.11 | F216: 162.67 | G216: 2.88 | H216: -2.844 | I216: 0.1 | J216: Asym Spin tacked on CL
A217: 6.0 170.0 3.11 160.71 2.894 -2.850 0.1 1.0000 1.0000 0.3233 2 Asym Spin tacked on CL | C217: 6 | D217: 170 | E217: 3.11 | F217: 160.71 | G217: 2.894 | H217: -2.85 | I217: 0.1 | J217: Asym Spin tacked on CL
A218: 6.0 169.0 3.12 158.73 2.910 -2.857 0.1 1.0000 1.0000 0.3622 2 Asym Spin tacked on CL | C218: 6 | D218: 169 | E218: 3.12 | F218: 158.73 | G218: 2.91 | H218: -2.857 | I218: 0.1 | J218: Asym Spin tacked on CL
... A520: 6.0 50.6 8.91 29.85 4.084 2.590 2.8 1.0000 1.0000 1.8381 2 OPTUP | C520: 6 | D520: 50.6 | E520: 8.91 | F520: 29.85 | G520: 4.084 | H520: 2.59 | I520: 2.8 | J520: OPTUP
A521: --------------------------------------------------------------------------------
A522: VTW BTW VAW BAW V VMG PHI REEF FLAT CL iter | C522: VTW | D522: BTW | E522: VAW | F522: BAW | G522: V | H522: VMG | I522: PHI | J522: SAIL
A523: --------------------------------------------------------------------------------
A524: 8.0 180.0 4.15 180.00 3.752 -3.752 0.0 1.0000 1.0000 -0.0391 3 Asym Spin tacked on CL | C524: 8 | D524: 180 | E524: 4.15 | F524: 180 | G524: 3.752 | H524: -3.752 | I524: 0 | J524: Asym Spin tacked on CL
A525: 8.0 179.0 4.14 178.09 3.755 -3.755 0.0 1.0000 1.0000 -0.0042 2 Asym Spin tacked on CL | C525: 8 | D525: 179 | E525: 4.14 | F525: 178.09 | G525: 3.755 | H525: -3.755 | I525: 0 | J525: Asym Spin tacked on CL
A526: 8.0 178.0 4.14 176.18 3.760 -3.758 0.1 1.0000 1.0000 0.0309 2 Asym Spin tacked on CL | C526: 8 | D526: 178 | E526: 4.14 | F526: 176.18 | G526: 3.76 | H526: -3.758 | I526: 0.1 | J526: Asym Spin tacked on CL
A527: 8.0 177.0 4.14 174.27 3.767 -3.762 0.1 1.0000 1.0000 0.0662 2 Asym Spin tacked on CL | C527: 8 | D527: 177 | E527: 4.14 | F527: 174.27 | G527: 3.767 | H527: -3.762 | I527: 0.1 | J527: Asym Spin tacked on CL
A528: 8.0 176.0 4.14 172.35 3.776 -3.767 0.1 1.0000 1.0000 0.1017 2 Asym Spin tacked on CL | C528: 8 | D528: 176 | E528: 4.14 | F528: 172.35 | G528: 3.776 | H528: -3.767 | I528: 0.1 | J528: Asym Spin tacked on CL
A529: 8.0 175.0 4.14 170.43 3.786 -3.772 0.1 1.0000 1.0000 0.1376 2 Asym Spin tacked on CL | C529: 8 | D529: 175 | E529: 4.14 | F529: 170.43 | G529: 3.786 | H529: -3.772 | I529: 0.1 | J529: Asym Spin tacked on CL
A530: 8.0 174.0 4.14 168.50 3.798 -3.777 0.1 1.0000 1.0000 0.1738 2 Asym Spin tacked on CL | C530: 8 | D530: 174 | E530: 4.14 | F530: 168.5 | G530: 3.798 | H530: -3.777 | I530: 0.1 | J530: Asym Spin tacked on CL
A531: 8.0 173.0 4.14 166.56 3.811 -3.783 0.1 1.0000 1.0000 0.2105 2 Asym Spin tacked on CL | C531: 8 | D531: 173 | E531: 4.14 | F531: 166.56 | G531: 3.811 | H531: -3.783 | I531: 0.1 | J531: Asym Spin tacked on CL
A532: 8.0 172.0 4.14 164.61 3.826 -3.789 0.1 1.0000 1.0000 0.2476 2 Asym Spin tacked on CL | C532: 8 | D532: 172 | E532: 4.14 | F532: 164.61 | G532: 3.826 | H532: -3.789 | I532: 0.1 | J532: Asym Spin tacked on CL
A533: 8.0 171.0 4.15 162.66 3.843 -3.795 0.1 1.0000 1.0000 0.2853 2 Asym Spin tacked on CL | C533: 8 | D533: 171 | E533: 4.15 | F533: 162.66 | G533: 3.843 | H533: -3.795 | I533: 0.1 | J533: Asym Spin tacked on CL
A534: 8.0 170.0 4.15 160.70 3.861 -3.802 0.2 1.0000 1.0000 0.3235 2 Asym Spin tacked on CL | C534: 8 | D534: 170 | E534: 4.15 | F534: 160.7 | G534: 3.861 | H534: -3.802 | I534: 0.2 | J534: Asym Spin tacked on CL
A535: 8.0 169.0 4.15 158.73 3.881 -3.810 0.2 1.0000 1.0000 0.3623 2 Asym Spin tacked on CL | C535: 8 | D535: 169 | E535: 4.15 | F535: 158.73 | G535: 3.881 | H535: -3.81 | I535: 0.2 | J535: Asym Spin tacked on CL
... A838: 8.0 49.6 11.59 30.10 5.058 3.280 4.4 1.0000 1.0000 1.8441 2 OPTUP | C838: 8 | D838: 49.6 | E838: 11.59 | F838: 30.1 | G838: 5.058 | H838: 3.28 | I838: 4.4 | J838: OPTUP
A839: --------------------------------------------------------------------------------
A840: VTW BTW VAW BAW V VMG PHI REEF FLAT CL iter | C840: VTW | D840: BTW | E840: VAW | F840: BAW | G840: V | H840: VMG | I840: PHI | J840: SAIL
A841: --------------------------------------------------------------------------------
A842: 10.0 180.0 5.23 180.00 4.645 -4.645 0.1 1.0000 1.0000 -0.0391 3 Asym Spin tacked on CL | C842: 10 | D842: 180 | E842: 5.23 | F842: 180 | G842: 4.645 | H842: -4.645 | I842: 0.1 | J842: Asym Spin tacked on CL
A843: 10.0 179.0 5.22 178.11 4.649 -4.648 0.1 1.0000 1.0000 -0.0045 2 Asym Spin tacked on CL | C843: 10 | D843: 179 | E843: 5.22 | F843: 178.11 | G843: 4.649 | H843: -4.648 | I843: 0.1 | J843: Asym Spin tacked on CL
A844: 10.0 178.0 5.22 176.22 4.655 -4.652 0.1 1.0000 1.0000 0.0303 2 Asym Spin tacked on CL | C844: 10 | D844: 178 | E844: 5.22 | F844: 176.22 | G844: 4.655 | H844: -4.652 | I844: 0.1 | J844: Asym Spin tacked on CL
A845: 10.0 177.0 5.22 174.32 4.663 -4.657 0.1 1.0000 1.0000 0.0652 2 Asym Spin tacked on CL | C845: 10 | D845: 177 | E845: 5.22 | F845: 174.32 | G845: 4.663 | H845: -4.657 | I845: 0.1 | J845: Asym Spin tacked on CL
A846: 10.0 176.0 5.22 172.42 4.673 -4.662 0.1 1.0000 1.0000 0.1004 2 Asym Spin tacked on CL | C846: 10 | D846: 176 | E846: 5.22 | F846: 172.42 | G846: 4.673 | H846: -4.662 | I846: 0.1 | J846: Asym Spin tacked on CL
A847: 10.0 175.0 5.22 170.51 4.685 -4.667 0.1 1.0000 1.0000 0.1359 2 Asym Spin tacked on CL | C847: 10 | D847: 175 | E847: 5.22 | F847: 170.51 | G847: 4.685 | H847: -4.667 | I847: 0.1 | J847: Asym Spin tacked on CL
A848: 10.0 174.0 5.22 168.60 4.699 -4.673 0.2 1.0000 1.0000 0.1718 2 Asym Spin tacked on CL | C848: 10 | D848: 174 | E848: 5.22 | F848: 168.6 | G848: 4.699 | H848: -4.673 | I848: 0.2 | J848: Asym Spin tacked on CL
A849: 10.0 173.0 5.22 166.68 4.714 -4.679 0.2 1.0000 1.0000 0.2081 2 Asym Spin tacked on CL | C849: 10 | D849: 173 | E849: 5.22 | F849: 166.68 | G849: 4.714 | H849: -4.679 | I849: 0.2 | J849: Asym Spin tacked on CL
A850: 10.0 172.0 5.23 164.76 4.732 -4.686 0.2 1.0000 1.0000 0.2448 2 Asym Spin tacked on CL | C850: 10 | D850: 172 | E850: 5.23 | F850: 164.76 | G850: 4.732 | H850: -4.686 | I850: 0.2 | J850: Asym Spin tacked on CL
A851: 10.0 171.0 5.23 162.83 4.751 -4.692 0.2 1.0000 1.0000 0.2819 2 Asym Spin tacked on CL | C851: 10 | D851: 171 | E851: 5.23 | F851: 162.83 | G851: 4.751 | H851: -4.692 | I851: 0.2 | J851: Asym Spin tacked on CL
A852: 10.0 170.0 5.24 160.90 4.772 -4.700 0.2 1.0000 1.0000 0.3196 2 Asym Spin tacked on CL | C852: 10 | D852: 170 | E852: 5.24 | F852: 160.9 | G852: 4.772 | H852: -4.7 | I852: 0.2 | J852: Asym Spin tacked on CL
A853: 10.0 169.0 5.25 158.95 4.795 -4.707 0.3 1.0000 1.0000 0.3579 2 Asym Spin tacked on CL | C853: 10 | D853: 169 | E853: 5.25 | F853: 158.95 | G853: 4.795 | H853: -4.707 | I853: 0.3 | J853: Asym Spin tacked on CL
... A1156: 10.0 46.6 13.90 29.83 5.466 3.759 6.0 1.0000 0.8946 1.6461 3 OPTUP | C1156: 10 | D1156: 46.6 | E1156: 13.9 | F1156: 29.83 | G1156: 5.466 | H1156: 3.759 | I1156: 6 | J1156: OPTUP
A1157: --------------------------------------------------------------------------------
A1158: VTW BTW VAW BAW V VMG PHI REEF FLAT CL iter | C1158: VTW | D1158: BTW | E1158: VAW | F1158: BAW | G1158: V | H1158: VMG | I1158: PHI | J1158: SAIL
A1159: --------------------------------------------------------------------------------
A1160: 12.0 180.0 6.39 180.00 5.457 -5.457 0.1 1.0000 1.0000 -0.0391 3 Asym Spin tacked on CL | C1160: 12 | D1160: 180 | E1160: 6.39 | F1160: 180 | G1160: 5.457 | H1160: -5.457 | I1160: 0.1 | J1160: Asym Spin tacked on CL
A1161: 12.0 179.0 6.39 178.14 5.461 -5.461 0.1 1.0000 1.0000 -0.0051 2 Asym Spin tacked on CL | C1161: 12 | D1161: 179 | E1161: 6.39 | F1161: 178.14 | G1161: 5.461 | H1161: -5.461 | I1161: 0.1 | J1161: Asym Spin tacked on CL
A1162: 12.0 178.0 6.39 176.29 5.467 -5.464 0.1 1.0000 1.0000 0.0290 2 Asym Spin tacked on CL | C1162: 12 | D1162: 178 | E1162: 6.39 | F1162: 176.29 | G1162: 5.467 | H1162: -5.464 | I1162: 0.1 | J1162: Asym Spin tacked on CL
A1163: 12.0 177.0 6.38 174.43 5.475 -5.468 0.2 1.0000 1.0000 0.0632 2 Asym Spin tacked on CL | C1163: 12 | D1163: 177 | E1163: 6.38 | F1163: 174.43 | G1163: 5.475 | H1163: -5.468 | I1163: 0.2 | J1163: Asym Spin tacked on CL
A1164: 12.0 176.0 6.39 172.56 5.485 -5.471 0.2 1.0000 1.0000 0.0977 2 Asym Spin tacked on CL | C1164: 12 | D1164: 176 | E1164: 6.39 | F1164: 172.56 | G1164: 5.485 | H1164: -5.471 | I1164: 0.2 | J1164: Asym Spin tacked on CL
A1165: 12.0 175.0 6.39 170.70 5.496 -5.475 0.2 1.0000 1.0000 0.1325 2 Asym Spin tacked on CL | C1165: 12 | D1165: 175 | E1165: 6.39 | F1165: 170.7 | G1165: 5.496 | H1165: -5.475 | I1165: 0.2 | J1165: Asym Spin tacked on CL
A1166: 12.0 174.0 6.39 168.83 5.509 -5.479 0.2 1.0000 1.0000 0.1675 2 Asym Spin tacked on CL | C1166: 12 | D1166: 174 | E1166: 6.39 | F1166: 168.83 | G1166: 5.509 | H1166: -5.479 | I1166: 0.2 | J1166: Asym Spin tacked on CL
A1167: 12.0 173.0 6.40 166.96 5.524 -5.483 0.3 1.0000 1.0000 0.2028 2 Asym Spin tacked on CL | C1167: 12 | D1167: 173 | E1167: 6.4 | F1167: 166.96 | G1167: 5.524 | H1167: -5.483 | I1167: 0.3 | J1167: Asym Spin tacked on CL
A1168: 12.0 172.0 6.41 165.09 5.540 -5.486 0.3 1.0000 1.0000 0.2386 2 Asym Spin tacked on CL | C1168: 12 | D1168: 172 | E1168: 6.41 | F1168: 165.09 | G1168: 5.54 | H1168: -5.486 | I1168: 0.3 | J1168: Asym Spin tacked on CL
A1169: 12.0 171.0 6.42 163.21 5.558 -5.490 0.3 1.0000 1.0000 0.2747 2 Asym Spin tacked on CL | C1169: 12 | D1169: 171 | E1169: 6.42 | F1169: 163.21 | G1169: 5.558 | H1169: -5.49 | I1169: 0.3 | J1169: Asym Spin tacked on CL
A1170: 12.0 170.0 6.43 161.33 5.578 -5.493 0.3 1.0000 1.0000 0.3112 2 Asym Spin tacked on CL | C1170: 12 | D1170: 170 | E1170: 6.43 | F1170: 161.33 | G1170: 5.578 | H1170: -5.493 | I1170: 0.3 | J1170: Asym Spin tacked on CL
A1171: 12.0 169.0 6.44 159.45 5.599 -5.496 0.4 1.0000 1.0000 0.3481 2 Asym Spin tacked on CL | C1171: 12 | D1171: 169 | E1171: 6.44 | F1171: 159.45 | G1171: 5.599 | H1171: -5.496 | I1171: 0.4 | J1171: Asym Spin tacked on CL
... A1475: 12.0 47.4 16.16 31.02 6.034 4.087 10.2 1.0000 0.8602 1.6078 3 OPTUP | C1475: 12 | D1475: 47.4 | E1475: 16.16 | F1475: 31.02 | G1475: 6.034 | H1475: 4.087 | I1475: 10.2 | J1475: OPTUP
A1476: --------------------------------------------------------------------------------
A1477: VTW BTW VAW BAW V VMG PHI REEF FLAT CL iter | C1477: VTW | D1477: BTW | E1477: VAW | F1477: BAW | G1477: V | H1477: VMG | I1477: PHI | J1477: SAIL
A1478: --------------------------------------------------------------------------------
A1479: 16.0 180.0 9.04 180.00 6.758 -6.758 0.2 1.0000 1.0000 -0.0391 4 Asym Spin tacked on CL | C1479: 16 | D1479: 180 | E1479: 9.04 | F1479: 180 | G1479: 6.758 | H1479: -6.758 | I1479: 0.2 | J1479: Asym Spin tacked on CL
A1480: 16.0 179.0 9.04 178.25 6.761 -6.760 0.2 1.0000 1.0000 -0.0071 2 Asym Spin tacked on CL | C1480: 16 | D1480: 179 | E1480: 9.04 | F1480: 178.25 | G1480: 6.761 | H1480: -6.76 | I1480: 0.2 | J1480: Asym Spin tacked on CL
A1481: 16.0 178.0 9.04 176.50 6.767 -6.762 0.2 1.0000 1.0000 0.0250 2 Asym Spin tacked on CL | C1481: 16 | D1481: 178 | E1481: 9.04 | F1481: 176.5 | G1481: 6.767 | H1481: -6.762 | I1481: 0.2 | J1481: Asym Spin tacked on CL
A1482: 16.0 177.0 9.04 174.75 6.773 -6.764 0.3 1.0000 1.0000 0.0573 2 Asym Spin tacked on CL | C1482: 16 | D1482: 177 | E1482: 9.04 | F1482: 174.75 | G1482: 6.773 | H1482: -6.764 | I1482: 0.3 | J1482: Asym Spin tacked on CL
A1483: 16.0 176.0 9.04 173.00 6.781 -6.765 0.3 1.0000 1.0000 0.0896 2 Asym Spin tacked on CL | C1483: 16 | D1483: 176 | E1483: 9.04 | F1483: 173 | G1483: 6.781 | H1483: -6.765 | I1483: 0.3 | J1483: Asym Spin tacked on CL
A1484: 16.0 175.0 9.05 171.25 6.791 -6.765 0.4 1.0000 1.0000 0.1222 2 Asym Spin tacked on CL | C1484: 16 | D1484: 175 | E1484: 9.05 | F1484: 171.25 | G1484: 6.791 | H1484: -6.765 | I1484: 0.4 | J1484: Asym Spin tacked on CL
A1485: 16.0 174.0 9.06 169.50 6.802 -6.764 0.4 1.0000 1.0000 0.1550 2 Asym Spin tacked on CL | C1485: 16 | D1485: 174 | E1485: 9.06 | F1485: 169.5 | G1485: 6.802 | H1485: -6.764 | I1485: 0.4 | J1485: Asym Spin tacked on CL
A1486: 16.0 173.0 9.07 167.75 6.814 -6.763 0.5 1.0000 1.0000 0.1880 2 Asym Spin tacked on CL | C1486: 16 | D1486: 173 | E1486: 9.07 | F1486: 167.75 | G1486: 6.814 | H1486: -6.763 | I1486: 0.5 | J1486: Asym Spin tacked on CL
A1487: 16.0 172.0 9.08 166.00 6.827 -6.761 0.5 1.0000 1.0000 0.2212 2 Asym Spin tacked on CL | C1487: 16 | D1487: 172 | E1487: 9.08 | F1487: 166 | G1487: 6.827 | H1487: -6.761 | I1487: 0.5 | J1487: Asym Spin tacked on CL
A1488: 16.0 171.0 9.10 164.25 6.842 -6.757 0.5 1.0000 1.0000 0.2547 2 Asym Spin tacked on CL | C1488: 16 | D1488: 171 | E1488: 9.1 | F1488: 164.25 | G1488: 6.842 | H1488: -6.757 | I1488: 0.5 | J1488: Asym Spin tacked on CL
A1489: 16.0 170.0 9.12 162.50 6.857 -6.753 0.6 1.0000 1.0000 0.2884 2 Asym Spin tacked on CL | C1489: 16 | D1489: 170 | E1489: 9.12 | F1489: 162.5 | G1489: 6.857 | H1489: -6.753 | I1489: 0.6 | J1489: Asym Spin tacked on CL
A1490: 16.0 169.0 9.14 160.75 6.874 -6.747 0.6 1.0000 1.0000 0.3225 2 Asym Spin tacked on CL | C1490: 16 | D1490: 169 | E1490: 9.14 | F1490: 160.75 | G1490: 6.874 | H1490: -6.747 | I1490: 0.6 | J1490: Asym Spin tacked on CL
... A1794: 16.0 45.1 20.32 31.19 6.472 4.571 14.6 1.0000 0.6920 1.3015 2 OPTUP | C1794: 16 | D1794: 45.1 | E1794: 20.32 | F1794: 31.19 | G1794: 6.472 | H1794: 4.571 | I1794: 14.6 | J1794: OPTUP
A1795: --------------------------------------------------------------------------------
A1796: VTW BTW VAW BAW V VMG PHI REEF FLAT CL iter | C1796: VTW | D1796: BTW | E1796: VAW | F1796: BAW | G1796: V | H1796: VMG | I1796: PHI | J1796: SAIL
A1797: --------------------------------------------------------------------------------
A1798: 20.0 180.0 12.26 180.00 7.486 -7.486 0.3 1.0000 1.0000 -0.0391 5 Asym Spin tacked on CL | C1798: 20 | D1798: 180 | E1798: 12.26 | F1798: 180 | G1798: 7.486 | H1798: -7.486 | I1798: 0.3 | J1798: Asym Spin tacked on CL
A1799: 20.0 179.0 12.26 178.39 7.488 -7.487 0.3 1.0000 1.0000 -0.0096 2 Asym Spin tacked on CL | C1799: 20 | D1799: 179 | E1799: 12.26 | F1799: 178.39 | G1799: 7.488 | H1799: -7.487 | I1799: 0.3 | J1799: Asym Spin tacked on CL
A1800: 20.0 178.0 12.26 176.78 7.492 -7.487 0.4 1.0000 1.0000 0.0200 2 Asym Spin tacked on CL | C1800: 20 | D1800: 178 | E1800: 12.26 | F1800: 176.78 | G1800: 7.492 | H1800: -7.487 | I1800: 0.4 | J1800: Asym Spin tacked on CL
A1801: 20.0 177.0 12.26 175.17 7.497 -7.486 0.5 1.0000 1.0000 0.0496 2 Asym Spin tacked on CL | C1801: 20 | D1801: 177 | E1801: 12.26 | F1801: 175.17 | G1801: 7.497 | H1801: -7.486 | I1801: 0.5 | J1801: Asym Spin tacked on CL
A1802: 20.0 176.0 12.27 173.55 7.502 -7.484 0.5 1.0000 1.0000 0.0794 2 Asym Spin tacked on CL | C1802: 20 | D1802: 176 | E1802: 12.27 | F1802: 173.55 | G1802: 7.502 | H1802: -7.484 | I1802: 0.5 | J1802: Asym Spin tacked on CL
...

Sheet Polar Table
A1: POLAR SUMMARY TABLES
A3: =MID(Polars!A5,1,30)&MID(Polars!A6,1,30) -> CERT. NO: 42449 YACHT: SHUANG HSI
A4: =MID(Polars!A7,1,30)&MID(Polars!A8,1,30) -> SAIL NO: USA-176 CLASS: TASHIBA 40
A6: ----------------------------------------------------------------------------
A7: VTW BTW VAW BAW V VMG PHI REEF FLAT Headsail
A8: ----------------------------------------------------------------------------
A10: 6.0 50.6 8.91 29.85 4.084 2.590 2.8 1.0000 1.0000 2 OPTUP
A12: 6.0 40.0 8.11 27.03 2.829 2.167 2.0 1.0000 0.7981 5 Jib
A13: 6.0 45.0 8.59 28.18 3.511 2.483 2.5 1.0000 0.9398 4 Jib
A14: 6.0 50.0 8.88 29.64 4.028 2.589 2.8 1.0000 1.0000 4 Jib
A15: 6.0 55.0 9.03 31.33 4.420 2.535 2.9 1.0000 1.0000 4 Jib
A16: 6.0 60.0 9.07 33.19 4.719 2.359 3.0 1.0000 1.0000 4 Jib
A17: 6.0 65.0 9.02 35.17 4.948 2.091 3.0 1.0000 1.0000 4 Jib
A18: 6.0 70.0 9.07 37.78 5.136 1.757 3.9 1.0000 1.0000 2 Asym Spin tacked on CL
A19: 6.0 75.0 8.96 39.61 5.362 1.388 4.0 1.0000 1.0000 2 Asym Spin tacked on CL
... A59: Portsmouth, RI USA
A61: =A1 -> POLAR SUMMARY TABLES
A63: =A3 -> CERT. NO: 42449 YACHT: SHUANG HSI
A64: =A4 -> SAIL NO: USA-176 CLASS: TASHIBA 40
A66: ----------------------------------------------------------------------------
A67: VTW BTW VAW BAW V VMG PHI REEF FLAT Headsail
A68: ----------------------------------------------------------------------------
A70: 8.0 49.6 11.59 30.10 5.058 3.280 4.4 1.0000 1.0000 2 OPTUP
A72: 8.0 40.0 10.77 27.14 3.722 2.852 3.0 1.0000 0.7885 5 Jib
A73: 8.0 45.0 11.30 28.55 4.512 3.190 3.8 1.0000 0.9225 4 Jib
A74: 8.0 50.0 11.61 30.25 5.101 3.279 4.4 1.0000 1.0000 4 Jib
A75: 8.0 55.0 11.70 32.31 5.491 3.149 4.6 1.0000 1.0000 4 Jib
A76: 8.0 60.0 11.65 34.59 5.752 2.876 4.6 1.0000 1.0000 3 Jib
A77: 8.0 65.0 11.52 36.93 5.962 2.520 4.6 1.0000 1.0000 4 Jib
A78: 8.0 70.0 11.59 39.40 6.220 2.127 8.6 1.0000 1.0000 2 Asym Spin tacked on CL
A79: 8.0 75.0 11.40 41.59 6.444 1.668 8.5 1.0000 1.0000 2 Asym Spin tacked on CL
... A118: Portsmouth, RI USA
A121: =A61 -> POLAR SUMMARY TABLES
A123: =A63 -> CERT. NO: 42449 YACHT: SHUANG HSI
A124: =A64 -> SAIL NO: USA-176 CLASS: TASHIBA 40
A126: ----------------------------------------------------------------------------
A127: VTW BTW VAW BAW V VMG PHI REEF FLAT Headsail
A128: ----------------------------------------------------------------------------
A130: 10.0 46.6 13.90 29.83 5.466 3.759 6.0 1.0000 0.8946 3 OPTUP
A132: 10.0 40.0 13.29 27.49 4.459 3.416 4.2 1.0000 0.7655 4 Jib
A133: 10.0 45.0 13.82 29.17 5.292 3.742 5.6 1.0000 0.8774 4 Jib
A134: 10.0 50.0 13.99 31.33 5.779 3.715 7.5 1.0000 0.9570 4 Jib
A135: 10.0 55.0 14.05 33.52 6.194 3.553 8.7 1.0000 1.0000 4 Jib
A136: 10.0 60.0 13.98 35.94 6.499 3.250 8.8 1.0000 1.0000 4 Jib
A137: 10.0 65.0 13.79 38.58 6.695 2.829 8.6 1.0000 1.0000 4 Jib
A138: 10.0 70.0 13.78 40.77 6.899 2.360 16.4 1.0000 1.0000 2 Asym Spin tacked on CL
A139: 10.0 75.0 13.48 43.64 7.046 1.824 15.4 1.0000 1.0000 2 Asym Spin tacked on CL
... A178: Portsmouth, RI USA
A181: =A121 -> POLAR SUMMARY TABLES
A183: =A123 -> CERT. NO: 42449 YACHT: SHUANG HSI
A184: =A124 -> SAIL NO: USA-176 CLASS: TASHIBA 40
A186: ----------------------------------------------------------------------------
A187: VTW BTW VAW BAW V VMG PHI REEF FLAT Headsail
A188: ----------------------------------------------------------------------------
A190: 12.0 47.4 16.16 31.02 6.034 4.087 10.2 1.0000 0.8602 3 OPTUP
A192: 12.0 40.0 15.68 27.93 5.052 3.870 5.7 1.0000 0.7177 5 Jib
A193: 12.0 45.0 16.06 30.01 5.764 4.076 8.8 1.0000 0.8160 4 Jib
A194: 12.0 50.0 16.24 32.13 6.314 4.059 11.7 1.0000 0.9050 4 Jib
A195: 12.0 55.0 16.22 34.49 6.688 3.836 13.6 1.0000 0.9646 4 Jib
A196: 12.0 60.0 16.04 37.18 6.919 3.459 14.5 1.0000 1.0000 4 Jib
A197: 12.0 65.0 15.77 40.18 7.074 2.989 14.0 1.0000 1.0000 3 Jib
A198: 12.0 70.0 15.72 42.74 7.215 2.468 19.8 1.0000 0.8862 2 Asym Spin tacked on CL
A199: 12.0 75.0 15.35 45.69 7.347 1.902 20.2 1.0000 0.9378 2 Asym Spin tacked on CL
... A238: Portsmouth, RI USA
A241: =A181 -> POLAR SUMMARY TABLES
A243: =A183 -> CERT. NO: 42449 YACHT: SHUANG HSI
A244: =A184 -> SAIL NO: USA-176 CLASS: TASHIBA 40
A246: ----------------------------------------------------------------------------
A247: VTW BTW VAW BAW V VMG PHI REEF FLAT Headsail
A248: ----------------------------------------------------------------------------
A250: 16.0 45.1 20.32 31.19 6.472 4.571 14.6 1.0000 0.6920 2 OPTUP
A252: 16.0 40.0 19.96 29.01 5.688 4.357 10.8 1.0000 0.6192 4 Jib
A253: 16.0 45.0 20.32 31.16 6.465 4.571 14.6 1.0000 0.6914 5 Jib
A254: 16.0 50.0 20.31 33.83 6.871 4.417 16.8 1.0000 0.7321 4 Jib
A255: 16.0 55.0 20.11 36.76 7.111 4.079 18.2 1.0000 0.7669 4 Jib
A256: 16.0 60.0 19.83 39.83 7.288 3.644 19.2 1.0000 0.8028 4 Jib
A257: 16.0 65.0 19.48 43.02 7.431 3.140 20.0 1.0000 0.8444 4 Jib
A258: 16.0 70.0 19.08 46.37 7.552 2.583 20.3 1.0000 0.8896 4 Jib
A259: 16.0 75.0 19.06 50.17 7.666 1.984 21.5 1.0000 0.6953 2 Asym Spin tacked on CL
... A298: Portsmouth, RI USA
A301: =A241 -> POLAR SUMMARY TABLES
A303: =A243 -> CERT. NO: 42449 YACHT: SHUANG HSI
A304: =A244 -> SAIL NO: USA-176 CLASS: TASHIBA 40
A306: ----------------------------------------------------------------------------
A307: VTW BTW VAW BAW V VMG PHI REEF FLAT Headsail
A308: ----------------------------------------------------------------------------
A310: 20.0 43.8 24.20 31.73 6.607 4.770 17.1 1.0000 0.5460 2 OPTUP
A312: 20.0 40.0 23.93 29.98 5.977 4.579 14.3 1.0000 0.5118 5 Jib
A313: 20.0 45.0 24.21 32.41 6.727 4.757 17.7 1.0000 0.5534 4 Jib
A314: 20.0 50.0 24.09 35.44 7.059 4.538 19.5 1.0000 0.5792 4 Jib
A315: 20.0 55.0 23.85 38.72 7.278 4.174 20.4 1.0000 0.5988 4 Jib
A316: 20.0 60.0 23.52 42.18 7.447 3.724 20.8 1.0000 0.6195 4 Jib
A317: 20.0 65.0 23.14 45.75 7.590 3.208 21.1 1.0000 0.6492 4 Jib
A318: 20.0 70.0 22.70 49.43 7.716 2.639 21.3 1.0000 0.6911 4 Jib
A319: 20.0 75.0 22.22 53.21 7.828 2.026 21.4 1.0000 0.7483 4 Jib
... A358: Portsmouth, RI USA
A361: =A301 -> POLAR SUMMARY TABLES
A363: =A303 -> CERT. NO: 42449 YACHT: SHUANG HSI
A364: =A304 -> SAIL NO: USA-176 CLASS: TASHIBA 40
A366: ----------------------------------------------------------------------------
...

Sheet Polar Table MH
A1: POLAR SUMMARY TABLES
A3: =MID(Polars!A5,1,30)&MID(Polars!A6,1,30) -> CERT. NO: 42449 YACHT: SHUANG HSI
A4: =MID(Polars!A7,1,30)&MID(Polars!A8,1,30) -> SAIL NO: USA-176 CLASS: TASHIBA 40
A6: ----------------------------------------------------------------------------
A7: VTW BTW VAW BAW V VMG PHI REEF FLAT Headsail
A8: ----------------------------------------------------------------------------
A10: 6.3 50.6 9.47 31.11 4.084 2.590 2.8 1.0000 1.0000 2 OPTUP
A12: 6.3 40.0 8.70 27.92 2.829 2.167 2.0 1.0000 0.7981 5 Jib
A13: 6.3 45.0 9.16 29.26 3.511 2.483 2.5 1.0000 0.9398 4 Jib
A14: 6.3 50.0 9.44 30.90 4.028 2.589 2.8 1.0000 1.0000 4 Jib
A15: 6.3 55.0 9.58 32.77 4.420 2.535 2.9 1.0000 1.0000 4 Jib
A16: 6.3 60.0 9.61 34.79 4.719 2.359 3.0 1.0000 1.0000 4 Jib
A17: 6.3 65.0 9.54 36.95 4.948 2.091 3.0 1.0000 1.0000 4 Jib
A18: 6.3 70.0 9.42 39.13 5.136 1.757 3.9 1.0000 1.0000 2 Asym Spin tacked on CL
A19: 6.3 75.0 9.29 41.09 5.362 1.388 4.0 1.0000 1.0000 2 Asym Spin tacked on CL
... A59: Portsmouth, RI USA
A61: =A1 -> POLAR SUMMARY TABLES
A63: =A3 -> CERT. NO: 42449 YACHT: SHUANG HSI
A64: =A4 -> SAIL NO: USA-176 CLASS: TASHIBA 40
A66: ----------------------------------------------------------------------------
A67: VTW BTW VAW BAW V VMG PHI REEF FLAT Headsail
A68: ----------------------------------------------------------------------------
A70: 8.5 49.6 12.33 31.34 5.058 3.280 4.4 1.0000 1.0000 2 OPTUP
A72: 8.5 40.0 11.55 28.01 3.722 2.852 3.0 1.0000 0.7885 5 Jib
A73: 8.5 45.0 12.06 29.62 4.512 3.190 3.8 1.0000 0.9225 4 Jib
A74: 8.5 50.0 12.35 31.50 5.101 3.279 4.4 1.0000 1.0000 4 Jib
A75: 8.5 55.0 12.43 33.72 5.491 3.149 4.6 1.0000 1.0000 4 Jib
A76: 8.5 60.0 12.36 36.17 5.752 2.876 4.6 1.0000 1.0000 3 Jib
A77: 8.5 65.0 12.21 38.69 5.962 2.520 4.6 1.0000 1.0000 4 Jib
A78: 8.5 70.0 12.03 40.76 6.220 2.127 8.6 1.0000 1.0000 2 Asym Spin tacked on CL
A79: 8.5 75.0 11.82 43.09 6.444 1.668 8.5 1.0000 1.0000 2 Asym Spin tacked on CL
... A118: Portsmouth, RI USA
A121: =A61 -> POLAR SUMMARY TABLES
A123: =A63 -> CERT. NO: 42449 YACHT: SHUANG HSI
A124: =A64 -> SAIL NO: USA-176 CLASS: TASHIBA 40
A126: ----------------------------------------------------------------------------
A127: VTW BTW VAW BAW V VMG PHI REEF FLAT Headsail
A128: ----------------------------------------------------------------------------
A130: 10.6 46.6 14.84 30.96 5.466 3.759 6.0 1.0000 0.8946 3 OPTUP
A132: 10.6 40.0 14.26 28.35 4.459 3.416 4.2 1.0000 0.7655 4 Jib
A133: 10.6 45.0 14.77 30.22 5.292 3.742 5.6 1.0000 0.8774 4 Jib
A134: 10.6 50.0 14.91 32.55 5.779 3.715 7.5 1.0000 0.9570 4 Jib
A135: 10.6 55.0 14.94 34.92 6.194 3.553 8.7 1.0000 1.0000 4 Jib
A136: 10.6 60.0 14.85 37.50 6.499 3.250 8.8 1.0000 1.0000 4 Jib
A137: 10.6 65.0 14.63 40.31 6.695 2.829 8.6 1.0000 1.0000 4 Jib
A138: 10.6 70.0 14.18 42.17 6.899 2.360 16.4 1.0000 1.0000 2 Asym Spin tacked on CL
A139: 10.6 75.0 13.87 45.17 7.046 1.824 15.4 1.0000 1.0000 2 Asym Spin tacked on CL
... A178: Portsmouth, RI USA
A181: =A121 -> POLAR SUMMARY TABLES
A183: =A123 -> CERT. NO: 42449 YACHT: SHUANG HSI
A184: =A124 -> SAIL NO: USA-176 CLASS: TASHIBA 40
A186: ----------------------------------------------------------------------------
A187: VTW BTW VAW BAW V VMG PHI REEF FLAT Headsail
A188: ----------------------------------------------------------------------------
A190: 12.7 47.4 17.26 32.14 6.034 4.087 10.2 1.0000 0.8602 3 OPTUP
A192: 12.7 40.0 16.84 28.78 5.052 3.870 5.7 1.0000 0.7177 5 Jib
A193: 12.7 45.0 17.19 31.02 5.764 4.076 8.8 1.0000 0.8160 4 Jib
A194: 12.7 50.0 17.31 33.32 6.314 4.059 11.7 1.0000 0.9050 4 Jib
A195: 12.7 55.0 17.22 35.87 6.688 3.836 13.6 1.0000 0.9646 4 Jib
A196: 12.7 60.0 16.99 38.72 6.919 3.459 14.5 1.0000 1.0000 4 Jib
A197: 12.7 65.0 16.70 41.88 7.074 2.989 14.0 1.0000 1.0000 3 Jib
A198: 12.7 70.0 16.09 44.14 7.215 2.468 19.8 1.0000 0.8862 2 Asym Spin tacked on CL
A199: 12.7 75.0 15.65 47.23 7.347 1.902 20.2 1.0000 0.9378 2 Asym Spin tacked on CL
... A238: Portsmouth, RI USA
A241: =A181 -> POLAR SUMMARY TABLES
A243: =A183 -> CERT. NO: 42449 YACHT: SHUANG HSI
A244: =A184 -> SAIL NO: USA-176 CLASS: TASHIBA 40
A246: ----------------------------------------------------------------------------
A247: VTW BTW VAW BAW V VMG PHI REEF FLAT Headsail
A248: ----------------------------------------------------------------------------
A250: 16.9 45.1 21.74 32.19 6.472 4.571 14.6 1.0000 0.6920 2 OPTUP
A252: 16.9 40.0 21.47 29.80 5.688 4.357 10.8 1.0000 0.6192 4 Jib
A253: 16.9 45.0 21.75 32.13 6.465 4.571 14.6 1.0000 0.6914 5 Jib
A254: 16.9 50.0 21.64 34.95 6.871 4.417 16.8 1.0000 0.7321 4 Jib
A255: 16.9 55.0 21.34 38.05 7.111 4.079 18.2 1.0000 0.7669 4 Jib
A256: 16.9 60.0 20.95 41.29 7.288 3.644 19.2 1.0000 0.8028 4 Jib
A257: 16.9 65.0 20.48 44.64 7.431 3.140 20.0 1.0000 0.8444 4 Jib
A258: 16.9 70.0 19.99 48.17 7.552 2.583 20.3 1.0000 0.8896 4 Jib
A259: 16.9 75.0 19.38 51.60 7.666 1.984 21.5 1.0000 0.6953 2 Asym Spin tacked on CL
... A298: Portsmouth, RI USA
A301: =A241 -> POLAR SUMMARY TABLES
A303: =A243 -> CERT. NO: 42449 YACHT: SHUANG HSI
A304: =A244 -> SAIL NO: USA-176 CLASS: TASHIBA 40
A306: ----------------------------------------------------------------------------
A307: VTW BTW VAW BAW V VMG PHI REEF FLAT Headsail
A308: ----------------------------------------------------------------------------
A310: 21.1 43.8 25.94 32.60 6.607 4.770 17.1 1.0000 0.5460 2 OPTUP
A312: 21.1 40.0 25.77 30.70 5.977 4.579 14.3 1.0000 0.5118 5 Jib
A313: 21.1 45.0 25.92 33.30 6.727 4.757 17.7 1.0000 0.5534 4 Jib
A314: 21.1 50.0 25.66 36.47 7.059 4.538 19.5 1.0000 0.5792 4 Jib
A315: 21.1 55.0 25.28 39.91 7.278 4.174 20.4 1.0000 0.5988 4 Jib
A316: 21.1 60.0 24.84 43.52 7.447 3.724 20.8 1.0000 0.6195 4 Jib
A317: 21.1 65.0 24.33 47.24 7.590 3.208 21.1 1.0000 0.6492 4 Jib
A318: 21.1 70.0 23.78 51.07 7.716 2.639 21.3 1.0000 0.6911 4 Jib
A319: 21.1 75.0 23.19 55.02 7.828 2.026 21.4 1.0000 0.7483 4 Jib
... A358: Portsmouth, RI USA
A361: =A301 -> POLAR SUMMARY TABLES
A363: =A303 -> CERT. NO: 42449 YACHT: SHUANG HSI
A364: =A304 -> SAIL NO: USA-176 CLASS: TASHIBA 40
A366: ----------------------------------------------------------------------------
...

Sheet WL Targets
B1: VPP HandyGuide | H1: VPP HandyGuide
A4: ='Graphics Grid'!A1&" Targets" -> SHUANG HSI Targets | G4: =A4 -> SHUANG HSI Targets
A6: True Wind Speed | C6: UPWIND VMG | E6: True Wind Angle | G6: True Wind Speed | I6: UPWIND VMG | K6: True Wind Angle
B7: Boat Speed | C7: App Wind Speed | D7: App Wind Angle | H7: Boat Speed | I7: App Wind Speed | J7: App Wind Angle
A8: (kts) | B8: (kts) | C8: (kts) | D8: (deg) | E8: (deg) | G8: (kts) | H8: (kts) | I8: (kts) | J8: (deg) | K8: (deg)
A9: 6.3376915 | B9: 4.084 | C9: 9.4681458 | D9: 31.106272 | E9: 50.6 | G9: =A9 -> 6.3376915 | H9: =B9 -> 4.084 | I9: =C9 -> 9.4681458 | J9: =D9 -> 31.106272 | K9: =E9 -> 50.6
A10: 8.4502554 | B10: 5.058 | C10: 12.334891 | D10: 31.343584 | E10: 49.6 | G10: =A10 -> 8.4502554 | H10: =B10 -> 5.058 | I10: =C10 -> 12.334891 | J10: =D10 -> 31.343584 | K10: =E10 -> 49.6
A11: 10.562819 | B11: 5.466 | C11: 14.837339 | D11: 30.958742 | E11: 46.6 | G11: =A11 -> 10.562819 | H11: =B11 -> 5.466 | I11: =C11 -> 14.837339 | J11: =D11 -> 30.958742 | K11: =E11 -> 46.6
A12: 12.675383 | B12: 6.034 | C12: 17.259314 | D12: 32.144207 | E12: 47.4 | G12: =A12 -> 12.675383 | H12: =B12 -> 6.034 | I12: =C12 -> 17.259314 | J12: =D12 -> 32.144207 | K12: =E12 -> 47.4
A13: 16.900511 | B13: 6.472 | C13: 21.744534 | D13: 32.192513 | E13: 45.1 | G13: =A13 -> 16.900511 | H13: =B13 -> 6.472 | I13: =C13 -> 21.744534 | J13: =D13 -> 32.192513 | K13: =E13 -> 45.1
A14: 21.125638 | B14: 6.607 | C14: 25.941129 | D14: 32.598036 | E14: 43.8 | G14: =A14 -> 21.125638 | H14: =B14 -> 6.607 | I14: =C14 -> 25.941129 | J14: =D14 -> 32.598036 | K14: =E14 -> 43.8
A15: 25.350766 | B15: 6.652 | C15: 29.94965 | D15: 33.799584 | E15: 44 | G15: =A15 -> 25.350766 | H15: =B15 -> 6.652 | I15: =C15 -> 29.94965 | J15: =D15 -> 33.799584 | K15: =E15 -> 44
A17: True Wind Speed | C17: DOWNWIND VMG | E17: True Wind Angle | G17: True Wind Speed | I17: DOWNWIND VMG | K17: True Wind Angle
B18: Boat Speed | C18: App Wind Speed | D18: App Wind Angle | H18: Boat Speed | I18: App Wind Speed | J18: App Wind Angle
A19: (kts) | B19: (kts) | C19: (kts) | D19: (deg) | E19: (deg) | G19: (kts) | H19: (kts) | I19: (kts) | J19: (deg) | K19: (deg)
A20: 6.3376915 | B20: 3.828 | C20: 4.0338827 | D20: 107.40684 | E20: 142.6 | G20: =A20 -> 6.3376915 | H20: =B20 -> 3.828 | I20: =C20 -> 4.0338827 | J20: =D20 -> 107.40684 | K20: =E20 -> 142.6
A21: 8.4502554 | B21: 4.744 | C21: 5.171387 | D21: 116.84066 | E21: 146.9 | G21: =A21 -> 8.4502554 | H21: =B21 -> 4.744 | I21: =C21 -> 5.171387 | J21: =D21 -> 116.84066 | K21: =E21 -> 146.9
A22: 10.562819 | B22: 5.365 | C22: 6.23169 | D22: 131.09613 | E22: 153.6 | G22: =A22 -> 10.562819 | H22: =B22 -> 5.365 | I22: =C22 -> 6.23169 | J22: =D22 -> 131.09613 | K22: =E22 -> 153.6
A23: 12.675383 | B23: 5.895 | C23: 7.46394 | D23: 142.9147 | E23: 159.2 | G23: =A23 -> 12.675383 | H23: =B23 -> 5.895 | I23: =C23 -> 7.46394 | J23: =D23 -> 142.9147 | K23: =E23 -> 159.2
A24: 16.900511 | B24: 6.788 | C24: 10.152214 | D24: 171.99289 | E24: 175.2 | G24: =A24 -> 16.900511 | H24: =B24 -> 6.788 | I24: =C24 -> 10.152214 | J24: =D24 -> 171.99289 | K24: =E24 -> 175.2
A25: 21.125638 | B25: 7.491 | C25: 13.639745 | D25: 177.36652 | E25: 178.3 | G25: =A25 -> 21.125638 | H25: =B25 -> 7.491 | I25: =C25 -> 13.639745 | J25: =D25 -> 177.36652 | K25: =E25 -> 178.3
A26: 25.350766 | B26: 8.008 | C26: 17.345778 | D26: 178.09995 | E26: 178.7 | G26: =A26 -> 25.350766 | H26: =B26 -> 8.008 | I26: =C26 -> 17.345778 | J26: =D26 -> 178.09995 | K26: =E26 -> 178.7

Sheet Summary
A1: ORR 2015 | B1: =$A$1&" TRUE WIND POLAR DIAGRAM; "&C3 -> ORR 2015 TRUE WIND POLAR DIAGRAM; VTW: 6.3 | L1: =$A$1&" TRUE WIND POLAR DIAGRAM; "&M3 -> ORR 2015 TRUE WIND POLAR DIAGRAM; VTW: 8.5 | V1: =$A$1&" TRUE WIND POLAR DIAGRAM; "&W3 -> ORR 2015 TRUE WIND POLAR DIAGRAM; VTW: 10.6 | AF1: =$A$1&" TRUE WIND POLAR DIAGRAM; "&AG3 -> ORR 2015 TRUE WIND POLAR DIAGRAM; VTW: 12.7 | AP1: =$A$1&" TRUE WIND POLAR DIAGRAM; "&AQ3 -> ORR 2015 TRUE WIND POLAR DIAGRAM; VTW: 16.9 | AZ1: =$A$1&" TRUE WIND POLAR DIAGRAM; "&BA3 -> ORR 2015 TRUE WIND POLAR DIAGRAM; VTW: 21.1 | BJ1: =$A$1&" TRUE WIND POLAR DIAGRAM; "&BK3 -> ORR 2015 TRUE WIND POLAR DIAGRAM; VTW: 25.4 | BT1: =$A$1&" TRUE WIND POLAR DIAGRAM" -> ORR 2015 TRUE WIND POLAR DIAGRAM
B2: Sail1 | C2: Jib | D2: Sail2 | E2: Symm | F2: Sail3 | G2: Asym | H2: Sail4 | I2: CL Asy | J2: Sail5 | K2: Poled Jib | L2: Sail1 | M2: Jib | N2: Sail2 | O2: Symm | P2: Sail3 | Q2: Asym | R2: Sail4 | S2: CL Asy | T2: Sail5 | U2: Poled Jib | V2: Sail1 | W2: Jib | X2: Sail2 | Y2: Symm | Z2: Sail3 | AA2: Asym | AB2: Sail4 | AC2: CL Asy | AD2: Sail5 | AE2: Poled Jib | AF2: Sail1 | AG2: Jib | AH2: Sail2 | AI2: Symm | AJ2: Sail3 | AK2: Asym | AL2: Sail4 | AM2: CL Asy | AN2: Sail5 | AO2: Poled Jib | AP2: Sail1 | AQ2: Jib | AR2: Sail2 | AS2: Symm | AT2: Sail3 | AU2: Asym | AV2: Sail4 | AW2: CL Asy | AX2: Sail5 | AY2: Poled Jib | AZ2: Sail1 | BA2: Jib | BB2: Sail2 | BC2: Symm | BD2: Sail3 | BE2: Asym | BF2: Sail4 | BG2: CL Asy | BH2: Sail5 | BI2: Poled Jib | BJ2: Sail1 | BK2: Jib | BL2: Sail2 | BM2: Symm | BN2: Sail3 | BO2: Asym | BP2: Sail4 | BQ2: CL Asy | BR2: Sail5 | BS2: Poled Jib
B3: 6.3376913 | C3: ="VTW: "&TEXT(B3,"#0.0") -> VTW: 6.3 | L3: 8.4502554 | M3: ="VTW: "&TEXT(L3,"#0.0") -> VTW: 8.5 | V3: 10.562819 | W3: ="VTW: "&TEXT(V3,"#0.0") -> VTW: 10.6 | AF3: 12.675383 | AG3: ="VTW: "&TEXT(AF3,"#0.0") -> VTW: 12.7 | AP3: 16.900511 | AQ3: ="VTW: "&TEXT(AP3,"#0.0") -> VTW: 16.9 | AZ3: 21.125639 | BA3: ="VTW: "&TEXT(AZ3,"#0.0") -> VTW: 21.1 | BJ3: 25.350765 | BK3: ="VTW: "&TEXT(BJ3,"#0.0") -> VTW: 25.4
B4: BTW | C4: V | D4: BTW | E4: V | F4: BTW | G4: V | H4: BTW | I4: V | J4: BTW | K4: V | L4: BTW | M4: V | N4: BTW | O4: V | P4: BTW | Q4: V | R4: BTW | S4: V | T4: BTW | U4: V | V4: BTW | W4: V | X4: BTW | Y4: V | Z4: BTW | AA4: V | AB4: BTW | AC4: V | AD4: BTW | AE4: V | AF4: BTW | AG4: V | AH4: BTW | AI4: V | AJ4: BTW | AK4: V | AL4: BTW | AM4: V | AN4: BTW | AO4: V | AP4: BTW | AQ4: V | AR4: BTW | AS4: V | AT4: BTW | AU4: V | AV4: BTW | AW4: V | AX4: BTW | AY4: V | AZ4: BTW | BA4: V | BB4: BTW | BC4: V | BD4: BTW | BE4: V | BF4: BTW | BG4: V | BH4: BTW | BI4: V | BJ4: BTW | BK4: V | BL4: BTW | BM4: V | BN4: BTW | BO4: V | BP4: BTW | BQ4: V | BR4: BTW | BS4: V | BZ4: FASTEST SOLUTIONS
A5: 1 | B5: 180 | C5: 2.598 | H5: 180 | I5: 2.8069999 | L5: 180 | M5: 3.4879999 | R5: 180 | S5: 3.7520001 | V5: 180 | W5: 4.3319998 | AB5: 180 | AC5: 4.645 | AF5: 180 | AG5: 5.125 | AL5: 180 | AM5: 5.4569998 | AP5: 180 | AQ5: 6.4260001 | AV5: 180 | AW5: 6.7579999 | AZ5: 180 | BA5: 7.2459998 | BF5: 180 | BG5: 7.4860001 | BJ5: 180 | BK5: 7.7690001 | BP5: 180 | BQ5: 8.0050001
A6: =A5+1 -> 2 | B6: 179 | C6: 2.6059999 | H6: 179 | I6: 2.8099999 | L6: 179 | M6: 3.4979999 | R6: 179 | S6: 3.7550001 | V6: 179 | W6: 4.3439999 | AB6: 179 | AC6: 4.6490002 | AF6: 179 | AG6: 5.1389999 | AL6: 179 | AM6: 5.461 | AP6: 179 | AQ6: 6.4390001 | AV6: 179 | AW6: 6.7610002 | AZ6: 179 | BA6: 7.2550001 | BF6: 179 | BG6: 7.4879999 | BJ6: 179 | BK6: 7.777 | BP6: 179 | BQ6: 8.007
A7: =A6+1 -> 3 | B7: 178 | C7: 2.6140001 | H7: 178 | I7: 2.8139999 | L7: 178 | M7: 3.5090001 | R7: 178 | S7: 3.76 | V7: 178 | W7: 4.3559999 | AB7: 178 | AC7: 4.6550002 | AF7: 178 | AG7: 5.152 | AL7: 178 | AM7: 5.467 | AP7: 178 | AQ7: 6.4530001 | AV7: 178 | AW7: 6.7670002 | AZ7: 178 | BA7: 7.263 | BF7: 178.3 | BG7: 7.4910002 | BJ7: 178 | BK7: 7.7849998 | BP7: 178.7 | BQ7: 8.0080004
A8: =A7+1 -> 4 | B8: 177 | C8: 2.6229999 | H8: 177 | I8: 2.8199999 | L8: 177 | M8: 3.52 | R8: 177 | S8: 3.767 | V8: 177 | W8: 4.3699999 | AB8: 177 | AC8: 4.6630001 | AF8: 177 | AG8: 5.1669998 | AL8: 177 | AM8: 5.4749999 | AP8: 177 | AQ8: 6.467 | AV8: 177 | AW8: 6.7729998 | AZ8: 177 | BA8: 7.2719998 | BF8: 178 | BG8: 7.4920001 | BJ8: 177 | BK8: 7.7930002 | BP8: 178 | BQ8: 8.0109997
A9: =A8+1 -> 5 | B9: 176 | C9: 2.632 | H9: 176 | I9: 2.8269999 | L9: 176 | M9: 3.5309999 | R9: 176 | S9: 3.776 | V9: 176 | W9: 4.3829999 | AB9: 176 | AC9: 4.6729999 | AF9: 176 | AG9: 5.1810002 | AL9: 176 | AM9: 5.4850001 | AP9: 176 | AQ9: 6.4819999 | AV9: 176 | AW9: 6.7810001 | AZ9: 176 | BA9: 7.2820001 | BF9: 177 | BG9: 7.4970002 | BJ9: 176.5 | BK9: 7.7969999 | BP9: 177 | BQ9: 8.0150003
A10: =A9+1 -> 6 | B10: 175 | C10: 2.641 | H10: 175 | I10: 2.835 | L10: 175 | M10: 3.543 | R10: 175 | S10: 3.786 | V10: 175 | W10: 4.3969998 | AB10: 175 | AC10: 4.6849999 | AF10: 175 | AG10: 5.1960001 | AL10: 175 | AM10: 5.4959998 | AP10: 175 | AQ10: 6.4970002 | AV10: 175.2 | AW10: 6.7880001 | AZ10: 175.8 | BA10: 7.2839999 | BF10: 176 | BG10: 7.5019999 | BJ10: 176 | BK10: 7.8010001 | BP10: 176 | BQ10: 8.0200005
A11: =A10+1 -> 7 | B11: 174 | C11: 2.651 | H11: 174 | I11: 2.8440001 | L11: 174 | M11: 3.5550001 | R11: 174 | S11: 3.7980001 | V11: 174 | W11: 4.4120002 | AB11: 174 | AC11: 4.6989999 | AF11: 174 | AG11: 5.2119999 | AL11: 174 | AM11: 5.5089998 | AP11: 174 | AQ11: 6.5120001 | AV11: 175 | AW11: 6.7909999 | AZ11: 175 | BA11: 7.2909999 | BF11: 175 | BG11: 7.5089998 | BJ11: 175 | BK11: 7.8099999 | BP11: 175 | BQ11: 8.026
A12: =A11+1 -> 8 | B12: 173 | C12: 2.661 | H12: 173 | I12: 2.855 | L12: 173 | M12: 3.5680001 | R12: 173 | S12: 3.8110001 | V12: 173 | W12: 4.4260001 | AB12: 173 | AC12: 4.7140002 | AF12: 173 | AG12: 5.2280002 | AL12: 173 | AM12: 5.5240002 | AP12: 173 | AQ12: 6.527 | AV12: 174 | AW12: 6.802 | AZ12: 174 | BA12: 7.3010001 | BF12: 174 | BG12: 7.5159998 | BJ12: 174 | BK12: 7.8179998 | BP12: 174 | BQ12: 8.0319996
A13: =A12+1 -> 9 | B13: 172 | C13: 2.671 | H13: 172 | I13: 2.8670001 | L13: 172 | M13: 3.5810001 | R13: 172 | S13: 3.826 | V13: 172 | W13: 4.441 | AB13: 172 | AC13: 4.7319999 | AF13: 172 | AG13: 5.243 | AL13: 172 | AM13: 5.54 | AP13: 172.5 | AQ13: 6.5349998 | AV13: 173 | AW13: 6.8140001 | AZ13: 173 | BA13: 7.3099999 | BF13: 173 | BG13: 7.5240002 | BJ13: 173 | BK13: 7.8270001 | BP13: 173 | BQ13: 8.0389996
A14: =A13+1 -> 10 | B14: 171 | C14: 2.681 | H14: 171 | I14: 2.8800001 | L14: 171 | M14: 3.5929999 | R14: 171 | S14: 3.8429999 | V14: 171 | W14: 4.4569998 | AB14: 171 | AC14: 4.7509999 | AF14: 171 | AG14: 5.2589998 | AL14: 171 | AM14: 5.5580001 | AP14: 172 | AQ14: 6.5419998 | AV14: 172 | AW14: 6.8270001 | AZ14: 172 | BA14: 7.3200002 | BF14: 172 | BG14: 7.533 | BJ14: 172 | BK14: 7.835 | BP14: 172 | BQ14: 8.0469999
A15: =A14+1 -> 11 | B15: 170 | C15: 2.6919999 | H15: 170 | I15: 2.8940001 | L15: 170 | M15: 3.6070001 | R15: 170 | S15: 3.8610001 | V15: 170 | W15: 4.4720001 | AB15: 170 | AC15: 4.7719998 | AF15: 170 | AG15: 5.276 | AL15: 170 | AM15: 5.5780001 | AP15: 171 | AQ15: 6.5570002 | AV15: 171 | AW15: 6.842 | AZ15: 171 | BA15: 7.329 | BF15: 171 | BG15: 7.5430002 | BJ15: 171 | BK15: 7.8429999 | BP15: 171 | BQ15: 8.0559998
A16: =A15+1 -> 12 | B16: 169 | C16: 2.7019999 | H16: 169 | I16: 2.9100001 | L16: 169 | M16: 3.6199999 | R16: 169 | S16: 3.881 | V16: 169 | W16: 4.4879999 | AB16: 169 | AC16: 4.7950001 | AF16: 170 | AG16: 5.2750001 | AL16: 169 | AM16: 5.599 | AP16: 170 | AQ16: 6.572 | AV16: 170 | AW16: 6.8569999 | AZ16: 170 | BA16: 7.3390002 | BF16: 170 | BG16: 7.5539999 | BJ16: 170 | BK16: 7.8520002 | BP16: 170 | BQ16: 8.066
A17: =A16+1 -> 13 | B17: 168 | C17: 2.7130001 | H17: 168 | I17: 2.927 | L17: 168 | M17: 3.6329999 | R17: 168 | S17: 3.902 | V17: 168.7 | W17: 4.493 | AB17: 168 | AC17: 4.8200002 | AF17: 169 | AG17: 5.2919998 | AL17: 168 | AM17: 5.6220002 | AP17: 169 | AQ17: 6.5869999 | AV17: 169 | AW17: 6.8740001 | AZ17: 169 | BA17: 7.348 | BF17: 169 | BG17: 7.5650001 | BJ17: 169 | BK17: 7.8600001 | BP17: 169 | BQ17: 8.0760002
... A126: =A125+1 -> 122 | B126: 60 | C126: 4.7189999 | H126: 60 | I126: 4.494 | L126: 60 | M126: 5.7519999 | R126: 60 | S126: 5.5900002 | V126: 60 | W126: 6.4990001 | AB126: 60 | AC126: 6.349 | AF126: 60 | AG126: 6.9190001 | AL126: 60 | AM126: 6.8140001 | AP126: 60 | AQ126: 7.2880001 | AV126: 60 | AW126: 7.211 | AZ126: 60 | BA126: 7.447 | BF126: 60 | BG126: 7.362 | BJ126: 60 | BK126: 7.4910002 | BP126: 60 | BQ126: 7.401
A127: =A126+1 -> 123 | B127: 59 | C127: 4.665 | L127: 59 | M127: 5.7049999 | V127: 59 | W127: 6.4489999 | AF127: 59 | AG127: 6.8800001 | AP127: 59 | AQ127: 7.256 | AZ127: 59 | BA127: 7.4159999 | BJ127: 59 | BK127: 7.4590001
A128: =A127+1 -> 124 | B128: 58 | C128: 4.6090002 | L128: 58 | M128: 5.6560001 | V128: 58 | W128: 6.3930001 | AF128: 58 | AG128: 6.8379998 | AP128: 58 | AQ128: 7.2220001 | AZ128: 58 | BA128: 7.3829999 | BJ128: 58 | BK128: 7.4250002
A129: =A128+1 -> 125 | B129: 57 | C129: 4.5489998 | L129: 57 | M129: 5.6040001 | V129: 57 | W129: 6.3319998 | AF129: 57 | AG129: 6.7919998 | AP129: 57 | AQ129: 7.1869998 | AZ129: 57 | BA129: 7.3499999 | BJ129: 57 | BK129: 7.3899999
A130: =A129+1 -> 126 | B130: 56 | C130: 4.4860001 | L130: 56 | M130: 5.5489998 | V130: 56 | W130: 6.2659998 | AF130: 56 | AG130: 6.7420001 | AP130: 56 | AQ130: 7.1500001 | AZ130: 56 | BA130: 7.3140001 | BJ130: 56 | BK130: 7.3530002
A131: =A130+1 -> 127 | B131: 55 | C131: 4.4200001 | L131: 55 | M131: 5.4910002 | V131: 55 | W131: 6.1939998 | AF131: 55 | AG131: 6.6880002 | AP131: 55 | AQ131: 7.1110001 | AZ131: 55 | BA131: 7.2779999 | BJ131: 55 | BK131: 7.316
A132: =A131+1 -> 128 | B132: 54 | C132: 4.3499999 | L132: 54 | M132: 5.428 | V132: 54 | W132: 6.1170001 | AF132: 54 | AG132: 6.6279998 | AP132: 54 | AQ132: 7.0700002 | AZ132: 54 | BA132: 7.2389998 | BJ132: 54 | BK132: 7.276
A133: =A132+1 -> 129 | B133: 53 | C133: 4.276 | L133: 53 | M133: 5.3579998 | V133: 53 | W133: 6.0349998 | AF133: 53 | AG133: 6.5619998 | AP133: 53 | AQ133: 7.026 | AZ133: 53 | BA133: 7.198 | BJ133: 53 | BK133: 7.2350001
A134: =A133+1 -> 130 | B134: 52 | C134: 4.198 | L134: 52 | M134: 5.2810001 | V134: 52 | W134: 5.9489999 | AF134: 52 | AG134: 6.4879999 | AP134: 52 | AQ134: 6.9790001 | AZ134: 52 | BA134: 7.1550002 | BJ134: 52 | BK134: 7.191
A135: =A134+1 -> 131 | B135: 51 | C135: 4.1149998 | L135: 51 | M135: 5.1960001 | V135: 51 | W135: 5.8639998 | AF135: 51 | AG135: 6.4060001 | AP135: 51 | AQ135: 6.927 | AZ135: 51 | BA135: 7.1090002 | BJ135: 51 | BK135: 7.1440001
A136: =A135+1 -> 132 | B136: 50.599998 | C136: 4.0840001 | L136: 50 | M136: 5.1009998 | V136: 50 | W136: 5.7789998 | AF136: 50 | AG136: 6.3140001 | AP136: 50 | AQ136: 6.8709998 | AZ136: 50 | BA136: 7.059 | BJ136: 50 | BK136: 7.0939999
A137: =A136+1 -> 133 | B137: 50 | C137: 4.0279999 | L137: 49.599998 | M137: 5.0580001 | V137: 49 | W137: 5.6919999 | AF137: 49 | AG137: 6.2140002 | AP137: 49 | AQ137: 6.809 | AZ137: 49 | BA137: 7.006 | BJ137: 49 | BK137: 7.04
A138: =A137+1 -> 134 | B138: 49 | C138: 3.9349999 | L138: 49 | M138: 4.9970002 | V138: 48 | W138: 5.6030002 | AF138: 48 | AG138: 6.105 | AP138: 48 | AQ138: 6.7399998 | AZ138: 48 | BA138: 6.948 | BJ138: 48 | BK138: 6.9809999
... A149: =A148+1 -> 145 | B149: 38 | C149: 2.4649999 | L149: 38 | M149: 3.3099999 | V149: 38 | W149: 3.9909999 | AF149: 38 | AG149: 4.5700002 | AP149: 38 | AQ149: 5.2849998 | AZ149: 38 | BA149: 5.4959998 | BJ149: 38 | BK149: 5.4359999
A150: =A149+1 -> 146 | L150: 37 | M150: 3.053 | V150: 37 | W150: 3.704 | AF150: 37 | AG150: 4.2600002 | AP150: 37 | AQ150: 4.9829998 | AZ150: 37 | BA150: 5.092 | BJ150: 37 | BK150: 4.5999999
A151: =A150+1 -> 147 | AF151: 36 | AG151: 3.852 | AP151: 36 | AQ151: 4.573
A152: =A151+1 -> 148
A153: =A152+1 -> 149
A154: =A153+1 -> 150
A155: =A154+1 -> 151
A156: =A155+1 -> 152
A157: =A156+1 -> 153
A158: =A157+1 -> 154
A159: =A158+1 -> 155
A160: =A159+1 -> 156
A161: =A160+1 -> 157
A162: =A161+1 -> 158
A163: =A162+1 -> 159
... A165: =A164+1 -> 161
A187: POLAR PLOT FORMAT | BZ187: FASTEST SOLUTIONS
B188: Sail1 | D188: Sail1 | H188: Sail1 | J188: Sail1 | BZ188: ="TWS: "&TEXT(B3,"##.#") -> TWS: 6.3 | CC188: ="TWS: "&TEXT(L3,"##.#") -> TWS: 8.5 | CF188: ="TWS: "&TEXT(V3,"##.#") -> TWS: 10.6 | CI188: ="TWS: "&TEXT(AF3,"##.#") -> TWS: 12.7 | CL188: ="TWS: "&TEXT(AP3,"##.#") -> TWS: 16.9 | CO188: ="TWS: "&TEXT(AZ3,"##.#") -> TWS: 21.1 | CR188: ="TWS: "&TEXT(BJ3,"##.#") -> TWS: 25.4
B189: 6 | C189: ="VTW: "&TEXT(B189,"#0") -> VTW: 6 | H189: X | I189: Y
A190: 1 | B190: 2.9183869e-06 | C190: -2.598 | H190: 3.1531607e-06 | I190: -2.8069999 | L190: 3.918142e-06 | M190: -3.4879999 | R190: 4.2146988e-06 | S190: -3.7520001 | V190: 4.8662244e-06 | W190: -4.3319998 | AB190: 5.217824e-06 | AC190: -4.645 | AF190: 5.7570179e-06 | AG190: -5.125 | AL190: 6.12996e-06 | AM190: -5.4569998 | AP190: 7.218458e-06 | AQ190: -6.4260001 | AV190: 7.5914002e-06 | AW190: -6.7579999 | AZ190: 8.1395806e-06 | BA190: -7.2459998 | BF190: 8.4091778e-06 | BG190: -7.4860001 | BJ190: 8.7270775e-06 | BK190: -7.7690001 | BP190: 8.9921812e-06 | BQ190: -8.0050001 | BZ190: 3.1531607e-06 | CA190: -2.8069999 | CC190: 4.2146988e-06 | CD190: -3.7520001 | CF190: 5.217824e-06 | CG190: -4.645 | CI190: 6.12996e-06 | CJ190: -5.4569998 | CL190: 7.5914002e-06 | CM190: -6.7579999 | CO190: 8.4091778e-06 | CP190: -7.4860001 | CR190: 8.9921812e-06 | CS190: -8.0050001
A191: =A190+1 -> 2 | B191: 0.045483881 | C191: -2.605603 | H191: 0.0490444 | I191: -2.8095719 | L191: 0.061052423 | M191: -3.4974671 | R191: 0.065537982 | S191: -3.7544281 | V191: 0.075818103 | W191: -4.3433382 | AB191: 0.081141433 | AC191: -4.648292 | AF191: 0.089693655 | AG191: -5.1382171 | AL191: 0.09531369 | AM191: -5.4601681 | AP191: 0.11238324 | AQ191: -6.4380193 | AV191: 0.11800327 | AW191: -6.7599703 | AZ191: 0.12662531 | BA191: -7.253895 | BF191: 0.13069198 | BG191: -7.4868593 | BJ191: 0.13573605 | BK191: -7.7758153 | BP191: 0.13975036 | BQ191: -8.0057803 | BZ191: 0.0490444 | CA191: -2.8095719 | CC191: 0.065537982 | CD191: -3.7544281 | CF191: 0.081141433 | CG191: -4.648292 | CI191: 0.09531369 | CJ191: -5.4601681 | CL191: 0.11800327 | CM191: -6.7599703 | CO191: 0.13069198 | CP191: -7.4868593 | CR191: 0.13975036 | CS191: -8.0057803
A192: =A191+1 -> 3 | B192: 0.091230189 | C192: -2.6124076 | H192: 0.098210304 | I192: -2.8122856 | L192: 0.12246623 | M192: -3.5068623 | R192: 0.13122628 | S192: -3.7577094 | V192: 0.15202704 | W192: -4.3533462 | AB192: 0.16246233 | AC192: -4.6521643 | AF192: 0.17980792 | AG192: -5.1488613 | AL192: 0.19080162 | AM192: -5.4636694 | AP192: 0.22521362 | AQ192: -6.4490688 | AV192: 0.23617241 | AW192: -6.7628777 | AZ192: 0.25348311 | BA192: -7.2585753 | BF192: 0.22223777 | BG192: -7.4877029 | BJ192: 0.27170122 | BK192: -7.7802571 | BP192: 0.18168953 | BQ192: -8.005939 | BZ192: 0.098210304 | CA192: -2.8122856 | CC192: 0.13122628 | CD192: -3.7577094 | CF192: 0.16246233 | CG192: -4.6521643 | CI192: 0.19080162 | CJ192: -5.4636694 | CL192: 0.23617241 | CM192: -6.7628777 | CO192: 0.26147535 | CP192: -7.4874359 | CR192: 0.27958875 | CS192: -8.0061193
A193: =A192+1 -> 4 | B193: 0.1372801 | C193: -2.619405 | H193: 0.1475905 | I193: -2.8161351 | L193: 0.18422645 | M193: -3.5151757 | R193: 0.1971537 | S193: -3.7618372 | V193: 0.22871294 | W193: -4.3640107 | AB193: 0.24404771 | AC193: -4.6566094 | AF193: 0.27042558 | AG193: -5.1599183 | AL193: 0.28654539 | AM193: -5.4674963 | AP193: 0.33846376 | AQ193: -6.4581368 | AV193: 0.35447889 | AW193: -6.7637172 | AZ193: 0.38059509 | BA193: -7.2620334 | BF193: 0.26147535 | BG193: -7.4874359 | BJ193: 0.40786271 | BK193: -7.7823197 | BP193: 0.27958875 | BQ193: -8.0061193 | BZ193: 0.1475905 | CA193: -2.8161351 | CC193: 0.1971537 | CD193: -3.7618372 | CF193: 0.24404771 | CG193: -4.6566094 | CI193: 0.28654539 | CJ193: -5.4674963 | CL193: 0.35447889 | CM193: -6.7637172 | CO193: 0.39237095 | CP193: -7.4867254 | CR193: 0.41948155 | CS193: -8.0040156
A194: =A193+1 -> 5 | B194: 0.18360192 | C194: -2.6255883 | H194: 0.19720464 | I194: -2.8201133 | L194: 0.24631397 | M194: -3.5223983 | R194: 0.26340458 | S194: -3.7668016 | V194: 0.30574742 | W194: -4.3723228 | AB194: 0.32597711 | AC194: -4.6616163 | AF194: 0.36141398 | AG194: -5.1683792 | AL194: 0.38262028 | AM194: -5.4716385 | AP194: 0.45216856 | AQ194: -6.4662096 | AV194: 0.47302609 | AW194: -6.7644814 | AZ194: 0.50797463 | BA194: -7.2642609 | BF194: 0.39237095 | BG194: -7.4867254 | BJ194: 0.47600403 | BK194: -7.7824564 | BP194: 0.41948155 | BQ194: -8.0040156 | BZ194: 0.19720464 | CA194: -2.8201133 | CC194: 0.26340458 | CD194: -3.7668016 | CF194: 0.32597711 | CG194: -4.6616163 | CI194: 0.38262028 | CJ194: -5.4716385 | CL194: 0.47302609 | CM194: -6.7644814 | CO194: 0.52332128 | CP194: -7.4837248 | CR194: 0.55945574 | CS194: -8.0004635
A195: =A194+1 -> 6 | B195: 0.23018119 | C195: -2.63095 | H195: 0.24708962 | I195: -2.8242117 | L195: 0.30879665 | M195: -3.5295175 | R195: 0.32997576 | S195: -3.7715928 | V195: 0.38322857 | W195: -4.3802675 | AB195: 0.40832975 | AC195: -4.6671717 | AF195: 0.4528669 | AG195: -5.1762273 | AL195: 0.47901393 | AM195: -5.4750854 | AP195: 0.56625795 | AQ195: -6.4722766 | AV195: 0.56801297 | AW195: -6.764193 | AZ195: 0.5334746 | BA195: -7.264438 | BF195: 0.52332128 | BG195: -7.4837248 | BJ195: 0.54417881 | BK195: -7.7819967 | BP195: 0.55945574 | BQ195: -8.0004635 | BZ195: 0.24708962 | CA195: -2.8242117 | CC195: 0.32997576 | CD195: -3.7715928 | CF195: 0.40832975 | CG195: -4.6671717 | CI195: 0.47901393 | CJ195: -5.4750854 | CL195: 0.59188203 | CM195: -6.7651574 | CO195: 0.65446063 | CP195: -7.4804251 | CR195: 0.69952073 | CS195: -7.9954579
A196: =A195+1 -> 7 | B196: 0.27710782 | C196: -2.6364773 | H196: 0.29728203 | I196: -2.82842 | L196: 0.37160253 | M196: -3.535525 | R196: 0.39700322 | S196: -3.7771938 | V196: 0.46118436 | W196: -4.3878303 | AB196: 0.49118431 | AC196: -4.6732577 | AF196: 0.54480797 | AG196: -5.1834474 | AL196: 0.57585324 | AM196: -5.4788203 | AP196: 0.68069639 | AQ196: -6.4763259 | AV196: 0.59188203 | AW196: -6.7651574 | AZ196: 0.63546044 | BA196: -7.2632547 | BF196: 0.65446063 | BG196: -7.4804251 | BJ196: 0.68069484 | BK196: -7.7802798 | BP196: 0.69952073 | BQ196: -7.9954579 | BZ196: 0.29728203 | CA196: -2.82842 | CC196: 0.39700322 | CD196: -3.7771938 | CF196: 0.49118431 | CG196: -4.6732577 | CI196: 0.57585324 | CJ196: -5.4788203 | CL196: 0.71100996 | CM196: -6.7647372 | CO196: 0.78564403 | CP196: -7.4748255 | CR196: 0.83958125 | CS196: -7.9879985
A197: =A196+1 -> 8 | B197: 0.32429718 | C197: -2.641165 | H197: 0.34794004 | I197: -2.8337189 | L197: 0.43483365 | M197: -3.5414043 | R197: 0.46444816 | S197: -3.782593 | V197: 0.53939847 | W197: -4.3930088 | AB197: 0.57449716 | AC197: -4.6788622 | AF197: 0.63713855 | AG197: -5.1890308 | AL197: 0.67321219 | AM197: -5.4828244 | AP197: 0.79544819 | AQ197: -6.4783478 | AV197: 0.71100996 | AW197: -6.7647372 | AZ197: 0.76317021 | BA197: -7.2610036 | BF197: 0.78564403 | BG197: -7.4748255 | BJ197: 0.81721195 | BK197: -7.7751711 | BP197: 0.83958125 | BQ197: -7.9879985 | BZ197: 0.34794004 | CA197: -2.8337189 | CC197: 0.46444816 | CD197: -3.782593 | CF197: 0.57449716 | CG197: -4.6788622 | CI197: 0.67321219 | CJ197: -5.4828244 | CL197: 0.83042502 | CM197: -6.7632087 | CO197: 0.91695302 | CP197: -7.4679164 | CR197: 0.97971621 | CS197: -7.979077
A198: =A197+1 -> 9 | B198: 0.37173419 | C198: -2.6450056 | H198: 0.39901234 | I198: -2.8390982 | L198: 0.49838269 | M198: -3.5461495 | R198: 0.53248035 | S198: -3.788765 | V198: 0.61807246 | W198: -4.3977798 | AB198: 0.65857213 | AC198: -4.6859477 | AF198: 0.72969015 | AG198: -5.1919747 | AL198: 0.77102486 | AM198: -5.4860842 | AP198: 0.85299562 | AQ198: -6.4790911 | AV198: 0.83042502 | AW198: -6.7632087 | AZ198: 0.89087273 | BA198: -7.2555113 | BF198: 0.91695302 | BG198: -7.4679164 | BJ198: 0.95387976 | BK198: -7.7686578 | BP198: 0.97971621 | BQ198: -7.979077 | BZ198: 0.39901234 | CA198: -2.8390982 | CC198: 0.53248035 | CD198: -3.788765 | CF198: 0.65857213 | CG198: -4.6859477 | CI198: 0.77102486 | CJ198: -5.4860842 | CL198: 0.95014204 | CM198: -6.7605592 | CO198: 1.048399 | CP198: -7.4596882 | CR198: 1.1199345 | CS198: -7.9686859
A199: =A198+1 -> 10 | B199: 0.41940363 | C199: -2.647992 | H199: 0.45053431 | I199: -2.8445421 | L199: 0.56207281 | M199: -3.5487635 | R199: 0.60118169 | S199: -3.7956856 | V199: 0.69723307 | W199: -4.402126 | AB199: 0.74322514 | AC199: -4.6925064 | AF199: 0.82269437 | AG199: -5.1942519 | AL199: 0.86946863 | AM199: -5.489571 | AP199: 0.91047735 | AQ199: -6.4783325 | AV199: 0.95014204 | AW199: -6.7605592 | AZ199: 1.0187549 | BA199: -7.2487613 | BF199: 1.048399 | BG199: -7.4596882 | BJ199: 1.0904296 | BK199: -7.7587492 | BP199: 1.1199345 | BQ199: -7.9686859 | BZ199: 0.45053431 | CA199: -2.8445421 | CC199: 0.60118169 | CD199: -3.7956856 | CF199: 0.74322514 | CG199: -4.6925064 | CI199: 0.86946863 | CJ199: -5.489571 | CL199: 1.0703318 | CM199: -6.7577625 | CO199: 1.1799932 | CP199: -7.4501321 | CR199: 1.2602445 | CS199: -7.9568157
A200: =A199+1 -> 11 | B200: 0.46746369 | C200: -2.6511019 | H200: 0.50254086 | I200: -2.8500332 | L200: 0.62635276 | M200: -3.552201 | R200: 0.67045966 | S200: -3.8023421 | V200: 0.77655934 | W200: -4.4040596 | AB200: 0.82865406 | AC200: -4.6995016 | AF200: 0.9161733 | AG200: -5.1958448 | AL200: 0.96861537 | AM200: -5.4932567 | AP200: 1.0257477 | AQ200: -6.4762715 | AV200: 1.0703318 | AW200: -6.7577625 | AZ200: 1.1465159 | BA200: -7.2387666 | BF200: 1.1799932 | BG200: -7.4501321 | BJ200: 1.2269238 | BK200: -7.7464383 | BP200: 1.2602445 | BQ200: -7.9568157 | BZ200: 0.50254086 | CA200: -2.8500332 | CC200: 0.67045966 | CD200: -3.8023421 | CF200: 0.82865406 | CG200: -4.6995016 | CI200: 0.96861537 | CJ200: -5.4932567 | CL200: 1.1907127 | CM200: -6.7528254 | CO200: 1.3117462 | CP200: -7.4392363 | CR200: 1.4006546 | CS200: -7.9434578
A201: =A200+1 -> 12 | B201: 0.51556868 | C201: -2.652356 | H201: 0.55525721 | I201: -2.8565346 | L201: 0.69073229 | M201: -3.5534896 | R201: 0.74053374 | S201: -3.8096944 | V201: 0.8563554 | W201: -4.4055418 | AB201: 0.91493411 | AC201: -4.7069015 | AF201: 0.91599967 | AG201: -5.19486 | AL201: 1.0683454 | AM201: -5.4961295 | AP201: 1.1412227 | AQ201: -6.4721554 | AV201: 1.1907127 | AW201: -6.7528254 | AZ201: 1.2744117 | BA201: -7.227503 | BF201: 1.3117462 | BG201: -7.4392363 | BJ201: 1.3634937 | BK201: -7.7327093 | BP201: 1.4006546 | BQ201: -7.9434578 | BZ201: 0.55525721 | CA201: -2.8565346 | CC201: 0.74053374 | CD201: -3.8096944 | CF201: 0.91493411 | CG201: -4.7069015 | CI201: 0.96861537 | CJ201: -5.4932567 | CL201: 1.3116282 | CM201: -6.7477039 | CO201: 1.4434779 | CP201: -7.4260082 | CR201: 1.5409818 | CS201: -7.9276197
A202: =A201+1 -> 13 | B202: 0.56406721 | C202: -2.6537139 | H202: 0.60856053 | I202: -2.8630374 | L202: 0.75534688 | M202: -3.5536093 | R202: 0.81127541 | S202: -3.816731 | V202: 0.88039091 | W202: -4.4059007 | AB202: 1.0021393 | AC202: -4.7146706 | AF202: 1.0097666 | AG202: -5.1947698 | AL202: 1.1688853 | AM202: -5.4991448 | AP202: 1.2568657 | AQ202: -6.4659768 | AV202: 1.3116282 | AW202: -6.7477039 | AZ202: 1.4020721 | BA202: -7.2129951 | BF202: 1.4434779 | BG202: -7.4260082 | BJ202: 1.4997669 | BK202: -7.7155882 | BP202: 1.5409818 | BQ202: -7.9276197 | BZ202: 0.60856053 | CA202: -2.8630374 | CC202: 0.81127541 | CD202: -3.816731 | CF202: 1.0021393 | CG202: -4.7146706 | CI202: 1.0683454 | CJ202: -5.4961295 | CL202: 1.4327265 | CM202: -6.7404134 | CO202: 1.5753547 | CP202: -7.4114229 | CR202: 1.6813901 | CS202: -7.9102778
... A311: =A310+1 -> 122 | B311: 4.0867729 | C311: 2.3595015 | H311: 3.8919173 | I311: 2.2470014 | L311: 4.9813769 | M311: 2.8760018 | R311: 4.8410811 | S311: 2.7950019 | V311: 5.6282979 | W311: 3.2495021 | AB311: 5.4983941 | AC311: 3.174502 | AF311: 5.9920286 | AG311: 3.4595023 | AL311: 5.9010959 | AM311: 3.4070023 | AP311: 6.3115919 | AQ311: 3.6440024 | AV311: 6.2449078 | AW311: 3.6055023 | AZ311: 6.4492898 | BA311: 3.7235024 | BF311: 6.3756776 | BG311: 3.6810024 | BJ311: 6.487395 | BK311: 3.7455025 | BP311: 6.4094526 | BQ311: 3.7005024 | BZ311: 3.9986845 | CA311: 2.4026541 | CC311: 4.9813769 | CD311: 2.8760018 | CF311: 5.5278706 | CG311: 3.3214825 | CI311: 5.9920286 | CJ311: 3.4595023 | CL311: 6.2196046 | CM311: 3.7371186 | CO311: 6.3567512 | CP311: 3.8195246 | CR311: 6.3936096 | CS311: 3.8416714
A312: =A311+1 -> 123 | B312: 3.9986845 | C312: 2.4026541 | L312: 4.8901383 | M312: 2.938294 | V312: 5.5278706 | W312: 3.3214825 | AF312: 5.8973098 | AG312: 3.5434642 | AP312: 6.2196046 | AQ312: 3.7371186 | AZ312: 6.3567512 | BA312: 3.8195246 | BJ312: 6.3936096 | BK312: 3.8416714 | BZ312: 3.908653 | CA312: 2.4423994 | CC312: 4.8901383 | CD312: 2.938294 | CF312: 5.4215704 | CG312: 3.3877759 | CI312: 5.8973098 | CJ312: 3.5434642 | CL312: 6.1246021 | CM312: 3.8270792 | CO312: 6.2611376 | CP312: 3.9123961 | CR312: 6.2967559 | CS312: 3.9346529
A313: =A312+1 -> 124 | B313: 3.908653 | C313: 2.4423994 | L313: 4.7965591 | M313: 2.9972252 | V313: 5.4215704 | W313: 3.3877759 | AF313: 5.7989514 | AG313: 3.6235899 | AP313: 6.1246021 | AQ313: 3.8270792 | AZ313: 6.2611376 | BA313: 3.9123961 | BJ313: 6.2967559 | BK313: 3.9346529 | BZ313: 3.8151114 | CA313: 2.4775642 | CC313: 4.7965591 | CD313: 2.9972252 | CF313: 5.3104606 | CG313: 3.4486561 | CI313: 5.7989514 | CJ313: 3.6235899 | CL313: 6.0275238 | CM313: 3.9143228 | CO313: 6.1642272 | CP313: 4.003099 | CR313: 6.197774 | CS313: 4.0248846
A314: =A313+1 -> 125 | B314: 3.8151114 | C314: 2.4775642 | L314: 4.6999089 | M314: 3.0521589 | V314: 5.3104606 | W314: 3.4486561 | AF314: 5.696249 | AG314: 3.6991903 | AP314: 6.0275238 | AQ314: 3.9143228 | AZ314: 6.1642272 | BA314: 4.003099 | BJ314: 6.197774 | BK314: 4.0248846 | BZ314: 3.7190617 | CA314: 2.5085407 | CC314: 4.6999089 | CD314: 3.0521589 | CF314: 5.194748 | CG314: 3.5039044 | CI314: 5.696249 | CJ314: 3.6991903 | CL314: 5.9276173 | CM314: 3.9982314 | CO314: 6.0635795 | CP314: 4.0899391 | CR314: 6.095912 | CS314: 4.1117476
A315: =A314+1 -> 126 | B315: 3.7190617 | C315: 2.5085407 | L315: 4.6003282 | M315: 3.1029629 | V315: 5.194748 | W315: 3.5039044 | AF315: 5.5893701 | AG315: 3.7700806 | AP315: 5.9276173 | AQ315: 3.9982314 | AZ315: 6.0635795 | BA315: 4.0899391 | BJ315: 6.095912 | BK315: 4.1117476 | BZ315: 3.6206512 | CA315: 2.5352091 | CC315: 4.6003282 | CD315: 3.1029629 | CF315: 5.0738264 | CG315: 3.5527341 | CI315: 5.5893701 | CJ315: 3.7700806 | CL315: 5.8249888 | CM315: 4.0787041 | CO315: 5.961787 | CP315: 4.1744913 | CR315: 5.9929149 | CS315: 4.1962873
A316: =A315+1 -> 127 | B316: 3.6206512 | C316: 2.5352091 | L316: 4.4979629 | M316: 3.1495099 | V316: 5.0738264 | W316: 3.5527341 | AF316: 5.4784877 | AG316: 3.8360812 | AP316: 5.8249888 | AQ316: 4.0787041 | AZ316: 5.961787 | BA316: 4.1744913 | BJ316: 5.9929149 | BK316: 4.1962873 | BZ316: 3.519223 | CA316: 2.556867 | CC316: 4.4979629 | CD316: 3.1495099 | CF316: 4.9487558 | CG316: 3.5954841 | CI316: 5.4784877 | CJ316: 3.8360812 | CL316: 5.7197489 | CM316: 4.1556438 | CO316: 5.8564725 | CP316: 4.2549793 | CR316: 5.8864062 | CS316: 4.2767275
A317: =A316+1 -> 128 | B317: 3.519223 | C317: 2.556867 | L317: 4.3913431 | M317: 3.1904998 | V317: 4.9487558 | W317: 3.5954841 | AF317: 5.3621631 | AG317: 3.8958423 | AP317: 5.7197489 | AQ317: 4.1556438 | AZ317: 5.8564725 | BA317: 4.2549793 | BJ317: 5.8864062 | BK317: 4.2767275 | BZ317: 3.4149646 | CA317: 2.5733622 | CC317: 4.3913431 | CD317: 3.1904998 | CF317: 4.819764 | CG317: 3.6319552 | CI317: 5.3621631 | CJ317: 3.8958423 | CL317: 5.6112117 | CM317: 4.2283542 | CO317: 5.7485769 | CP317: 4.3318664 | CR317: 5.7781266 | CS317: 4.3541337
A318: =A317+1 -> 129 | B318: 3.4149646 | C318: 2.5733622 | L318: 4.2790878 | M318: 3.2245262 | V318: 4.819764 | W318: 3.6319552 | AF318: 5.2406447 | AG318: 3.9491118 | AP318: 5.6112117 | AQ318: 4.2283542 | AZ318: 5.7485769 | BA318: 4.3318664 | BJ318: 5.7781266 | BK318: 4.3541337 | BZ318: 3.3080683 | CA318: 2.5845479 | CC318: 4.2790878 | CD318: 3.2245262 | CF318: 4.6878747 | CG318: 3.6625716 | CI318: 5.2406447 | CJ318: 3.9491118 | CL318: 5.4995257 | CM318: 4.2967033 | CO318: 5.6382157 | CP318: 4.4050598 | CR318: 5.6665839 | CS318: 4.4272235
A319: =A318+1 -> 130 | B319: 3.3080683 | C319: 2.5845479 | L319: 4.1614838 | M319: 3.2513097 | V319: 4.6878747 | W319: 3.6625716 | AF319: 5.1126124 | AG319: 3.9944133 | AP319: 5.4995257 | AQ319: 4.2967033 | AZ319: 5.6382157 | BA319: 4.4050598 | BJ319: 5.6665839 | BK319: 4.4272235 | BZ319: 3.1979546 | CA319: 2.5896543 | CC319: 4.1614838 | CD319: 3.2513097 | CF319: 4.5571826 | CG319: 3.6903361 | CI319: 5.1126124 | CJ319: 3.9944133 | CL319: 5.3832887 | CM319: 4.3593041 | CO319: 5.5247294 | CP319: 4.4738405 | CR319: 5.5519294 | CS319: 4.4958667
A320: =A319+1 -> 131 | B320: 3.1979546 | C320: 2.5896543 | L320: 4.0380495 | M320: 3.2699501 | V320: 4.5571826 | W320: 3.6903361 | AF320: 4.9783959 | AG320: 4.0314281 | AP320: 5.3832887 | AQ320: 4.3593041 | AZ320: 5.5247294 | BA320: 4.4738405 | BJ320: 5.5519294 | BK320: 4.4958667 | BZ320: 3.0856261 | CA320: 2.5891494 | CC320: 4.0380495 | CD320: 3.2699501 | CF320: 4.4269695 | CG320: 3.7146709 | CI320: 4.9783959 | CJ320: 4.0314281 | CL320: 5.2634898 | CM320: 4.4165952 | CO320: 5.4075063 | CP320: 4.5374394 | CR320: 5.4343178 | CS320: 4.5599369
A321: =A320+1 -> 132 | B321: 3.1558431 | C321: 2.5922406 | L321: 3.9075916 | M321: 3.2788607 | V321: 4.4269695 | W321: 3.7146709 | AF321: 4.8368034 | AG321: 4.0585626 | AP321: 5.2634898 | AQ321: 4.4165952 | AZ321: 5.4075063 | BA321: 4.5374394 | BJ321: 5.4343178 | BK321: 4.5599369 | BZ321: 2.9697814 | CA321: 2.5815931 | CC321: 3.9075916 | CD321: 3.2788607 | CF321: 4.2958057 | CG321: 3.7342892 | CI321: 4.8368034 | CJ321: 4.0585626 | CL321: 5.1388162 | CM321: 4.4671075 | CO321: 5.2874939 | CP321: 4.5963512 | CR321: 5.313154 | CS321: 4.6186572
A322: =A321+1 -> 133 | B322: 3.0856261 | C322: 2.5891494 | L322: 3.8518597 | M322: 3.2781918 | V322: 4.2958057 | W322: 3.7342892 | AF322: 4.6897643 | AG322: 4.0767524 | AP322: 5.1388162 | AQ322: 4.4671075 | AZ322: 5.2874939 | BA322: 4.5963512 | BJ322: 5.313154 | BK322: 4.6186572 | BZ322: 2.8514458 | CA322: 2.5674549 | CC322: 3.7712829 | CD322: 3.2783283 | CF322: 4.1638395 | CG322: 3.7491401 | CI322: 4.6897643 | CJ322: 4.0767524 | CL322: 5.0087946 | CM322: 4.5099416 | CO322: 5.1633688 | CP322: 4.649121 | CR322: 5.1878926 | CS322: 4.6712023
A323: =A322+1 -> 134 | B323: 2.9697814 | C323: 2.5815931 | L323: 3.7712829 | M323: 3.2783283 | V323: 4.1638395 | W323: 3.7491401 | AF323: 4.536898 | AG323: 4.0850437 | AP323: 5.0087946 | AQ323: 4.5099416 | AZ323: 5.1633688 | BA323: 4.649121 | BJ323: 5.1878926 | BK323: 4.6712023 | BZ323: 2.7301427 | CA323: 2.5459007 | CC323: 3.6295182 | CD323: 3.2680349 | CF323: 4.029758 | CG323: 3.7578123 | CI323: 4.536898 | CJ323: 4.0850437 | CL323: 4.8715455 | CM323: 4.5427924 | CO323: 5.0339061 | CP323: 4.6941961 | CR323: 5.0580407 | CS323: 4.7167021
... A332: =A331+1 -> 143 | B332: 1.8184456 | C332: 2.1671402 | L332: 2.3924547 | M332: 2.8512179 | V332: 2.8661892 | W332: 3.415793 | AF332: 3.2473621 | AG332: 3.8700574 | AP332: 3.656175 | AQ332: 4.3572619 | AZ332: 3.8419406 | BA332: 4.5786488 | BJ332: 3.7873036 | BK332: 4.513535 | BZ332: 1.517605 | CA332: 1.9424468 | CC332: 2.2202417 | CD332: 2.7417716 | CF332: 2.4571042 | CG332: 3.1449515 | CI332: 3.038358 | CJ332: 3.7520615 | CL332: 3.2537698 | CM332: 4.1646375 | CO332: 3.3836743 | CP332: 4.3309078 | CR332: 3.5191586 | CS332: 4.3458011
A333: =A332+1 -> 144 | B333: 1.6733624 | C333: 2.0664315 | L333: 2.2202417 | M333: 2.7417716 | V333: 2.6676882 | W333: 3.2943223 | AF333: 3.038358 | AG333: 3.7520615 | AP333: 3.4644078 | AQ333: 4.2781894 | AZ333: 3.6185912 | BA333: 4.4685902 | BJ333: 3.5191586 | BK333: 4.3458011 | CC333: 2.0378388 | CD333: 2.608316 | CF333: 2.2291222 | CG333: 2.9581464 | CI333: 2.8135722 | CJ333: 3.6012099 | CL333: 2.9988432 | CM333: 3.9796013 | CO333: 3.0644412 | CP333: 4.0666527 | CR333: 3.3467347 | CS333: 4.2836271
A334: =A333+1 -> 145 | B334: 1.517605 | C334: 1.9424468 | L334: 2.0378388 | M334: 2.608316 | V334: 2.4571042 | W334: 3.1449515 | AF334: 2.8135722 | AG334: 3.6012099 | AP334: 3.2537698 | AQ334: 4.1646375 | AZ334: 3.3836743 | BA334: 4.3309078 | BJ334: 3.3467347 | BK334: 4.2836271 | CC334: 1.8373407 | CD334: 2.4382346 | CI334: 2.5637314 | CJ334: 3.402188 | CL334: 2.6879411 | CM334: 3.6996353 | CR334: 2.7683482 | CS334: 3.6737239
A335: =A334+1 -> 146 | L335: 1.8373407 | M335: 2.4382346 | V335: 2.2291222 | W335: 2.9581464 | AF335: 2.5637314 | AG335: 3.402188 | AP335: 2.9988432 | AQ335: 3.9796013 | AZ335: 3.0644412 | BA335: 4.0666527 | BJ335: 2.7683482 | BK335: 3.6737239 | CI335: 2.2641481 | CJ335: 3.116334
A336: =A335+1 -> 147 | AF336: 2.2641481 | AG336: 3.116334 | AP336: 2.6879411 | AQ336: 3.6996353
A337: =A336+1 -> 148
A338: =A337+1 -> 149
A339: =A338+1 -> 150
A340: =A339+1 -> 151
A341: =A340+1 -> 152
A342: =A341+1 -> 153
A343: =A342+1 -> 154
A344: =A343+1 -> 155
A345: =A344+1 -> 156
A346: =A345+1 -> 157
A347: =A346+1 -> 158
A348: =A347+1 -> 159
... A350: =A349+1 -> 161

Sheet Summary AW
A1: =Summary!A1 -> ORR 2015 | B1: =$A$1&" APPARENT WIND POLAR DIAGRAM; "&C3 -> ORR 2015 APPARENT WIND POLAR DIAGRAM; VTW: 6 | L1: =$A$1&" APPARENT WIND POLAR DIAGRAM; "&M3 -> ORR 2015 APPARENT WIND POLAR DIAGRAM; VTW: 8 | V1: =$A$1&" APPARENT WIND POLAR DIAGRAM; "&W3 -> ORR 2015 APPARENT WIND POLAR DIAGRAM; VTW: 11 | AF1: =$A$1&" APPARENT WIND POLAR DIAGRAM; "&AG3 -> ORR 2015 APPARENT WIND POLAR DIAGRAM; VTW: 13 | AP1: =$A$1&" APPARENT WIND POLAR DIAGRAM; "&AQ3 -> ORR 2015 APPARENT WIND POLAR DIAGRAM; VTW: 17 | AZ1: =$A$1&" APPARENT WIND POLAR DIAGRAM; "&BA3 -> ORR 2015 APPARENT WIND POLAR DIAGRAM; VTW: 21 | BJ1: =$A$1&" APPARENT WIND POLAR DIAGRAM; "&BK3 -> ORR 2015 APPARENT WIND POLAR DIAGRAM; VTW: 25 | BT1: =$A$1&" APPARENT WIND POLAR DIAGRAM" -> ORR 2015 APPARENT WIND POLAR DIAGRAM
B2: Sail1 | C2: Jib | D2: Sail2 | E2: Symm | F2: Sail3 | G2: Asym | H2: Sail4 | I2: CL Asy | J2: Sail5 | K2: Poled Jib | L2: Sail1 | M2: Jib | N2: Sail2 | O2: Symm | P2: Sail3 | Q2: Asym | R2: Sail4 | S2: CL Asy | T2: Sail5 | U2: Poled Jib | V2: Sail1 | W2: Jib | X2: Sail2 | Y2: Symm | Z2: Sail3 | AA2: Asym | AB2: Sail4 | AC2: CL Asy | AD2: Sail5 | AE2: Poled Jib | AF2: Sail1 | AG2: Jib | AH2: Sail2 | AI2: Symm | AJ2: Sail3 | AK2: Asym | AL2: Sail4 | AM2: CL Asy | AN2: Sail5 | AO2: Poled Jib | AP2: Sail1 | AQ2: Jib | AR2: Sail2 | AS2: Symm | AT2: Sail3 | AU2: Asym | AV2: Sail4 | AW2: CL Asy | AX2: Sail5 | AY2: Poled Jib | AZ2: Sail1 | BA2: Jib | BB2: Sail2 | BC2: Symm | BD2: Sail3 | BE2: Asym | BF2: Sail4 | BG2: CL Asy | BH2: Sail5 | BI2: Poled Jib | BJ2: Sail1 | BK2: Jib | BL2: Sail2 | BM2: Symm | BN2: Sail3 | BO2: Asym | BP2: Sail4 | BQ2: CL Asy | BR2: Sail5 | BS2: Poled Jib
B3: 6.3376913 | C3: ="VTW: "&TEXT(B3,"#0") -> VTW: 6 | L3: 8.4502554 | M3: ="VTW: "&TEXT(L3,"#0") -> VTW: 8 | V3: 10.562819 | W3: ="VTW: "&TEXT(V3,"#0") -> VTW: 11 | AF3: 12.675383 | AG3: ="VTW: "&TEXT(AF3,"#0") -> VTW: 13 | AP3: 16.900511 | AQ3: ="VTW: "&TEXT(AP3,"#0") -> VTW: 17 | AZ3: 21.125639 | BA3: ="VTW: "&TEXT(AZ3,"#0") -> VTW: 21 | BJ3: 25.350765 | BK3: ="VTW: "&TEXT(BJ3,"#0") -> VTW: 25
B4: BTW | C4: V | D4: BTW | E4: V | F4: BTW | G4: V | H4: BTW | I4: V | J4: BTW | K4: V | L4: BTW | M4: V | N4: BTW | O4: V | P4: BTW | Q4: V | R4: BTW | S4: V | T4: BTW | U4: V | V4: BTW | W4: V | X4: BTW | Y4: V | Z4: BTW | AA4: V | AB4: BTW | AC4: V | AD4: BTW | AE4: V | AF4: BTW | AG4: V | AH4: BTW | AI4: V | AJ4: BTW | AK4: V | AL4: BTW | AM4: V | AN4: BTW | AO4: V | AP4: BTW | AQ4: V | AR4: BTW | AS4: V | AT4: BTW | AU4: V | AV4: BTW | AW4: V | AX4: BTW | AY4: V | AZ4: BTW | BA4: V | BB4: BTW | BC4: V | BD4: BTW | BE4: V | BF4: BTW | BG4: V | BH4: BTW | BI4: V | BJ4: BTW | BK4: V | BL4: BTW | BM4: V | BN4: BTW | BO4: V | BP4: BTW | BQ4: V | BR4: BTW | BS4: V
B5: 180 | C5: 2.598 | H5: 180 | I5: 2.8069999 | L5: 180 | M5: 3.4879999 | R5: 180 | S5: 3.7520001 | V5: 180 | W5: 4.3319998 | AB5: 180 | AC5: 4.645 | AF5: 180 | AG5: 5.125 | AL5: 180 | AM5: 5.4569998 | AP5: 180 | AQ5: 6.4260001 | AV5: 180 | AW5: 6.7579999 | AZ5: 180 | BA5: 7.2459998 | BF5: 180 | BG5: 7.4860001 | BJ5: 180 | BK5: 7.7690001 | BP5: 180 | BQ5: 8.0050001
B6: 178.17 | C6: 2.6059999 | H6: 178.10001 | I6: 2.8099999 | L6: 178.16 | M6: 3.4979999 | R6: 178.09 | S6: 3.7550001 | V6: 178.17 | W6: 4.3439999 | AB6: 178.11 | AC6: 4.6490002 | AF6: 178.19 | AG6: 5.1389999 | AL6: 178.14 | AM6: 5.461 | AP6: 178.27 | AQ6: 6.4390001 | AV6: 178.25 | AW6: 6.7610002 | AZ6: 178.39 | BA6: 7.2550001 | BF6: 178.39 | BG6: 7.4879999 | BJ6: 178.49001 | BK6: 7.777 | BP6: 178.49001 | BQ6: 8.007
B7: 176.33 | C7: 2.6140001 | H7: 176.19 | I7: 2.8139999 | L7: 176.31 | M7: 3.5090001 | R7: 176.17999 | S7: 3.76 | V7: 176.33 | W7: 4.3559999 | AB7: 176.22 | AC7: 4.6550002 | AF7: 176.37 | AG7: 5.152 | AL7: 176.28999 | AM7: 5.467 | AP7: 176.53999 | AQ7: 6.4530001 | AV7: 176.5 | AW7: 6.7670002 | AZ7: 176.78 | BA7: 7.263 | BF7: 177.32001 | BG7: 7.4910002 | BJ7: 176.97 | BK7: 7.7849998 | BP7: 178.03 | BQ7: 8.0080004
B8: 174.48 | C8: 2.6229999 | H8: 174.28 | I8: 2.8199999 | L8: 174.45 | M8: 3.52 | R8: 174.27 | S8: 3.767 | V8: 174.48 | W8: 4.3699999 | AB8: 174.32001 | AC8: 4.6630001 | AF8: 174.55 | AG8: 5.1669998 | AL8: 174.42999 | AM8: 5.4749999 | AP8: 174.81 | AQ8: 6.467 | AV8: 174.75 | AW8: 6.7729998 | AZ8: 175.16 | BA8: 7.2719998 | BF8: 176.78 | BG8: 7.4920001 | BJ8: 175.46001 | BK8: 7.7930002 | BP8: 176.98 | BQ8: 8.0109997
B9: 172.63 | C9: 2.632 | H9: 172.36 | I9: 2.8269999 | L9: 172.59 | M9: 3.5309999 | R9: 172.35001 | S9: 3.776 | V9: 172.63 | W9: 4.3829999 | AB9: 172.42 | AC9: 4.6729999 | AF9: 172.72 | AG9: 5.1810002 | AL9: 172.56 | AM9: 5.4850001 | AP9: 173.07001 | AQ9: 6.4819999 | AV9: 173 | AW9: 6.7810001 | AZ9: 173.55 | BA9: 7.2820001 | BF9: 175.17 | BG9: 7.4970002 | BJ9: 174.71001 | BK9: 7.7969999 | BP9: 175.47 | BQ9: 8.0150003
B10: 170.75999 | C10: 2.641 | H10: 170.44 | I10: 2.835 | L10: 170.72 | M10: 3.543 | R10: 170.42999 | S10: 3.786 | V10: 170.77 | W10: 4.3969998 | AB10: 170.50999 | AC10: 4.6849999 | AF10: 170.89 | AG10: 5.1960001 | AL10: 170.7 | AM10: 5.4959998 | AP10: 171.33 | AQ10: 6.4970002 | AV10: 171.69 | AW10: 6.7880001 | AZ10: 173.22 | BA10: 7.2839999 | BF10: 173.55 | BG10: 7.5019999 | BJ10: 173.95 | BK10: 7.8010001 | BP10: 173.96001 | BQ10: 8.0200005
B11: 168.89999 | C11: 2.651 | H11: 168.50999 | I11: 2.8440001 | L11: 168.84 | M11: 3.5550001 | R11: 168.5 | S11: 3.7980001 | V11: 168.91 | W11: 4.4120002 | AB11: 168.60001 | AC11: 4.6989999 | AF11: 169.06 | AG11: 5.2119999 | AL11: 168.83 | AM11: 5.5089998 | AP11: 169.59 | AQ11: 6.5120001 | AV11: 171.25 | AW11: 6.7909999 | AZ11: 171.94 | BA11: 7.2909999 | BF11: 171.94 | BG11: 7.5089998 | BJ11: 172.42999 | BK11: 7.8099999 | BP11: 172.45 | BQ11: 8.026
B12: 167.03 | C12: 2.661 | H12: 166.57001 | I12: 2.855 | L12: 166.96001 | M12: 3.5680001 | R12: 166.56 | S12: 3.8110001 | V12: 167.05 | W12: 4.4260001 | AB12: 166.67999 | AC12: 4.7140002 | AF12: 167.22 | AG12: 5.2280002 | AL12: 166.96001 | AM12: 5.5240002 | AP12: 167.85001 | AQ12: 6.527 | AV12: 169.5 | AW12: 6.802 | AZ12: 170.32001 | BA12: 7.3010001 | BF12: 170.34 | BG12: 7.5159998 | BJ12: 170.92 | BK12: 7.8179998 | BP12: 170.94 | BQ12: 8.0319996
B13: 165.14999 | C13: 2.671 | H13: 164.63 | I13: 2.8670001 | L13: 165.08 | M13: 3.5810001 | R13: 164.61 | S13: 3.826 | V13: 165.17999 | W13: 4.441 | AB13: 164.75999 | AC13: 4.7319999 | AF13: 165.38 | AG13: 5.243 | AL13: 165.09 | AM13: 5.54 | AP13: 166.92 | AQ13: 6.5349998 | AV13: 167.75 | AW13: 6.8140001 | AZ13: 168.71001 | BA13: 7.3099999 | BF13: 168.73 | BG13: 7.5240002 | BJ13: 169.41 | BK13: 7.8270001 | BP13: 169.42999 | BQ13: 8.0389996
B14: 163.28 | C14: 2.681 | H14: 162.67 | I14: 2.8800001 | L14: 163.2 | M14: 3.5929999 | R14: 162.66 | S14: 3.8429999 | V14: 163.31 | W14: 4.4569998 | AB14: 162.83 | AC14: 4.7509999 | AF14: 163.53999 | AG14: 5.2589998 | AL14: 163.21001 | AM14: 5.5580001 | AP14: 166.11 | AQ14: 6.5419998 | AV14: 166 | AW14: 6.8270001 | AZ14: 167.10001 | BA14: 7.3200002 | BF14: 167.12 | BG14: 7.533 | BJ14: 167.89999 | BK14: 7.835 | BP14: 167.92999 | BQ14: 8.0469999
B15: 161.39999 | C15: 2.6919999 | H15: 160.71001 | I15: 2.8940001 | L15: 161.32001 | M15: 3.6070001 | R15: 160.7 | S15: 3.8610001 | V15: 161.45 | W15: 4.4720001 | AB15: 160.89999 | AC15: 4.7719998 | AF15: 161.71001 | AG15: 5.276 | AL15: 161.33 | AM15: 5.5780001 | AP15: 164.38 | AQ15: 6.5570002 | AV15: 164.25 | AW15: 6.842 | AZ15: 165.5 | BA15: 7.329 | BF15: 165.52 | BG15: 7.5430002 | BJ15: 166.39 | BK15: 7.8429999 | BP15: 166.42 | BQ15: 8.0559998
B16: 159.52 | C16: 2.7019999 | H16: 158.73 | I16: 2.9100001 | L16: 159.44 | M16: 3.6199999 | R16: 158.73 | S16: 3.881 | V16: 159.58 | W16: 4.4879999 | AB16: 158.95 | AC16: 4.7950001 | AF16: 161.77 | AG16: 5.2750001 | AL16: 159.45 | AM16: 5.599 | AP16: 162.64 | AQ16: 6.572 | AV16: 162.5 | AW16: 6.8569999 | AZ16: 163.89 | BA16: 7.3390002 | BF16: 163.92 | BG16: 7.5539999 | BJ16: 164.89 | BK16: 7.8520002 | BP16: 164.92 | BQ16: 8.066
... B126: 33.189999 | C126: 4.7189999 | H126: 34.470001 | I126: 4.494 | L126: 34.59 | M126: 5.7519999 | R126: 35.419998 | S126: 5.5900002 | V126: 35.939999 | W126: 6.4990001 | AB126: 36.25 | AC126: 6.349 | AF126: 37.18 | AG126: 6.9190001 | AL126: 37.380001 | AM126: 6.8140001 | AP126: 39.830002 | AQ126: 7.2880001 | AV126: 40.080002 | AW126: 7.211 | AZ126: 42.18 | BA126: 7.447 | BF126: 42.450001 | BG126: 7.362 | BJ126: 44.110001 | BK126: 7.4910002 | BP126: 44.32 | BQ126: 7.401
B127: 32.810001 | C127: 4.665 | L127: 34.119999 | M127: 5.7049999 | V127: 35.43 | W127: 6.4489999 | AF127: 36.599998 | AG127: 6.8800001 | AP127: 39.209999 | AQ127: 7.256 | AZ127: 41.48 | BA127: 7.4159999 | BJ127: 43.360001 | BK127: 7.4590001
B128: 32.43 | C128: 4.6090002 | L128: 33.66 | M128: 5.6560001 | V128: 34.939999 | W128: 6.3930001 | AF128: 36.040001 | AG128: 6.8379998 | AP128: 38.59 | AQ128: 7.2220001 | AZ128: 40.779999 | BA128: 7.3829999 | BJ128: 42.619999 | BK128: 7.4250002
B129: 32.060001 | C129: 4.5489998 | L129: 33.209999 | M129: 5.6040001 | V129: 34.459999 | W129: 6.3319998 | AF129: 35.52 | AG129: 6.7919998 | AP129: 37.98 | AQ129: 7.1869998 | AZ129: 40.09 | BA129: 7.3499999 | BJ129: 41.889999 | BK129: 7.3899999
B130: 31.690001 | C130: 4.4860001 | L130: 32.75 | M130: 5.5489998 | V130: 33.990002 | W130: 6.2659998 | AF130: 35 | AG130: 6.7420001 | AP130: 37.360001 | AQ130: 7.1500001 | AZ130: 39.41 | BA130: 7.3140001 | BJ130: 41.150002 | BK130: 7.3530002
B131: 31.33 | C131: 4.4200001 | L131: 32.310001 | M131: 5.4910002 | V131: 33.52 | W131: 6.1939998 | AF131: 34.490002 | AG131: 6.6880002 | AP131: 36.759998 | AQ131: 7.1110001 | AZ131: 38.720001 | BA131: 7.2779999 | BJ131: 40.43 | BK131: 7.316
B132: 30.98 | C132: 4.3499999 | L132: 31.870001 | M132: 5.428 | V132: 33.07 | W132: 6.1170001 | AF132: 33.990002 | AG132: 6.6279998 | AP132: 36.16 | AQ132: 7.0700002 | AZ132: 38.049999 | BA132: 7.2389998 | BJ132: 39.709999 | BK132: 7.276
B133: 30.639999 | C133: 4.276 | L133: 31.440001 | M133: 5.3579998 | V133: 32.619999 | W133: 6.0349998 | AF133: 33.509998 | AG133: 6.5619998 | AP133: 35.57 | AQ133: 7.026 | AZ133: 37.369999 | BA133: 7.198 | BJ133: 38.990002 | BK133: 7.2350001
B134: 30.299999 | C134: 4.198 | L134: 31.030001 | M134: 5.2810001 | V134: 32.189999 | W134: 5.9489999 | AF134: 33.029999 | AG134: 6.4879999 | AP134: 34.98 | AQ134: 6.9790001 | AZ134: 36.709999 | BA134: 7.1550002 | BJ134: 38.279999 | BK134: 7.191
B135: 29.969999 | C135: 4.1149998 | L135: 30.629999 | M135: 5.1960001 | V135: 31.77 | W135: 5.8639998 | AF135: 32.57 | AG135: 6.4060001 | AP135: 34.400002 | AQ135: 6.927 | AZ135: 36.07 | BA135: 7.1090002 | BJ135: 37.580002 | BK135: 7.1440001
B136: 29.85 | C136: 4.0840001 | L136: 30.25 | M136: 5.1009998 | V136: 31.33 | W136: 5.7789998 | AF136: 32.130001 | AG136: 6.3140001 | AP136: 33.830002 | AQ136: 6.8709998 | AZ136: 35.439999 | BA136: 7.059 | BJ136: 36.889999 | BK136: 7.0939999
B137: 29.639999 | C137: 4.0279999 | L137: 30.1 | M137: 5.0580001 | V137: 30.889999 | W137: 5.6919999 | AF137: 31.700001 | AG137: 6.2140002 | AP137: 33.259998 | AQ137: 6.809 | AZ137: 34.810001 | BA137: 7.006 | BJ137: 36.200001 | BK137: 7.04
B138: 29.33 | C138: 3.9349999 | L138: 29.889999 | M138: 4.9970002 | V138: 30.459999 | W138: 5.6030002 | AF138: 31.280001 | AG138: 6.105 | AP138: 32.709999 | AQ138: 6.7399998 | AZ138: 34.189999 | BA138: 6.948 | BJ138: 35.52 | BK138: 6.9809999
... B149: 26.809999 | C149: 2.4649999 | L149: 26.74 | M149: 3.3099999 | V149: 27.01 | W149: 3.9909999 | AF149: 27.35 | AG149: 4.5700002 | AP149: 28.23 | AQ149: 5.2849998 | AZ149: 29.219999 | BA149: 5.4959998 | BJ149: 30.24 | BK149: 5.4359999
L150: 26.66 | M150: 3.053 | V150: 26.870001 | W150: 3.704 | AF150: 27.16 | AG150: 4.2600002 | AP150: 27.969999 | AQ150: 4.9829998 | AZ150: 29.1 | BA150: 5.092 | BJ150: 31.209999 | BK150: 4.5999999
AF151: 27.129999 | AG151: 3.852 | AP151: 27.83 | AQ151: 4.573
A187: POLAR PLOT FORMAT
B188: Sail1 | D188: Sail1 | H188: Sail1 | J188: Sail1 | BZ188: TWS: 6 | CC188: TWS: 8 | CF188: TWS: 10 | CI188: TWS: 12 | CL188: TWS: 16 | CO188: TWS: 20 | CR188: TWS: 24
B189: 6 | C189: ="VTW: "&TEXT(B189,"#0") -> VTW: 6 | H189: X | I189: Y
B190: 2.9183869e-06 | C190: -2.598 | H190: 3.1531607e-06 | I190: -2.8069999 | L190: 3.918142e-06 | M190: -3.4879999 | R190: 4.2146988e-06 | S190: -3.7520001 | V190: 4.8662244e-06 | W190: -4.3319998 | AB190: 5.217824e-06 | AC190: -4.645 | AF190: 5.7570179e-06 | AG190: -5.125 | AL190: 6.12996e-06 | AM190: -5.4569998 | AP190: 7.218458e-06 | AQ190: -6.4260001 | AV190: 7.5914002e-06 | AW190: -6.7579999 | AZ190: 8.1395806e-06 | BA190: -7.2459998 | BF190: 8.4091778e-06 | BG190: -7.4860001 | BJ190: 8.7270775e-06 | BK190: -7.7690001 | BP190: 8.9921812e-06 | BQ190: -8.0050001 | BZ190: 3.1531607e-06 | CA190: -2.8069999 | CC190: 4.2146988e-06 | CD190: -3.7520001 | CF190: 5.217824e-06 | CG190: -4.645 | CI190: 6.12996e-06 | CJ190: -5.4569998 | CL190: 7.5914002e-06 | CM190: -6.7579999 | CO190: 8.4091778e-06 | CP190: -7.4860001 | CR190: 8.9921812e-06 | CS190: -8.0050001
B191: 0.08322323 | C191: -2.6046707 | H191: 0.093168872 | I191: -2.808455 | L191: 0.11231933 | M191: -3.4961962 | R191: 0.12515712 | S191: -3.7529137 | V191: 0.13872667 | W191: -4.3417842 | AB191: 0.15333259 | AC191: -4.6464709 | AF191: 0.16232186 | AG191: -5.1364357 | AL191: 0.17725611 | AM191: -5.4581225 | AP191: 0.19439757 | AQ191: -6.436065 | AV191: 0.20647841 | AW191: -6.7578465 | AZ191: 0.20384538 | BA191: -7.2521358 | BF191: 0.21039203 | BG191: -7.4850436 | BJ191: 0.20494291 | BK191: -7.7742991 | BP191: 0.21100398 | BQ191: -8.0042193 | BZ191: 0.093168872 | CA191: -2.808455 | CC191: 0.12515712 | CD191: -3.7529137 | CF191: 0.15333259 | CG191: -4.6464709 | CI191: 0.17725611 | CJ191: -5.4581225 | CL191: 0.20647841 | CM191: -6.7578465 | CO191: 0.21039203 | CP191: -7.4850436 | CR191: 0.21100398 | CS191: -8.0042193
B192: 0.16732439 | C192: -2.6086393 | H192: 0.18698777 | I192: -2.8077804 | L192: 0.22583671 | M192: -3.5017252 | R192: 0.25050406 | S192: -3.751646 | V192: 0.2788313 | W192: -4.3470667 | AB192: 0.30688868 | AC192: -4.6448731 | AF192: 0.32619506 | AG192: -5.1416632 | AL192: 0.35375695 | AM192: -5.4555426 | AP192: 0.38945734 | AQ192: -6.4412369 | AV192: 0.41312292 | AW192: -6.7543779 | AZ192: 0.40797103 | BA192: -7.2515329 | BF192: 0.35026978 | BG192: -7.4828066 | BJ192: 0.41151441 | BK192: -7.7741159 | BP192: 0.27529378 | BQ192: -8.003267 | BZ192: 0.18698777 | CA192: -2.8077804 | CC192: 0.25050406 | CD192: -3.751646 | CF192: 0.30688868 | CG192: -4.6448731 | CI192: 0.35375695 | CJ192: -5.4555426 | CL192: 0.41312292 | CM192: -6.7543779 | CO192: 0.42083423 | CP192: -7.4801714 | CR192: 0.42206527 | CS192: -7.9998735
B193: 0.25231781 | C193: -2.6108359 | H193: 0.28106428 | I193: -2.8059584 | L193: 0.34043856 | M193: -3.5034985 | R193: 0.37610388 | S193: -3.7481775 | V193: 0.42036936 | W193: -4.3497343 | AB193: 0.46151278 | AC193: -4.6401052 | AF193: 0.49075183 | AG193: -5.1436417 | AL193: 0.5314199 | AM193: -5.4491483 | AP193: 0.58500413 | AQ193: -6.4404859 | AV193: 0.6197478 | AW193: -6.7445859 | AZ193: 0.61357158 | BA193: -7.2460687 | BF193: 0.42083423 | BG193: -7.4801714 | BJ193: 0.61686297 | BK193: -7.7685476 | BP193: 0.42206527 | BQ193: -7.9998735 | BZ193: 0.28106428 | CA193: -2.8059584 | CC193: 0.37610388 | CD193: -3.7481775 | CF193: 0.46151278 | CG193: -4.6401052 | CI193: 0.5314199 | CJ193: -5.4491483 | CL193: 0.6197478 | CM193: -6.7445859 | CO193: 0.63125278 | CP193: -7.470377 | CR193: 0.63304188 | CS193: -7.9899617
B194: 0.33762592 | C194: -2.6102553 | H194: 0.37584798 | I194: -2.8019041 | L194: 0.45539237 | M194: -3.5015108 | R194: 0.5026698 | S194: -3.7423922 | V194: 0.5622395 | W194: -4.346789 | AB194: 0.61642233 | AC194: -4.6321648 | AF194: 0.65653331 | AG194: -5.1392341 | AL194: 0.71024714 | AM194: -5.4388211 | AP194: 0.78210238 | AQ194: -6.4346436 | AV194: 0.8264033 | AW194: -6.7304547 | AZ194: 0.81803905 | BA194: -7.2359061 | BF194: 0.63125278 | BG194: -7.470377 | BJ194: 0.71886599 | BK194: -7.7637903 | BP194: 0.63304188 | BQ194: -7.9899617 | BZ194: 0.37584798 | CA194: -2.8019041 | CC194: 0.5026698 | CD194: -3.7423922 | CF194: 0.61642233 | CG194: -4.6321648 | CI194: 0.71024714 | CJ194: -5.4388211 | CL194: 0.8264033 | CM194: -6.7304547 | CO194: 0.8427532 | CP194: -7.4545133 | CR194: 0.84389419 | CS194: -7.975478
B195: 0.42406919 | C195: -2.606731 | H195: 0.47084066 | I195: -2.7956277 | L195: 0.57134547 | M195: -3.4966288 | R195: 0.62943625 | S195: -3.7333103 | V195: 0.70527441 | W195: -4.3400686 | AB195: 0.7724469 | AC195: -4.620882 | AF195: 0.82269031 | AG195: -5.1304578 | AL195: 0.88818064 | AM195: -5.4237578 | AP195: 0.97938543 | AQ195: -6.4227577 | AV195: 0.98106912 | AW195: -6.716729 | AZ195: 0.8599374 | BA195: -7.2330604 | BF195: 0.8427532 | BG195: -7.4545133 | BJ195: 0.82220544 | BK195: -7.7575499 | BP195: 0.84389419 | BQ195: -7.975478 | BZ195: 0.47084066 | CA195: -2.7956277 | CC195: 0.62943625 | CD195: -3.7333103 | CF195: 0.7724469 | CG195: -4.620882 | CI195: 0.88818064 | CJ195: -5.4237578 | CL195: 1.0330771 | CM195: -6.7119618 | CO195: 1.0528448 | CP195: -7.4348232 | CR195: 1.0545559 | CS195: -7.9564181
B196: 0.51037876 | C196: -2.6014063 | H196: 0.56651921 | I196: -2.7870042 | L196: 0.68807227 | M196: -3.4877761 | R196: 0.75720335 | S196: -3.7217533 | V196: 0.84865559 | W196: -4.3296108 | AB196: 0.92879618 | AC196: -4.6062933 | AF196: 0.98914382 | AG196: -5.1172783 | AL196: 1.0672128 | AM196: -5.4046402 | AP196: 1.1766657 | AQ196: -6.4048109 | AV196: 1.0330771 | AW196: -6.7119618 | AZ196: 1.0222788 | BA196: -7.2189768 | BF196: 1.0528448 | BG196: -7.4348232 | BJ196: 1.0288782 | BK196: -7.7419318 | BP196: 1.0545559 | BQ196: -7.9564181 | BZ196: 0.56651921 | CA196: -2.7870042 | CC196: 0.75720335 | CD196: -3.7217533 | CF196: 0.92879618 | CG196: -4.6062933 | CI196: 1.0672128 | CJ196: -5.4046402 | CL196: 1.2395731 | CM196: -6.6880986 | CO196: 1.261202 | CP196: -7.4094279 | CR196: 1.2647965 | CS196: -7.9317909
B197: 0.59723985 | C197: -2.5931112 | H197: 0.66309689 | I197: -2.7769277 | L197: 0.80505549 | M197: -3.4759905 | R197: 0.88578323 | S197: -3.7066305 | V197: 0.99187386 | W197: -4.3134283 | AB197: 1.0860612 | AC197: -4.5871853 | AF197: 1.1564812 | AG197: -5.0984838 | AL197: 1.246392 | AM197: -5.3815504 | AP197: 1.3737552 | AQ197: -6.3807935 | AV197: 1.2395731 | AW197: -6.6880986 | AZ197: 1.2276355 | BA197: -7.197049 | BF197: 1.261202 | BG197: -7.4094279 | BJ197: 1.2337935 | BK197: -7.7200308 | BP197: 1.2647965 | BQ197: -7.9317909 | BZ197: 0.66309689 | CA197: -2.7769277 | CC197: 0.88578323 | CD197: -3.7066305 | CF197: 1.0860612 | CG197: -4.5871853 | CI197: 1.246392 | CJ197: -5.3815504 | CL197: 1.4457857 | CM197: -6.6588514 | CO197: 1.4704438 | CP197: -7.3789141 | CR197: 1.4746566 | CS197: -7.9025883
B198: 0.68455185 | C198: -2.5817881 | H198: 0.75990466 | I198: -2.7644592 | L198: 0.92200393 | M198: -3.4602703 | R198: 1.0153776 | S198: -3.6888052 | V198: 1.1359383 | W198: -4.2932651 | AB198: 1.243872 | AC198: -4.5655893 | AF198: 1.3233754 | AG198: -5.0732363 | AL198: 1.4254559 | AM198: -5.3534732 | AP198: 1.4789512 | AQ198: -6.3654478 | AV198: 1.4457857 | AW198: -6.6588514 | AZ198: 1.4311219 | BA198: -7.1685416 | BF198: 1.4704438 | BG198: -7.3789141 | BJ198: 1.4384521 | BK198: -7.6936849 | BP198: 1.4746566 | BQ198: -7.9025883 | BZ198: 0.75990466 | CA198: -2.7644592 | CC198: 1.0153776 | CD198: -3.6888052 | CF198: 1.243872 | CG198: -4.5655893 | CI198: 1.4254559 | CJ198: -5.3534732 | CL198: 1.6516077 | CM198: -6.6242073 | CO198: 1.6791882 | CP198: -7.3434608 | CR198: 1.6826898 | CS198: -7.8691018
B199: 0.77131255 | C199: -2.5676522 | H199: 0.85788218 | I199: -2.7492615 | L199: 1.0384949 | M199: -3.4396478 | R199: 1.1453764 | S199: -3.6683459 | V199: 1.2800252 | W199: -4.2692368 | AB199: 1.4025368 | AC199: -4.539261 | AF199: 1.4901217 | AG199: -5.0434726 | AL199: 1.6055149 | AM199: -5.3210607 | AP199: 1.5704699 | AQ199: -6.3506996 | AV199: 1.6516077 | AW199: -6.6242073 | AZ199: 1.6341976 | BA199: -7.1352506 | BF199: 1.6791882 | BG199: -7.3434608 | BJ199: 1.6423703 | BK199: -7.6609298 | BP199: 1.6826898 | BQ199: -7.8691018 | BZ199: 0.85788218 | CA199: -2.7492615 | CC199: 1.1453764 | CD199: -3.6683459 | CF199: 1.4025368 | CG199: -4.539261 | CI199: 1.6055149 | CJ199: -5.3210607 | CL199: 1.8572023 | CM199: -6.5851168 | CO199: 1.8860742 | CP199: -7.3033949 | CR199: 1.8915798 | CS199: -7.8307763
B200: 0.85864127 | C200: -2.5513915 | H200: 0.95603436 | I200: -2.7315261 | L200: 1.1552614 | M200: -3.41699 | R200: 1.2761199 | S200: -3.6440142 | V200: 1.4226913 | W200: -4.2396621 | AB200: 1.5614888 | AC200: -4.5092943 | AF200: 1.6557544 | AG200: -5.0094564 | AL200: 1.7856177 | AM200: -5.2844729 | AP200: 1.7655176 | AQ200: -6.3148395 | AV200: 1.8572023 | AW200: -6.5851168 | AZ200: 1.8350424 | BA200: -7.0955522 | BF200: 1.8860742 | BG200: -7.3033949 | BJ200: 1.845558 | BK200: -7.6227661 | BP200: 1.8915798 | BQ200: -7.8307763 | BZ200: 0.95603436 | CA200: -2.7315261 | CC200: 1.2761199 | CD200: -3.6440142 | CF200: 1.5614888 | CG200: -4.5092943 | CI200: 1.7856177 | CJ200: -5.2844729 | CL200: 2.0619463 | CM200: -6.5396349 | CO200: 2.092309 | CP200: -7.2584542 | CR200: 2.0985191 | CS200: -7.788233
B201: 0.94537914 | C201: -2.5312174 | H201: 1.0556443 | I201: -2.7117735 | L201: 1.271304 | M201: -3.3894226 | R201: 1.4078884 | S201: -3.6166299 | V201: 1.5658636 | W201: -4.2059736 | AB201: 1.7222849 | AC201: -4.4750151 | AF201: 1.650195 | AG201: -5.0102378 | AL201: 1.9653925 | AM201: -5.2427124 | AP201: 1.9609239 | AQ201: -6.272636 | AV201: 2.0619463 | AW201: -6.5396349 | AZ201: 2.0364502 | BA201: -7.050801 | BF201: 2.092309 | BG201: -7.2584542 | BJ201: 2.0468124 | BK201: -7.5805321 | BP201: 2.0985191 | BQ201: -7.788233 | BZ201: 1.0556443 | CA201: -2.7117735 | CC201: 1.4078884 | CD201: -3.6166299 | CF201: 1.7222849 | CG201: -4.4750151 | CI201: 1.7856177 | CJ201: -5.2844729 | CL201: 2.2663 | CM201: -6.4896657 | CO201: 2.2975007 | CP201: -7.2076845 | CR201: 2.3045258 | CS201: -7.7402158
... B311: 2.5832606 | C311: 3.9491422 | H311: 2.5434893 | I311: 3.7049558 | L311: 3.2654097 | M311: 4.735251 | R311: 3.239771 | S311: 4.5554347 | V311: 3.814507 | W311: 5.2617999 | AB311: 3.7542238 | AC311: 5.1201176 | AF311: 4.1812961 | AG311: 5.5126515 | AL311: 4.1367681 | AM311: 5.4145865 | AP311: 4.6680495 | AQ311: 5.596808 | AV311: 4.6428486 | AW311: 5.5174702 | AZ311: 5.0003758 | BA311: 5.5185189 | BF311: 4.9689552 | BG311: 5.4321753 | BJ311: 5.2140203 | BK311: 5.3785757 | BP311: 5.1708187 | BQ311: 5.2950388 | BZ311: 2.5277524 | CA311: 3.9208025 | CC311: 3.2654097 | CD311: 4.735251 | CF311: 3.738535 | CG311: 5.2548031 | CI311: 4.1812961 | CJ311: 5.5126515 | CL311: 4.5869845 | CM311: 5.6221979 | CO311: 4.9120496 | CP311: 5.5559718 | CR311: 5.1211996 | CS311: 5.4230985
B312: 2.5277524 | C312: 3.9208025 | L312: 3.2000931 | M312: 4.7229681 | V312: 3.738535 | W312: 5.2548031 | AF312: 4.1020258 | AG312: 5.5233854 | AP312: 4.5869845 | AQ312: 5.6221979 | AZ312: 4.9120496 | BA312: 5.5559718 | BJ312: 5.1211996 | BK312: 5.4230985 | BZ312: 2.4716623 | CA312: 3.8902144 | CC312: 3.2000931 | CD312: 4.7229681 | CF312: 3.6613869 | CG312: 5.2406771 | CI312: 4.1020258 | CJ312: 5.5233854 | CL312: 4.504672 | CM312: 5.6449283 | CO312: 4.8222515 | CP312: 5.5905794 | CR312: 5.0277102 | CS312: 5.4637678
B313: 2.4716623 | C313: 3.8902144 | L313: 3.1349133 | M313: 4.707723 | V313: 3.6613869 | W313: 5.2406771 | AF313: 4.0231354 | AG313: 5.5292516 | AP313: 4.504672 | AQ313: 5.6449283 | AZ313: 4.8222515 | BA313: 5.5905794 | BJ313: 5.0277102 | BK313: 5.4637678 | BZ313: 2.4146405 | CA313: 3.8552445 | CC313: 3.1349133 | CD313: 4.707723 | CF313: 3.582839 | CG313: 5.2208702 | CI313: 4.0231354 | CJ313: 5.5292516 | CL313: 4.4227803 | CM313: 5.6649784 | CO313: 4.7333259 | CP313: 5.6229996 | CR313: 4.9343209 | CS313: 5.5013249
B314: 2.4146405 | C314: 3.8552445 | L314: 3.0693617 | M314: 4.6886923 | V314: 3.582839 | W314: 5.2208702 | AF314: 3.9460631 | AG314: 5.5280962 | AP314: 4.4227803 | AQ314: 5.6649784 | AZ314: 4.7333259 | BA314: 5.6229996 | BJ314: 4.9343209 | BK314: 5.5013249 | BZ314: 2.356599 | CA314: 3.8171505 | CC314: 3.0693617 | CD314: 4.6886923 | CF314: 3.502995 | CG314: 5.1953614 | CI314: 3.9460631 | CJ314: 5.5280962 | CL314: 4.3387696 | CM314: 5.683096 | CO314: 4.643404 | CP314: 5.6509643 | CR314: 4.8385126 | CS314: 5.5367326
B315: 2.356599 | C315: 3.8171505 | L315: 3.0018663 | M315: 4.6669259 | V315: 3.502995 | W315: 5.1953614 | AF315: 3.8670512 | AG315: 5.522724 | AP315: 4.3387696 | AQ315: 5.683096 | AZ315: 4.643404 | BA315: 5.6509643 | BJ315: 4.8385126 | BK315: 5.5367326 | BZ315: 2.2982509 | CA315: 3.7755057 | CC315: 3.0018663 | CD315: 4.6669259 | CF315: 3.4204993 | CG315: 5.1638956 | CI315: 3.8670512 | CJ315: 5.522724 | CL315: 4.2556792 | CM315: 5.6969743 | CO315: 4.5524971 | CP315: 5.6783846 | CR315: 4.7445603 | CS315: 5.5689319
B316: 2.2982509 | C316: 3.7755057 | L316: 2.934938 | M316: 4.6408212 | V316: 3.4204993 | W316: 5.1638956 | AF316: 3.787162 | AG316: 5.5124179 | AP316: 4.2556792 | AQ316: 5.6969743 | AZ316: 4.5524971 | BA316: 5.6783846 | BJ316: 4.7445603 | BK316: 5.5689319 | BZ316: 2.2391131 | CA316: 3.72946 | CC316: 2.934938 | CD316: 4.6408212 | CF316: 3.3378211 | CG316: 5.1260746 | CI316: 3.787162 | CJ316: 5.5124179 | CL316: 4.1715969 | CM316: 5.7081242 | CO316: 4.4617482 | CP316: 5.7005194 | CR316: 4.6486502 | CS316: 5.5973411
B317: 2.2391131 | C317: 3.72946 | L317: 2.8659492 | M317: 4.6097201 | V317: 3.3378211 | W317: 5.1260746 | AF317: 3.7053703 | AG317: 5.4955083 | AP317: 4.1715969 | AQ317: 5.7081242 | AZ317: 4.4617482 | BA317: 5.7005194 | BJ317: 4.6486502 | BK317: 5.5973411 | BZ317: 2.1792293 | CA317: 3.6790129 | CC317: 2.8659492 | CD317: 4.6097201 | CF317: 3.253255 | CG317: 5.0830655 | CI317: 3.7053703 | CJ317: 5.4955083 | CL317: 4.0870029 | CM317: 5.7149876 | CO317: 4.3688952 | CP317: 5.7204858 | CR317: 4.5521505 | CS317: 5.6234467
B318: 2.1792293 | C318: 3.6790129 | L318: 2.7947608 | M318: 4.5713755 | V318: 3.253255 | W318: 5.0830655 | AF318: 3.6227641 | AG318: 5.4713273 | AP318: 4.0870029 | AQ318: 5.7149876 | AZ318: 4.3688952 | BA318: 5.7204858 | BJ318: 4.5521505 | BK318: 5.6234467 | BZ318: 2.1180062 | CA318: 3.6245349 | CC318: 2.7947608 | CD318: 4.5713755 | CF318: 3.1692011 | CG318: 5.034557 | CI318: 3.6227641 | CJ318: 5.4713273 | CL318: 4.0009929 | CM318: 5.7182601 | CO318: 4.2770078 | CP318: 5.7359596 | CR318: 4.4548594 | CS318: 5.6448834
B319: 2.1180062 | C319: 3.6245349 | L319: 2.7222851 | M319: 4.5252764 | V319: 3.1692011 | W319: 5.034557 | AF319: 3.5364653 | AG319: 5.4394444 | AP319: 4.0009929 | AQ319: 5.7182601 | AZ319: 4.2770078 | BA319: 5.7359596 | BJ319: 4.4548594 | BK319: 5.6448834 | BZ319: 2.0556329 | CA319: 3.5647716 | CC319: 2.7222851 | CD319: 4.5252764 | CF319: 3.0874578 | CG319: 4.9853885 | CI319: 3.5364653 | CJ319: 5.4394444 | CL319: 3.9135254 | CM319: 5.715562 | CO319: 4.1855876 | CP319: 5.7461936 | CR319: 4.3568999 | CS319: 5.6616393
B320: 2.0556329 | C320: 3.5647716 | L320: 2.6473197 | M320: 4.4710307 | V320: 3.0874578 | W320: 4.9853885 | AF320: 3.4485384 | AG320: 5.3985573 | AP320: 3.9135254 | AQ320: 5.715562 | AZ320: 4.1855876 | BA320: 5.7461936 | BJ320: 4.3568999 | BK320: 5.6616393 | BZ320: 1.9920417 | CA320: 3.500936 | CC320: 2.6473197 | CD320: 4.4710307 | CF320: 3.004885 | CG320: 4.9363453 | CI320: 3.4485384 | CJ320: 5.3985573 | CL320: 3.8252951 | CM320: 5.7076927 | CO320: 4.0931604 | CP320: 5.751132 | CR320: 4.2583894 | CS320: 5.6737072
B321: 2.032733 | C321: 3.542182 | L321: 2.5697501 | M321: 4.4064253 | V321: 3.004885 | W321: 4.9363453 | AF321: 3.3580499 | AG321: 5.346971 | AP321: 3.8252951 | AQ321: 5.7076927 | AZ321: 4.0931604 | BA321: 5.751132 | BJ321: 4.2583894 | BK321: 5.6737072 | BZ321: 1.9275158 | CA321: 3.4305841 | CC321: 2.5697501 | CD321: 4.4064253 | CF321: 2.9222233 | CG321: 4.8846161 | CI321: 3.3580499 | CJ321: 5.346971 | CL321: 3.734321 | CM321: 5.6936217 | CO321: 3.9994222 | CP321: 5.7522742 | CR321: 4.1578627 | CS321: 5.6810015
B322: 1.9920417 | C322: 3.500936 | L322: 2.5366406 | M322: 4.3759364 | V322: 2.9222233 | W322: 4.8846161 | AF322: 3.26528 | AG322: 5.286941 | AP322: 3.734321 | AQ322: 5.6936217 | AZ322: 3.9994222 | BA322: 5.7522742 | BJ322: 4.1578627 | BK322: 5.6810015 | BZ322: 1.8619708 | CA322: 3.3549416 | CC322: 2.4901864 | CD322: 4.3323184 | CF322: 2.8403655 | CG322: 4.829693 | CI322: 3.26528 | CJ322: 5.286941 | CL322: 3.6422082 | CM322: 5.6711477 | CO322: 3.9043509 | CP322: 5.7472382 | CR322: 4.0558697 | CS322: 5.6819258
B323: 1.9275158 | C323: 3.4305841 | L323: 2.4901864 | M323: 4.3323184 | V323: 2.8403655 | W323: 4.829693 | AF323: 3.1698421 | AG323: 5.2175786 | AP323: 3.6422082 | AQ323: 5.6711477 | AZ323: 3.9043509 | BA323: 5.7472382 | BJ323: 4.0558697 | BK323: 5.6819258 | BZ323: 1.7949593 | CA323: 3.2731347 | CC323: 2.4079629 | CD323: 4.2491374 | CF323: 2.7566648 | CG323: 4.7708387 | CI323: 3.1698421 | CJ323: 5.2175786 | CL323: 3.5475199 | CM323: 5.6377318 | CO323: 3.8069915 | CP323: 5.7343267 | CR323: 3.952008 | CS323: 5.6756222
... B332: 1.2856584 | C332: 2.5199848 | L332: 1.6978503 | M332: 3.3121877 | V332: 2.0582461 | W332: 3.9555411 | AF332: 2.3663181 | AG332: 4.463546 | AP332: 2.7584646 | AQ332: 4.9743562 | AZ332: 2.9866921 | BA332: 5.1772775 | BJ332: 3.0469349 | BK332: 5.0430005 | BZ332: 1.1117967 | CA332: 2.2000302 | CC332: 1.5967383 | CD332: 3.1459834 | CF332: 1.8124961 | CG332: 3.555691 | CI332: 2.238286 | CJ332: 4.2778102 | CL332: 2.4998683 | CM332: 4.6563808 | CO332: 2.6829502 | CP332: 4.7966439 | CR332: 2.864181 | CS332: 4.8028045
B333: 1.2026095 | C333: 2.3714997 | L333: 1.5967383 | M333: 3.1459834 | V333: 1.9396112 | W333: 3.7692212 | AF333: 2.238286 | AG333: 4.2778102 | AP333: 2.6351979 | AQ333: 4.8332968 | AZ333: 2.8384194 | BA333: 5.0005875 | BJ333: 2.864181 | BK333: 4.8028045 | CC333: 1.4893094 | CD333: 2.9560205 | CF333: 1.6740879 | CG333: 3.3040953 | CI333: 2.099571 | CJ333: 4.0591506 | CL333: 2.3370719 | CM333: 4.4009524 | CO333: 2.476419 | CP333: 4.4492486 | CR333: 2.7376948 | CS333: 4.6962881
B334: 1.1117967 | C334: 2.2000302 | L334: 1.4893094 | M334: 2.9560205 | V334: 1.8124961 | W334: 3.555691 | AF334: 2.099571 | AG334: 4.0591506 | AP334: 2.4998683 | AQ334: 4.6563808 | AZ334: 2.6829502 | BA334: 4.7966439 | BJ334: 2.7376948 | BK334: 4.6962881 | CC334: 1.369866 | CD334: 2.7284201 | CI334: 1.944591 | CJ334: 3.7902728 | CL334: 2.1349031 | CM334: 4.0440719 | CR334: 2.3836101 | CS334: 3.9342601
L335: 1.369866 | M335: 2.7284201 | V335: 1.6740879 | W335: 3.3040953 | AF335: 1.944591 | AG335: 3.7902728 | AP335: 2.3370719 | AQ335: 4.4009524 | AZ335: 2.476419 | BA335: 4.4492486 | BJ335: 2.3836101 | BK335: 3.9342601 | CI335: 1.7565536 | CJ335: 3.4281808
AF336: 1.7565536 | AG336: 3.4281808 | AP336: 2.1349031 | AQ336: 4.0440719

Sheet Graphics Grid
A1: SHUANG HSI | R1: TWA | S1: 30 | U1: TWA | V1: 60 | X1: TWA | Y1: 90 | AA1: TWA | AB1: 120 | AD1: TWA | AE1: 150 | AG1: TWA | AH1: 180
A2: USA-176 | H2: =A1&CHAR(10)&A2&CHAR(10)&A3 -> SHUANG HSI USA-176 TASHIBA 40 | O2: BOAT | R2: cosine | S2: =COS(RADIANS(S1)) -> 0.8660254 | U2: cosine | V2: =COS(RADIANS(V1)) -> 0.5 | X2: cosine | Y2: =COS(RADIANS(Y1)) -> 6.1257423e-17 | AA2: cosine | AB2: =COS(RADIANS(AB1)) -> -0.5 | AD2: cosine | AE2: =COS(RADIANS(AE1)) -> -0.8660254 | AG2: cosine | AH2: =COS(RADIANS(AH1)) -> -1 | AJ2: data xjib | AK2: 0 | AL2: 0.0161 | AM2: 0.0312 | AN2: 0.0419 | AO2: 0.05 | AP2: 0.0537 | AQ2: 0.056 | AR2: 0.057 | AS2: 0.059
A3: TASHIBA 40 | I3: TWS | J3: VS | K3: TWA | R3: sine | S3: =SIN(RADIANS(S1)) -> 0.5 | U3: sine | V3: =SIN(RADIANS(V1)) -> 0.8660254 | X3: sine | Y3: =SIN(RADIANS(Y1)) -> 1 | AA3: sine | AB3: =SIN(RADIANS(AB1)) -> 0.8660254 | AD3: sine | AE3: =SIN(RADIANS(AE1)) -> 0.5 | AG3: sine | AH3: =SIN(RADIANS(AH1)) -> 1.2251485e-16 | AJ3: data yjib | AK3: 0.5 | AL3: 0.45 | AM3: 0.4 | AN3: 0.35 | AO3: 0.3 | AP3: 0.25 | AQ3: 0.19 | AR3: 0.15 | AS3: 0.1
A4: Vmax | B4: 10 | C4: 2 | H4: VMG UP | I4: =Deckman!A3 -> 6 | J4: =Deckman!B3 -> 4.0840001 | K4: =Deckman!C3 -> 50.599998 | L4: =J4*SIN(RADIANS(K4)) -> 3.1558439 | M4: =J4*COS(RADIANS(K4)) -> 2.5922396 | R4: Xcenter | S4: Ycenter | U4: Xcenter | V4: Ycenter | X4: Xcenter | Y4: Ycenter | AA4: Xcenter | AB4: Ycenter | AD4: Xcenter | AE4: Ycenter | AG4: Xcenter | AH4: Ycenter | AJ4: data xmain | AK4: 0 | AL4: 0.019 | AM4: 0.03 | AN4: 0.037 | AO4: 0.045 | AP4: 0.05 | AQ4: 0.053 | AR4: 0.056 | AS4: 0.057
A5: Xpmax | B5: 10 | D5: =DEGREES(ATAN(B5/B7)) -> 63.434949 | I5: =Deckman!A4 -> 8 | J5: =Deckman!B4 -> 5.0580001 | K5: =Deckman!C4 -> 49.599998 | L5: =J5*SIN(RADIANS(K5)) -> 3.8518607 | M5: =J5*COS(RADIANS(K5)) -> 3.2781906 | O5: Center | P5: 1.25 | R5: =$P5*S3 -> 0.625 | S5: =$P5*S2 -> 1.0825318 | U5: =$P5*V3 -> 1.0825318 | V5: =$P5*V2 -> 0.625 | X5: =$P5*Y3 -> 1.25 | Y5: =$P5*Y2 -> 7.6571778e-17 | AA5: =$P5*AB3 -> 1.0825318 | AB5: =$P5*AB2 -> -0.625 | AD5: =$P5*AE3 -> 0.625 | AE5: =$P5*AE2 -> -1.0825318 | AG5: =$P5*AH3 -> 1.5314356e-16 | AH5: =$P5*AH2 -> -1.25 | AJ5: data ymain | AK5: 0 | AL5: -0.05 | AM5: -0.1 | AN5: -0.15 | AO5: -0.2 | AP5: -0.25 | AQ5: -0.3 | AR5: -0.35 | AS5: -0.4
A6: Ypmin | B6: -9 | I6: =Deckman!A5 -> 10 | J6: =Deckman!B5 -> 5.4660001 | K6: =Deckman!C5 -> 46.599998 | L6: =J6*SIN(RADIANS(K6)) -> 3.9714571 | M6: =J6*COS(RADIANS(K6)) -> 3.7556205 | O6: Scale | P6: 1.5 | R6: Scale | S6: =$P6 -> 1.5 | U6: Scale | V6: =$P6 -> 1.5 | X6: Scale | Y6: =$P6 -> 1.5 | AA6: Scale | AB6: =$P6 -> 1.5 | AD6: Scale | AE6: =$P6 -> 1.5 | AG6: Scale | AH6: =$P6 -> 1.5 | AJ6: data xspin | AK6: 0.25 | AL6: 0.221 | AM6: 0.19 | AN6: 0.161 | AO6: 0.13 | AP6: 0.11 | AQ6: 0.07 | AR6: 0.036 | AS6: 0 | AT6: -0.036 | AU6: -0.07 | AV6: -0.11 | AW6: -0.13 | AX6: -0.161 | AY6: -0.19 | AZ6: -0.221 | BA6: -0.25
A7: Ypmax | B7: 5 | I7: =Deckman!A6 -> 12 | J7: =Deckman!B6 -> 6.0339999 | K7: =Deckman!C6 -> 47.400002 | L7: =J7*SIN(RADIANS(K7)) -> 4.4416099 | M7: =J7*COS(RADIANS(K7)) -> 4.0842694 | AJ7: data yspin | AK7: 0.4 | AL7: 0.425 | AM7: 0.448 | AN7: 0.4636 | AO7: 0.477 | AP7: 0.484 | AQ7: 0.491 | AR7: 0.4956 | AS7: 0.498 | AT7: 0.4956 | AU7: 0.491 | AV7: 0.484 | AW7: 0.477 | AX7: 0.4636 | AY7: 0.448 | AZ7: 0.425 | BA7: 0.4
I8: =Deckman!A7 -> 16 | J8: =Deckman!B7 -> 6.4720001 | K8: =Deckman!C7 -> 45.099998 | L8: =J8*SIN(RADIANS(K8)) -> 4.5843754 | M8: =J8*COS(RADIANS(K8)) -> 4.568401 | O8: Boat X | P8: Boat Y | R8: Boat X | S8: Boat Y | U8: Boat X | V8: Boat Y | X8: Boat X | Y8: Boat Y | AA8: Boat X | AB8: Boat Y | AD8: Boat X | AE8: Boat Y | AG8: Boat X | AH8: Boat Y
A9: PLOT RADIANTS | I9: =Deckman!A8 -> 20 | J9: =Deckman!B8 -> 6.6069999 | K9: =Deckman!C8 -> 43.799999 | L9: =J9*SIN(RADIANS(K9)) -> 4.5729898 | M9: =J9*COS(RADIANS(K9)) -> 4.7686698 | O9: 0 | P9: 0.5 | R9: =S$6*($O9*S$2+$P9*S$3)+R$5 -> 1 | S9: =S$6*(-$O9*S$3+$P9*S$2)+S$5 -> 1.7320508 | U9: =V$6*($O9*V$2+$P9*V$3)+U$5 -> 1.7320508 | V9: =V$6*(-$O9*V$3+$P9*V$2)+V$5 -> 1 | X9: =Y$6*($O9*Y$2+$P9*Y$3)+X$5 -> 2 | Y9: =Y$6*(-$O9*Y$3+$P9*Y$2)+Y$5 -> 1.2251485e-16 | AA9: =AB$6*($O9*AB$2+$P9*AB$3)+AA$5 -> 1.7320508 | AB9: =AB$6*(-$O9*AB$3+$P9*AB$2)+AB$5 -> -1 | AD9: =AE$6*($O9*AE$2+$P9*AE$3)+AD$5 -> 1 | AE9: =AE$6*(-$O9*AE$3+$P9*AE$2)+AE$5 -> -1.7320508 | AG9: =AH$6*($O9*AH$2+$P9*AH$3)+AG$5 -> 2.4502969e-16 | AH9: =AH$6*(-$O9*AH$3+$P9*AH$2)+AH$5 -> -2
A10: 30 | B10: =B$4*SIN(RADIANS(A10)) -> 5 | C10: =IF(A10<$D$5,B7*TAN(RADIANS(A10)),B5) -> 2.8867513 | E10: =C$4*SIN(RADIANS(A10)) -> 1 | F10: =B10 -> 5 | I10: =Deckman!A9 -> 24 | J10: =Deckman!B9 -> 6.652 | K10: =Deckman!C9 -> 44 | L10: =J10*SIN(RADIANS(K10)) -> 4.6208674 | M10: =J10*COS(RADIANS(K10)) -> 4.7850483 | O10: 0.029 | P10: 0.4 | R10: =S$6*($O10*S$2+$P10*S$3)+R$5 -> 0.96267211 | S10: =S$6*(-$O10*S$3+$P10*S$2)+S$5 -> 1.580397 | U10: =V$6*($O10*V$2+$P10*V$3)+U$5 -> 1.623897 | V10: =V$6*(-$O10*V$3+$P10*V$2)+V$5 -> 0.88732789 | X10: =Y$6*($O10*Y$2+$P10*Y$3)+X$5 -> 1.85 | Y10: =Y$6*(-$O10*Y$3+$P10*Y$2)+Y$5 -> -0.0435 | AA10: =AB$6*($O10*AB$2+$P10*AB$3)+AA$5 -> 1.580397 | AB10: =AB$6*(-$O10*AB$3+$P10*AB$2)+AB$5 -> -0.96267211 | AD10: =AE$6*($O10*AE$2+$P10*AE$3)+AD$5 -> 0.88732789 | AE10: =AE$6*(-$O10*AE$3+$P10*AE$2)+AE$5 -> -1.623897 | AG10: =AH$6*($O10*AH$2+$P10*AH$3)+AG$5 -> -0.0435 | AH10: =AH$6*(-$O10*AH$3+$P10*AH$2)+AH$5 -> -1.85
B11: =B$4*COS(RADIANS(A10)) -> 8.660254 | C11: =IF(A10<$D$5,B7*TAN(RADIANS(A10)),B5) -> 2.8867513 | E11: =C$4*COS(RADIANS(A10)) -> 1.7320508 | F11: =B11 -> 8.660254 | O11: 0.058 | P11: 0.3 | R11: =S$6*($O11*S$2+$P11*S$3)+R$5 -> 0.92534421 | S11: =S$6*(-$O11*S$3+$P11*S$2)+S$5 -> 1.4287432 | U11: =V$6*($O11*V$2+$P11*V$3)+U$5 -> 1.5157432 | V11: =V$6*(-$O11*V$3+$P11*V$2)+V$5 -> 0.77465579 | X11: =Y$6*($O11*Y$2+$P11*Y$3)+X$5 -> 1.7 | Y11: =Y$6*(-$O11*Y$3+$P11*Y$2)+Y$5 -> -0.087 | AA11: =AB$6*($O11*AB$2+$P11*AB$3)+AA$5 -> 1.4287432 | AB11: =AB$6*(-$O11*AB$3+$P11*AB$2)+AB$5 -> -0.92534421 | AD11: =AE$6*($O11*AE$2+$P11*AE$3)+AD$5 -> 0.77465579 | AE11: =AE$6*(-$O11*AE$3+$P11*AE$2)+AE$5 -> -1.5157432 | AG11: =AH$6*($O11*AH$2+$P11*AH$3)+AG$5 -> -0.087 | AH11: =AH$6*(-$O11*AH$3+$P11*AH$2)+AH$5 -> -1.7
A12: =A10+10 -> 40 | B12: =B$4*SIN(RADIANS(A12)) -> 6.4278761 | E12: =C$4*SIN(RADIANS(A12)) -> 1.2855752 | F12: =B12 -> 6.4278761 | H12: VMG DN | I12: =Deckman!A3 -> 6 | J12: =Deckman!N3 -> 3.8280001 | K12: =Deckman!O3 -> 142.60001 | L12: =J12*SIN(RADIANS(K12)) -> 2.3250344 | M12: =J12*COS(RADIANS(K12)) -> -3.0410195 | O12: 0.086 | P12: 0.2 | R12: =S$6*($O12*S$2+$P12*S$3)+R$5 -> 0.88671728 | S12: =S$6*(-$O12*S$3+$P12*S$2)+S$5 -> 1.2778394 | U12: =V$6*($O12*V$2+$P12*V$3)+U$5 -> 1.4068394 | V12: =V$6*(-$O12*V$3+$P12*V$2)+V$5 -> 0.66328272 | X12: =Y$6*($O12*Y$2+$P12*Y$3)+X$5 -> 1.55 | Y12: =Y$6*(-$O12*Y$3+$P12*Y$2)+Y$5 -> -0.129 | AA12: =AB$6*($O12*AB$2+$P12*AB$3)+AA$5 -> 1.2778394 | AB12: =AB$6*(-$O12*AB$3+$P12*AB$2)+AB$5 -> -0.88671728 | AD12: =AE$6*($O12*AE$2+$P12*AE$3)+AD$5 -> 0.66328272 | AE12: =AE$6*(-$O12*AE$3+$P12*AE$2)+AE$5 -> -1.4068394 | AG12: =AH$6*($O12*AH$2+$P12*AH$3)+AG$5 -> -0.129 | AH12: =AH$6*(-$O12*AH$3+$P12*AH$2)+AH$5 -> -1.55
B13: =B$4*COS(RADIANS(A12)) -> 7.6604444 | E13: =C$4*COS(RADIANS(A12)) -> 1.5320889 | F13: =B13 -> 7.6604444 | I13: =Deckman!A4 -> 8 | J13: =Deckman!N4 -> 4.744 | K13: =Deckman!O4 -> 146.89999 | L13: =J13*SIN(RADIANS(K13)) -> 2.5907081 | M13: =J13*COS(RADIANS(K13)) -> -3.9741373 | O13: 0.107 | P13: 0.1 | R13: =S$6*($O13*S$2+$P13*S$3)+R$5 -> 0.83899708 | S13: =S$6*(-$O13*S$3+$P13*S$2)+S$5 -> 1.1321856 | U13: =V$6*($O13*V$2+$P13*V$3)+U$5 -> 1.2926856 | V13: =V$6*(-$O13*V$3+$P13*V$2)+V$5 -> 0.56100292 | X13: =Y$6*($O13*Y$2+$P13*Y$3)+X$5 -> 1.4 | Y13: =Y$6*(-$O13*Y$3+$P13*Y$2)+Y$5 -> -0.1605 | AA13: =AB$6*($O13*AB$2+$P13*AB$3)+AA$5 -> 1.1321856 | AB13: =AB$6*(-$O13*AB$3+$P13*AB$2)+AB$5 -> -0.83899708 | AD13: =AE$6*($O13*AE$2+$P13*AE$3)+AD$5 -> 0.56100292 | AE13: =AE$6*(-$O13*AE$3+$P13*AE$2)+AE$5 -> -1.2926856 | AG13: =AH$6*($O13*AH$2+$P13*AH$3)+AG$5 -> -0.1605 | AH13: =AH$6*(-$O13*AH$3+$P13*AH$2)+AH$5 -> -1.4
A14: =A12+10 -> 50 | B14: =B$4*SIN(RADIANS(A14)) -> 7.6604444 | E14: =C$4*SIN(RADIANS(A14)) -> 1.5320889 | F14: =B14 -> 7.6604444 | I14: =Deckman!A5 -> 10 | J14: =Deckman!N5 -> 5.3649998 | K14: =Deckman!O5 -> 153.60001 | L14: =J14*SIN(RADIANS(K14)) -> 2.3854671 | M14: =J14*COS(RADIANS(K14)) -> -4.8054936 | O14: 0.122 | P14: 0 | R14: =S$6*($O14*S$2+$P14*S$3)+R$5 -> 0.78348265 | S14: =S$6*(-$O14*S$3+$P14*S$2)+S$5 -> 0.99103175 | U14: =V$6*($O14*V$2+$P14*V$3)+U$5 -> 1.1740318 | V14: =V$6*(-$O14*V$3+$P14*V$2)+V$5 -> 0.46651735 | X14: =Y$6*($O14*Y$2+$P14*Y$3)+X$5 -> 1.25 | Y14: =Y$6*(-$O14*Y$3+$P14*Y$2)+Y$5 -> -0.183 | AA14: =AB$6*($O14*AB$2+$P14*AB$3)+AA$5 -> 0.99103175 | AB14: =AB$6*(-$O14*AB$3+$P14*AB$2)+AB$5 -> -0.78348265 | AD14: =AE$6*($O14*AE$2+$P14*AE$3)+AD$5 -> 0.46651735 | AE14: =AE$6*(-$O14*AE$3+$P14*AE$2)+AE$5 -> -1.1740318 | AG14: =AH$6*($O14*AH$2+$P14*AH$3)+AG$5 -> -0.183 | AH14: =AH$6*(-$O14*AH$3+$P14*AH$2)+AH$5 -> -1.25
B15: =B$4*COS(RADIANS(A14)) -> 6.4278761 | E15: =C$4*COS(RADIANS(A14)) -> 1.2855752 | F15: =B15 -> 6.4278761 | I15: =Deckman!A6 -> 12 | J15: =Deckman!N6 -> 5.895 | K15: =Deckman!O6 -> 159.2 | L15: =J15*SIN(RADIANS(K15)) -> 2.0933558 | M15: =J15*COS(RADIANS(K15)) -> -5.5107972 | O15: 0.13 | P15: -0.1 | R15: =S$6*($O15*S$2+$P15*S$3)+R$5 -> 0.71887495 | S15: =S$6*(-$O15*S$3+$P15*S$2)+S$5 -> 0.85512794 | U15: =V$6*($O15*V$2+$P15*V$3)+U$5 -> 1.0501279 | V15: =V$6*(-$O15*V$3+$P15*V$2)+V$5 -> 0.38112505 | X15: =Y$6*($O15*Y$2+$P15*Y$3)+X$5 -> 1.1 | Y15: =Y$6*(-$O15*Y$3+$P15*Y$2)+Y$5 -> -0.195 | AA15: =AB$6*($O15*AB$2+$P15*AB$3)+AA$5 -> 0.85512794 | AB15: =AB$6*(-$O15*AB$3+$P15*AB$2)+AB$5 -> -0.71887495 | AD15: =AE$6*($O15*AE$2+$P15*AE$3)+AD$5 -> 0.38112505 | AE15: =AE$6*(-$O15*AE$3+$P15*AE$2)+AE$5 -> -1.0501279 | AG15: =AH$6*($O15*AH$2+$P15*AH$3)+AG$5 -> -0.195 | AH15: =AH$6*(-$O15*AH$3+$P15*AH$2)+AH$5 -> -1.1
A16: =A14+10 -> 60 | B16: =B$4*SIN(RADIANS(A16)) -> 8.660254 | E16: =C$4*SIN(RADIANS(A16)) -> 1.7320508 | F16: =B16 -> 8.660254 | I16: =Deckman!A7 -> 16 | J16: =Deckman!N7 -> 6.7880001 | K16: =Deckman!O7 -> 175.2 | L16: =J16*SIN(RADIANS(K16)) -> 0.56800557 | M16: =J16*COS(RADIANS(K16)) -> -6.7641936 | O16: 0.125 | P16: -0.2 | R16: =S$6*($O16*S$2+$P16*S$3)+R$5 -> 0.63737976 | S16: =S$6*(-$O16*S$3+$P16*S$2)+S$5 -> 0.72897413 | U16: =V$6*($O16*V$2+$P16*V$3)+U$5 -> 0.91647413 | V16: =V$6*(-$O16*V$3+$P16*V$2)+V$5 -> 0.31262024 | X16: =Y$6*($O16*Y$2+$P16*Y$3)+X$5 -> 0.95 | Y16: =Y$6*(-$O16*Y$3+$P16*Y$2)+Y$5 -> -0.1875 | AA16: =AB$6*($O16*AB$2+$P16*AB$3)+AA$5 -> 0.72897413 | AB16: =AB$6*(-$O16*AB$3+$P16*AB$2)+AB$5 -> -0.63737976 | AD16: =AE$6*($O16*AE$2+$P16*AE$3)+AD$5 -> 0.31262024 | AE16: =AE$6*(-$O16*AE$3+$P16*AE$2)+AE$5 -> -0.91647413 | AG16: =AH$6*($O16*AH$2+$P16*AH$3)+AG$5 -> -0.1875 | AH16: =AH$6*(-$O16*AH$3+$P16*AH$2)+AH$5 -> -0.95
B17: =B$4*COS(RADIANS(A16)) -> 5 | E17: =C$4*COS(RADIANS(A16)) -> 1 | F17: =B17 -> 5 | I17: =Deckman!A8 -> 20 | J17: =Deckman!N8 -> 7.4910002 | K17: =Deckman!O8 -> 178.3 | L17: =J17*SIN(RADIANS(K17)) -> 0.22222944 | M17: =J17*COS(RADIANS(K17)) -> -7.4877031 | O17: 0.115 | P17: -0.3 | R17: =S$6*($O17*S$2+$P17*S$3)+R$5 -> 0.54938938 | S17: =S$6*(-$O17*S$3+$P17*S$2)+S$5 -> 0.60657032 | U17: =V$6*($O17*V$2+$P17*V$3)+U$5 -> 0.77907032 | V17: =V$6*(-$O17*V$3+$P17*V$2)+V$5 -> 0.25061062 | X17: =Y$6*($O17*Y$2+$P17*Y$3)+X$5 -> 0.8 | Y17: =Y$6*(-$O17*Y$3+$P17*Y$2)+Y$5 -> -0.1725 | AA17: =AB$6*($O17*AB$2+$P17*AB$3)+AA$5 -> 0.60657032 | AB17: =AB$6*(-$O17*AB$3+$P17*AB$2)+AB$5 -> -0.54938938 | AD17: =AE$6*($O17*AE$2+$P17*AE$3)+AD$5 -> 0.25061062 | AE17: =AE$6*(-$O17*AE$3+$P17*AE$2)+AE$5 -> -0.77907032 | AG17: =AH$6*($O17*AH$2+$P17*AH$3)+AG$5 -> -0.1725 | AH17: =AH$6*(-$O17*AH$3+$P17*AH$2)+AH$5 -> -0.8
A18: =A16+10 -> 70 | B18: =B$4*SIN(RADIANS(A18)) -> 9.3969262 | E18: =C$4*SIN(RADIANS(A18)) -> 1.8793852 | F18: =B18 -> 9.3969262 | I18: =Deckman!A9 -> 24 | J18: =Deckman!N9 -> 8.0080004 | K18: =Deckman!O9 -> 178.7 | L18: =J18*SIN(RADIANS(K18)) -> 0.1816806 | M18: =J18*COS(RADIANS(K18)) -> -8.0059392 | O18: 0.104 | P18: -0.4 | R18: =S$6*($O18*S$2+$P18*S$3)+R$5 -> 0.46009996 | S18: =S$6*(-$O18*S$3+$P18*S$2)+S$5 -> 0.48491651 | U18: =V$6*($O18*V$2+$P18*V$3)+U$5 -> 0.64091651 | V18: =V$6*(-$O18*V$3+$P18*V$2)+V$5 -> 0.18990004 | X18: =Y$6*($O18*Y$2+$P18*Y$3)+X$5 -> 0.65 | Y18: =Y$6*(-$O18*Y$3+$P18*Y$2)+Y$5 -> -0.156 | AA18: =AB$6*($O18*AB$2+$P18*AB$3)+AA$5 -> 0.48491651 | AB18: =AB$6*(-$O18*AB$3+$P18*AB$2)+AB$5 -> -0.46009996 | AD18: =AE$6*($O18*AE$2+$P18*AE$3)+AD$5 -> 0.18990004 | AE18: =AE$6*(-$O18*AE$3+$P18*AE$2)+AE$5 -> -0.64091651 | AG18: =AH$6*($O18*AH$2+$P18*AH$3)+AG$5 -> -0.156 | AH18: =AH$6*(-$O18*AH$3+$P18*AH$2)+AH$5 -> -0.65
B19: =B$4*COS(RADIANS(A18)) -> 3.4202014 | E19: =C$4*COS(RADIANS(A18)) -> 0.68404029 | F19: =B19 -> 3.4202014 | O19: 0.09 | P19: -0.5 | R19: =S$6*($O19*S$2+$P19*S$3)+R$5 -> 0.36691343 | S19: =S$6*(-$O19*S$3+$P19*S$2)+S$5 -> 0.3655127 | U19: =V$6*($O19*V$2+$P19*V$3)+U$5 -> 0.5005127 | V19: =V$6*(-$O19*V$3+$P19*V$2)+V$5 -> 0.13308657 | X19: =Y$6*($O19*Y$2+$P19*Y$3)+X$5 -> 0.5 | Y19: =Y$6*(-$O19*Y$3+$P19*Y$2)+Y$5 -> -0.135 | AA19: =AB$6*($O19*AB$2+$P19*AB$3)+AA$5 -> 0.3655127 | AB19: =AB$6*(-$O19*AB$3+$P19*AB$2)+AB$5 -> -0.36691343 | AD19: =AE$6*($O19*AE$2+$P19*AE$3)+AD$5 -> 0.13308657 | AE19: =AE$6*(-$O19*AE$3+$P19*AE$2)+AE$5 -> -0.5005127 | AG19: =AH$6*($O19*AH$2+$P19*AH$3)+AG$5 -> -0.135 | AH19: =AH$6*(-$O19*AH$3+$P19*AH$2)+AH$5 -> -0.5
A20: =A18+10 -> 80 | B20: =B$4*SIN(RADIANS(A20)) -> 9.8480775 | E20: =C$4*SIN(RADIANS(A20)) -> 1.9696155 | F20: =B20 -> 9.8480775 | I20: TWS | J20: VS | K20: AWA | O20: 0 | P20: -0.5 | R20: =S$6*($O20*S$2+$P20*S$3)+R$5 -> 0.25 | S20: =S$6*(-$O20*S$3+$P20*S$2)+S$5 -> 0.4330127 | U20: =V$6*($O20*V$2+$P20*V$3)+U$5 -> 0.4330127 | V20: =V$6*(-$O20*V$3+$P20*V$2)+V$5 -> 0.25 | X20: =Y$6*($O20*Y$2+$P20*Y$3)+X$5 -> 0.5 | Y20: =Y$6*(-$O20*Y$3+$P20*Y$2)+Y$5 -> 3.0628711e-17 | AA20: =AB$6*($O20*AB$2+$P20*AB$3)+AA$5 -> 0.4330127 | AB20: =AB$6*(-$O20*AB$3+$P20*AB$2)+AB$5 -> -0.25 | AD20: =AE$6*($O20*AE$2+$P20*AE$3)+AD$5 -> 0.25 | AE20: =AE$6*(-$O20*AE$3+$P20*AE$2)+AE$5 -> -0.4330127 | AG20: =AH$6*($O20*AH$2+$P20*AH$3)+AG$5 -> 6.1257423e-17 | AH20: =AH$6*(-$O20*AH$3+$P20*AH$2)+AH$5 -> -0.5
B21: =B$4*COS(RADIANS(A20)) -> 1.7364818 | E21: =C$4*COS(RADIANS(A20)) -> 0.34729636 | F21: =B21 -> 1.7364818 | H21: VMG UP | I21: =I4 -> 6 | J21: 4.0840001 | K21: 29.85 | L21: =J21*SIN(RADIANS(K21)) -> 2.0327336 | M21: =J21*COS(RADIANS(K21)) -> 3.5421816 | O21: =-O20 -> 0 | P21: -0.5 | R21: =S$6*($O21*S$2+$P21*S$3)+R$5 -> 0.25 | S21: =S$6*(-$O21*S$3+$P21*S$2)+S$5 -> 0.4330127 | U21: =V$6*($O21*V$2+$P21*V$3)+U$5 -> 0.4330127 | V21: =V$6*(-$O21*V$3+$P21*V$2)+V$5 -> 0.25 | X21: =Y$6*($O21*Y$2+$P21*Y$3)+X$5 -> 0.5 | Y21: =Y$6*(-$O21*Y$3+$P21*Y$2)+Y$5 -> 3.0628711e-17 | AA21: =AB$6*($O21*AB$2+$P21*AB$3)+AA$5 -> 0.4330127 | AB21: =AB$6*(-$O21*AB$3+$P21*AB$2)+AB$5 -> -0.25 | AD21: =AE$6*($O21*AE$2+$P21*AE$3)+AD$5 -> 0.25 | AE21: =AE$6*(-$O21*AE$3+$P21*AE$2)+AE$5 -> -0.4330127 | AG21: =AH$6*($O21*AH$2+$P21*AH$3)+AG$5 -> 6.1257423e-17 | AH21: =AH$6*(-$O21*AH$3+$P21*AH$2)+AH$5 -> -0.5
A22: =A20+20 -> 100 | B22: =B$4*SIN(RADIANS(A22)) -> 9.8480775 | E22: =C$4*SIN(RADIANS(A22)) -> 1.9696155 | F22: =B22 -> 9.8480775 | I22: =I5 -> 8 | J22: 5.0580001 | K22: 30.1 | L22: =J22*SIN(RADIANS(K22)) -> 2.5366414 | M22: =J22*COS(RADIANS(K22)) -> 4.3759359 | O22: =-O19 -> -0.09 | P22: -0.5 | R22: =S$6*($O22*S$2+$P22*S$3)+R$5 -> 0.13308657 | S22: =S$6*(-$O22*S$3+$P22*S$2)+S$5 -> 0.5005127 | U22: =V$6*($O22*V$2+$P22*V$3)+U$5 -> 0.3655127 | V22: =V$6*(-$O22*V$3+$P22*V$2)+V$5 -> 0.36691343 | X22: =Y$6*($O22*Y$2+$P22*Y$3)+X$5 -> 0.5 | Y22: =Y$6*(-$O22*Y$3+$P22*Y$2)+Y$5 -> 0.135 | AA22: =AB$6*($O22*AB$2+$P22*AB$3)+AA$5 -> 0.5005127 | AB22: =AB$6*(-$O22*AB$3+$P22*AB$2)+AB$5 -> -0.13308657 | AD22: =AE$6*($O22*AE$2+$P22*AE$3)+AD$5 -> 0.36691343 | AE22: =AE$6*(-$O22*AE$3+$P22*AE$2)+AE$5 -> -0.3655127 | AG22: =AH$6*($O22*AH$2+$P22*AH$3)+AG$5 -> 0.135 | AH22: =AH$6*(-$O22*AH$3+$P22*AH$2)+AH$5 -> -0.5
B23: =B$4*COS(RADIANS(A22)) -> -1.7364818 | E23: =C$4*COS(RADIANS(A22)) -> -0.34729636 | F23: =B23 -> -1.7364818 | I23: =I6 -> 10 | J23: 5.4660001 | K23: 29.83 | L23: =J23*SIN(RADIANS(K23)) -> 2.7189429 | M23: =J23*COS(RADIANS(K23)) -> 4.7417831 | O23: =-O18 -> -0.104 | P23: -0.4 | R23: =S$6*($O23*S$2+$P23*S$3)+R$5 -> 0.18990004 | S23: =S$6*(-$O23*S$3+$P23*S$2)+S$5 -> 0.64091651 | U23: =V$6*($O23*V$2+$P23*V$3)+U$5 -> 0.48491651 | V23: =V$6*(-$O23*V$3+$P23*V$2)+V$5 -> 0.46009996 | X23: =Y$6*($O23*Y$2+$P23*Y$3)+X$5 -> 0.65 | Y23: =Y$6*(-$O23*Y$3+$P23*Y$2)+Y$5 -> 0.156 | AA23: =AB$6*($O23*AB$2+$P23*AB$3)+AA$5 -> 0.64091651 | AB23: =AB$6*(-$O23*AB$3+$P23*AB$2)+AB$5 -> -0.18990004 | AD23: =AE$6*($O23*AE$2+$P23*AE$3)+AD$5 -> 0.46009996 | AE23: =AE$6*(-$O23*AE$3+$P23*AE$2)+AE$5 -> -0.48491651 | AG23: =AH$6*($O23*AH$2+$P23*AH$3)+AG$5 -> 0.156 | AH23: =AH$6*(-$O23*AH$3+$P23*AH$2)+AH$5 -> -0.65
A24: =A22+10 -> 110 | B24: =B$4*SIN(RADIANS(A24)) -> 9.3969262 | E24: =C$4*SIN(RADIANS(A24)) -> 1.8793852 | F24: =B24 -> 9.3969262 | I24: =I7 -> 12 | J24: 6.0339999 | K24: 31.02 | L24: =J24*SIN(RADIANS(K24)) -> 3.109545 | M24: =J24*COS(RADIANS(K24)) -> 5.1710623 | O24: =-O17 -> -0.115 | P24: -0.3 | R24: =S$6*($O24*S$2+$P24*S$3)+R$5 -> 0.25061062 | S24: =S$6*(-$O24*S$3+$P24*S$2)+S$5 -> 0.77907032 | U24: =V$6*($O24*V$2+$P24*V$3)+U$5 -> 0.60657032 | V24: =V$6*(-$O24*V$3+$P24*V$2)+V$5 -> 0.54938938 | X24: =Y$6*($O24*Y$2+$P24*Y$3)+X$5 -> 0.8 | Y24: =Y$6*(-$O24*Y$3+$P24*Y$2)+Y$5 -> 0.1725 | AA24: =AB$6*($O24*AB$2+$P24*AB$3)+AA$5 -> 0.77907032 | AB24: =AB$6*(-$O24*AB$3+$P24*AB$2)+AB$5 -> -0.25061062 | AD24: =AE$6*($O24*AE$2+$P24*AE$3)+AD$5 -> 0.54938938 | AE24: =AE$6*(-$O24*AE$3+$P24*AE$2)+AE$5 -> -0.60657032 | AG24: =AH$6*($O24*AH$2+$P24*AH$3)+AG$5 -> 0.1725 | AH24: =AH$6*(-$O24*AH$3+$P24*AH$2)+AH$5 -> -0.8
B25: =B$4*COS(RADIANS(A24)) -> -3.4202014 | E25: =C$4*COS(RADIANS(A24)) -> -0.68404029 | F25: =B25 -> -3.4202014 | I25: =I8 -> 16 | J25: 6.4720001 | K25: 31.190001 | L25: =J25*SIN(RADIANS(K25)) -> 3.3517047 | M25: =J25*COS(RADIANS(K25)) -> 5.5365026 | O25: =-O16 -> -0.125 | P25: -0.2 | R25: =S$6*($O25*S$2+$P25*S$3)+R$5 -> 0.31262024 | S25: =S$6*(-$O25*S$3+$P25*S$2)+S$5 -> 0.91647413 | U25: =V$6*($O25*V$2+$P25*V$3)+U$5 -> 0.72897413 | V25: =V$6*(-$O25*V$3+$P25*V$2)+V$5 -> 0.63737976 | X25: =Y$6*($O25*Y$2+$P25*Y$3)+X$5 -> 0.95 | Y25: =Y$6*(-$O25*Y$3+$P25*Y$2)+Y$5 -> 0.1875 | AA25: =AB$6*($O25*AB$2+$P25*AB$3)+AA$5 -> 0.91647413 | AB25: =AB$6*(-$O25*AB$3+$P25*AB$2)+AB$5 -> -0.31262024 | AD25: =AE$6*($O25*AE$2+$P25*AE$3)+AD$5 -> 0.63737976 | AE25: =AE$6*(-$O25*AE$3+$P25*AE$2)+AE$5 -> -0.72897413 | AG25: =AH$6*($O25*AH$2+$P25*AH$3)+AG$5 -> 0.1875 | AH25: =AH$6*(-$O25*AH$3+$P25*AH$2)+AH$5 -> -0.95
A26: =A24+10 -> 120 | B26: =B$4*SIN(RADIANS(A26)) -> 8.660254 | E26: =C$4*SIN(RADIANS(A26)) -> 1.7320508 | F26: =B26 -> 8.660254 | I26: =I9 -> 20 | J26: 6.6069999 | K26: 31.73 | L26: =J26*SIN(RADIANS(K26)) -> 3.4747339 | M26: =J26*COS(RADIANS(K26)) -> 5.6194903 | O26: =-O15 -> -0.13 | P26: -0.1 | R26: =S$6*($O26*S$2+$P26*S$3)+R$5 -> 0.38112505 | S26: =S$6*(-$O26*S$3+$P26*S$2)+S$5 -> 1.0501279 | U26: =V$6*($O26*V$2+$P26*V$3)+U$5 -> 0.85512794 | V26: =V$6*(-$O26*V$3+$P26*V$2)+V$5 -> 0.71887495 | X26: =Y$6*($O26*Y$2+$P26*Y$3)+X$5 -> 1.1 | Y26: =Y$6*(-$O26*Y$3+$P26*Y$2)+Y$5 -> 0.195 | AA26: =AB$6*($O26*AB$2+$P26*AB$3)+AA$5 -> 1.0501279 | AB26: =AB$6*(-$O26*AB$3+$P26*AB$2)+AB$5 -> -0.38112505 | AD26: =AE$6*($O26*AE$2+$P26*AE$3)+AD$5 -> 0.71887495 | AE26: =AE$6*(-$O26*AE$3+$P26*AE$2)+AE$5 -> -0.85512794 | AG26: =AH$6*($O26*AH$2+$P26*AH$3)+AG$5 -> 0.195 | AH26: =AH$6*(-$O26*AH$3+$P26*AH$2)+AH$5 -> -1.1
B27: =B$4*COS(RADIANS(A26)) -> -5 | E27: =C$4*COS(RADIANS(A26)) -> -1 | F27: =B27 -> -5 | I27: =I10 -> 24 | J27: 6.652 | K27: 33 | L27: =J27*SIN(RADIANS(K27)) -> 3.6229388 | M27: =J27*COS(RADIANS(K27)) -> 5.5788366 | O27: =-O14 -> -0.122 | P27: 0 | R27: =S$6*($O27*S$2+$P27*S$3)+R$5 -> 0.46651735 | S27: =S$6*(-$O27*S$3+$P27*S$2)+S$5 -> 1.1740318 | U27: =V$6*($O27*V$2+$P27*V$3)+U$5 -> 0.99103175 | V27: =V$6*(-$O27*V$3+$P27*V$2)+V$5 -> 0.78348265 | X27: =Y$6*($O27*Y$2+$P27*Y$3)+X$5 -> 1.25 | Y27: =Y$6*(-$O27*Y$3+$P27*Y$2)+Y$5 -> 0.183 | AA27: =AB$6*($O27*AB$2+$P27*AB$3)+AA$5 -> 1.1740318 | AB27: =AB$6*(-$O27*AB$3+$P27*AB$2)+AB$5 -> -0.46651735 | AD27: =AE$6*($O27*AE$2+$P27*AE$3)+AD$5 -> 0.78348265 | AE27: =AE$6*(-$O27*AE$3+$P27*AE$2)+AE$5 -> -0.99103175 | AG27: =AH$6*($O27*AH$2+$P27*AH$3)+AG$5 -> 0.183 | AH27: =AH$6*(-$O27*AH$3+$P27*AH$2)+AH$5 -> -1.25
A28: =A26+10 -> 130 | B28: =B$4*SIN(RADIANS(A28)) -> 7.6604444 | E28: =C$4*SIN(RADIANS(A28)) -> 1.5320889 | F28: =B28 -> 7.6604444 | O28: =-O13 -> -0.107 | P28: 0.1 | R28: =S$6*($O28*S$2+$P28*S$3)+R$5 -> 0.56100292 | S28: =S$6*(-$O28*S$3+$P28*S$2)+S$5 -> 1.2926856 | U28: =V$6*($O28*V$2+$P28*V$3)+U$5 -> 1.1321856 | V28: =V$6*(-$O28*V$3+$P28*V$2)+V$5 -> 0.83899708 | X28: =Y$6*($O28*Y$2+$P28*Y$3)+X$5 -> 1.4 | Y28: =Y$6*(-$O28*Y$3+$P28*Y$2)+Y$5 -> 0.1605 | AA28: =AB$6*($O28*AB$2+$P28*AB$3)+AA$5 -> 1.2926856 | AB28: =AB$6*(-$O28*AB$3+$P28*AB$2)+AB$5 -> -0.56100292 | AD28: =AE$6*($O28*AE$2+$P28*AE$3)+AD$5 -> 0.83899708 | AE28: =AE$6*(-$O28*AE$3+$P28*AE$2)+AE$5 -> -1.1321856 | AG28: =AH$6*($O28*AH$2+$P28*AH$3)+AG$5 -> 0.1605 | AH28: =AH$6*(-$O28*AH$3+$P28*AH$2)+AH$5 -> -1.4
B29: =B$4*COS(RADIANS(A28)) -> -6.4278761 | E29: =C$4*COS(RADIANS(A28)) -> -1.2855752 | F29: =B29 -> -6.4278761 | H29: VMG DN | I29: =I12 -> 6 | J29: 3.8280001 | K29: 103.65 | L29: =J29*SIN(RADIANS(K29)) -> 3.7198798 | M29: =J29*COS(RADIANS(K29)) -> -0.90337068 | O29: =-O12 -> -0.086 | P29: 0.2 | R29: =S$6*($O29*S$2+$P29*S$3)+R$5 -> 0.66328272 | S29: =S$6*(-$O29*S$3+$P29*S$2)+S$5 -> 1.4068394 | U29: =V$6*($O29*V$2+$P29*V$3)+U$5 -> 1.2778394 | V29: =V$6*(-$O29*V$3+$P29*V$2)+V$5 -> 0.88671728 | X29: =Y$6*($O29*Y$2+$P29*Y$3)+X$5 -> 1.55 | Y29: =Y$6*(-$O29*Y$3+$P29*Y$2)+Y$5 -> 0.129 | AA29: =AB$6*($O29*AB$2+$P29*AB$3)+AA$5 -> 1.4068394 | AB29: =AB$6*(-$O29*AB$3+$P29*AB$2)+AB$5 -> -0.66328272 | AD29: =AE$6*($O29*AE$2+$P29*AE$3)+AD$5 -> 0.88671728 | AE29: =AE$6*(-$O29*AE$3+$P29*AE$2)+AE$5 -> -1.2778394 | AG29: =AH$6*($O29*AH$2+$P29*AH$3)+AG$5 -> 0.129 | AH29: =AH$6*(-$O29*AH$3+$P29*AH$2)+AH$5 -> -1.55
A30: =A28+10 -> 140 | B30: =B$4*SIN(RADIANS(A30)) -> 6.4278761 | E30: =C$4*SIN(RADIANS(A30)) -> 1.2855752 | F30: =B30 -> 6.4278761 | I30: =I13 -> 8 | J30: 4.744 | K30: 113.46 | L30: =J30*SIN(RADIANS(K30)) -> 4.3518526 | M30: =J30*COS(RADIANS(K30)) -> -1.8886278 | O30: =-O11 -> -0.058 | P30: 0.3 | R30: =S$6*($O30*S$2+$P30*S$3)+R$5 -> 0.77465579 | S30: =S$6*(-$O30*S$3+$P30*S$2)+S$5 -> 1.5157432 | U30: =V$6*($O30*V$2+$P30*V$3)+U$5 -> 1.4287432 | V30: =V$6*(-$O30*V$3+$P30*V$2)+V$5 -> 0.92534421 | X30: =Y$6*($O30*Y$2+$P30*Y$3)+X$5 -> 1.7 | Y30: =Y$6*(-$O30*Y$3+$P30*Y$2)+Y$5 -> 0.087 | AA30: =AB$6*($O30*AB$2+$P30*AB$3)+AA$5 -> 1.5157432 | AB30: =AB$6*(-$O30*AB$3+$P30*AB$2)+AB$5 -> -0.77465579 | AD30: =AE$6*($O30*AE$2+$P30*AE$3)+AD$5 -> 0.92534421 | AE30: =AE$6*(-$O30*AE$3+$P30*AE$2)+AE$5 -> -1.4287432 | AG30: =AH$6*($O30*AH$2+$P30*AH$3)+AG$5 -> 0.087 | AH30: =AH$6*(-$O30*AH$3+$P30*AH$2)+AH$5 -> -1.7
B31: =B$4*COS(RADIANS(A30)) -> -7.6604444 | E31: =C$4*COS(RADIANS(A30)) -> -1.5320889 | F31: =B31 -> -7.6604444 | I31: =I14 -> 10 | J31: 5.3649998 | K31: 128.39 | L31: =J31*SIN(RADIANS(K31)) -> 4.2050968 | M31: =J31*COS(RADIANS(K31)) -> -3.3317238 | O31: =-O10 -> -0.029 | P31: 0.4 | R31: =S$6*($O31*S$2+$P31*S$3)+R$5 -> 0.88732789 | S31: =S$6*(-$O31*S$3+$P31*S$2)+S$5 -> 1.623897 | U31: =V$6*($O31*V$2+$P31*V$3)+U$5 -> 1.580397 | V31: =V$6*(-$O31*V$3+$P31*V$2)+V$5 -> 0.96267211 | X31: =Y$6*($O31*Y$2+$P31*Y$3)+X$5 -> 1.85 | Y31: =Y$6*(-$O31*Y$3+$P31*Y$2)+Y$5 -> 0.0435 | AA31: =AB$6*($O31*AB$2+$P31*AB$3)+AA$5 -> 1.623897 | AB31: =AB$6*(-$O31*AB$3+$P31*AB$2)+AB$5 -> -0.88732789 | AD31: =AE$6*($O31*AE$2+$P31*AE$3)+AD$5 -> 0.96267211 | AE31: =AE$6*(-$O31*AE$3+$P31*AE$2)+AE$5 -> -1.580397 | AG31: =AH$6*($O31*AH$2+$P31*AH$3)+AG$5 -> 0.0435 | AH31: =AH$6*(-$O31*AH$3+$P31*AH$2)+AH$5 -> -1.85
A32: =A30+10 -> 150 | B32: =B$4*SIN(RADIANS(A32)) -> 5 | E32: =C$4*SIN(RADIANS(A32)) -> 1 | F32: =B32 -> 5 | I32: =I15 -> 12 | J32: 5.895 | K32: 140.91 | L32: =J32*SIN(RADIANS(K32)) -> 3.7170351 | M32: =J32*COS(RADIANS(K32)) -> -4.5754426 | O32: =-O9 -> 0 | P32: 0.5 | R32: =S$6*($O32*S$2+$P32*S$3)+R$5 -> 1 | S32: =S$6*(-$O32*S$3+$P32*S$2)+S$5 -> 1.7320508 | U32: =V$6*($O32*V$2+$P32*V$3)+U$5 -> 1.7320508 | V32: =V$6*(-$O32*V$3+$P32*V$2)+V$5 -> 1 | X32: =Y$6*($O32*Y$2+$P32*Y$3)+X$5 -> 2 | Y32: =Y$6*(-$O32*Y$3+$P32*Y$2)+Y$5 -> 1.2251485e-16 | AA32: =AB$6*($O32*AB$2+$P32*AB$3)+AA$5 -> 1.7320508 | AB32: =AB$6*(-$O32*AB$3+$P32*AB$2)+AB$5 -> -1 | AD32: =AE$6*($O32*AE$2+$P32*AE$3)+AD$5 -> 1 | AE32: =AE$6*(-$O32*AE$3+$P32*AE$2)+AE$5 -> -1.7320508 | AG32: =AH$6*($O32*AH$2+$P32*AH$3)+AG$5 -> 2.4502969e-16 | AH32: =AH$6*(-$O32*AH$3+$P32*AH$2)+AH$5 -> -2
B33: =B$4*COS(RADIANS(A32)) -> -8.660254 | E33: =C$4*COS(RADIANS(A32)) -> -1.7320508 | F33: =B33 -> -8.660254 | I33: =I16 -> 16 | J33: 6.7880001 | K33: 171.69 | L33: =J33*SIN(RADIANS(K33)) -> 0.98106193 | M33: =J33*COS(RADIANS(K33)) -> -6.7167301
A34: =A32+10 -> 160 | B34: =B$4*SIN(RADIANS(A34)) -> 3.4202014 | E34: =C$4*SIN(RADIANS(A34)) -> 0.68404029 | F34: =B34 -> 3.4202014 | I34: =I17 -> 20 | J34: 7.4910002 | K34: 177.32001 | L34: =J34*SIN(RADIANS(K34)) -> 0.3502615 | M34: =J34*COS(RADIANS(K34)) -> -7.482807
B35: =B$4*COS(RADIANS(A34)) -> -9.3969262 | E35: =C$4*COS(RADIANS(A34)) -> -1.8793852 | F35: =B35 -> -9.3969262 | I35: =I18 -> 24 | J35: 8.0080004 | K35: 178.03 | L35: =J35*SIN(RADIANS(K35)) -> 0.27528489 | M35: =J35*COS(RADIANS(K35)) -> -8.0032673
A36: =A34+10 -> 170 | B36: =B$4*SIN(RADIANS(A36)) -> 1.7364818 | E36: =C$4*SIN(RADIANS(A36)) -> 0.34729636 | F36: =B36 -> 1.7364818
B37: =B$4*COS(RADIANS(A36)) -> -9.8480775 | E37: =C$4*COS(RADIANS(A36)) -> -1.9696155 | F37: =B37 -> -9.8480775
A41: PLOT CONTOURS
B42: 30 | C42: =B42+5 -> 35 | D42: =C42+5 -> 40 | E42: =D42+5 -> 45 | F42: =E42+5 -> 50 | G42: =F42+5 -> 55 | H42: =G42+5 -> 60 | I42: =H42+5 -> 65 | J42: =I42+5 -> 70 | ... AF42: =AE42+5 -> 180
B43: =SIN(RADIANS(B42)) -> 0.5 | C43: =SIN(RADIANS(C42)) -> 0.57357644 | D43: =SIN(RADIANS(D42)) -> 0.64278761 | E43: =SIN(RADIANS(E42)) -> 0.70710678 | F43: =SIN(RADIANS(F42)) -> 0.76604444 | G43: =SIN(RADIANS(G42)) -> 0.81915204 | H43: =SIN(RADIANS(H42)) -> 0.8660254 | I43: =SIN(RADIANS(I42)) -> 0.90630779 | ... AF43: =SIN(RADIANS(AF42)) -> 1.2251485e-16
A44: 3 | B44: =COS(RADIANS(B42)) -> 0.8660254 | C44: =COS(RADIANS(C42)) -> 0.81915204 | D44: =COS(RADIANS(D42)) -> 0.76604444 | E44: =COS(RADIANS(E42)) -> 0.70710678 | F44: =COS(RADIANS(F42)) -> 0.64278761 | G44: =COS(RADIANS(G42)) -> 0.57357644 | H44: =COS(RADIANS(H42)) -> 0.5 | I44: =COS(RADIANS(I42)) -> 0.42261826 | ... AF44: =COS(RADIANS(AF42)) -> -1
A46: 2 | B46: 0.99999968 | C46: 1.1471525 | D46: 1.2855748 | E46: 1.4142132 | F46: 1.5320885 | G46: 1.6383037 | H46: 1.7320504 | I46: 1.8126152 | J46: 1.8793849 | K46: 1.9318514 | L46: 1.9696153 | M46: 1.9923893 | N46: 2 | O46: 1.9923895 | P46: 1.9696157 | Q46: 1.931852 | R46: 1.8793857 | S46: 1.8126162 | T46: 1.7320516 | U46: 1.638305 | V46: 1.5320899 | W46: =$A46*W$43 -> 1.4142136 | X46: =$A46*X$43 -> 1.2855752 | Y46: =$A46*Y$43 -> 1.1471529 | Z46: =$A46*Z$43 -> 1 | AA46: =$A46*AA$43 -> 0.84523652 | AB46: =$A46*AB$43 -> 0.68404029 | AC46: =$A46*AC$43 -> 0.51763809 | AD46: =$A46*AD$43 -> 0.34729636 | ... AF46: =$A46*AF$43 -> 2.4502969e-16
B47: 1.732051 | C47: 1.6383043 | D47: 1.5320892 | E47: 1.414214 | F47: 1.2855757 | G47: 1.1471534 | H47: 1.0000006 | I47: 0.84523726 | J47: 0.68404111 | K47: 0.51763899 | L47: 0.34729734 | M47: 0.17431254 | N47: 1.1233206e-06 | O47: -0.1743103 | P47: -0.34729513 | Q47: -0.51763682 | R47: -0.684039 | S47: -0.84523522 | T47: -0.9999987 | U47: -1.1471516 | V47: -1.285574 | W47: =$A46*W$44 -> -1.4142136 | X47: =$A46*X$44 -> -1.5320889 | Y47: =$A46*Y$44 -> -1.6383041 | Z47: =$A46*Z$44 -> -1.7320508 | AA47: =$A46*AA$44 -> -1.8126156 | AB47: =$A46*AB$44 -> -1.8793852 | AC47: =$A46*AC$44 -> -1.9318517 | AD47: =$A46*AD$44 -> -1.9696155 | ... AF47: =$A46*AF$44 -> -2
A48: 3 | B48: 1.4999995 | C48: 1.7207288 | D48: 1.9283623 | E48: 2.1213197 | F48: 2.2981327 | G48: 2.4574555 | H48: 2.5980756 | I48: 2.7189228 | J48: 2.8190774 | K48: 2.8977771 | L48: 2.954423 | M48: 2.988584 | N48: 3 | O48: 2.9885842 | P48: 2.9544236 | Q48: 2.897778 | R48: 2.8190786 | S48: 2.7189243 | T48: 2.5980773 | U48: 2.4574575 | V48: 2.2981349 | W48: =$A48*W$43 -> 2.1213203 | X48: =$A48*X$43 -> 1.9283628 | Y48: =$A48*Y$43 -> 1.7207293 | Z48: =$A48*Z$43 -> 1.5 | AA48: =$A48*AA$43 -> 1.2678548 | AB48: =$A48*AB$43 -> 1.0260604 | AC48: =$A48*AC$43 -> 0.77645714 | AD48: =$A48*AD$43 -> 0.52094453 | ... AF48: =$A48*AF$43 -> 3.6754454e-16
B49: 2.5980765 | C49: 2.4574565 | D49: 2.2981338 | E49: 2.1213209 | F49: 1.9283635 | G49: 1.7207302 | H49: 1.500001 | I49: 1.2678559 | J49: 1.0260617 | K49: 0.77645849 | L49: 0.52094601 | M49: 0.26146881 | N49: 1.6849808e-06 | O49: -0.26146546 | P49: -0.52094269 | Q49: -0.77645524 | R49: -1.0260585 | S49: -1.2678528 | T49: -1.4999981 | U49: -1.7207274 | V49: -1.928361 | W49: =$A48*W$44 -> -2.1213203 | X49: =$A48*X$44 -> -2.2981333 | Y49: =$A48*Y$44 -> -2.4574561 | Z49: =$A48*Z$44 -> -2.5980762 | AA49: =$A48*AA$44 -> -2.7189234 | AB49: =$A48*AB$44 -> -2.8190779 | AC49: =$A48*AC$44 -> -2.8977775 | AD49: =$A48*AD$44 -> -2.9544233 | ... AF49: =$A48*AF$44 -> -3
A50: 4 | B50: 1.9999994 | C50: 2.294305 | D50: 2.5711497 | E50: 2.8284263 | F50: 3.064177 | G50: 3.2766074 | H50: 3.4641009 | I50: 3.6252305 | J50: 3.7587699 | K50: 3.8637028 | L50: 3.9392307 | M50: 3.9847786 | N50: 4 | O50: 3.984779 | P50: 3.9392314 | Q50: 3.863704 | R50: 3.7587714 | S50: 3.6252324 | T50: 3.4641031 | U50: 3.27661 | V50: 3.0641799 | W50: =$A50*W$43 -> 2.8284271 | X50: =$A50*X$43 -> 2.5711504 | Y50: =$A50*Y$43 -> 2.2943057 | Z50: =$A50*Z$43 -> 2 | AA50: =$A50*AA$43 -> 1.690473 | AB50: =$A50*AB$43 -> 1.3680806 | AC50: =$A50*AC$43 -> 1.0352762 | AD50: =$A50*AD$43 -> 0.69459271 | ... AF50: =$A50*AF$43 -> 4.9005938e-16
B51: 3.464102 | C51: 3.2766087 | D51: 3.0641784 | E51: 2.8284279 | F51: 2.5711514 | G51: 2.2943069 | H51: 2.0000013 | I51: 1.6904745 | J51: 1.3680822 | K51: 1.035278 | L51: 0.69459468 | M51: 0.34862508 | N51: 2.2466411e-06 | O51: -0.34862061 | P51: -0.69459025 | Q51: -1.0352736 | R51: -1.368078 | S51: -1.6904704 | T51: -1.9999974 | U51: -2.2943032 | V51: -2.571148 | W51: =$A50*W$44 -> -2.8284271 | X51: =$A50*X$44 -> -3.0641778 | Y51: =$A50*Y$44 -> -3.2766082 | Z51: =$A50*Z$44 -> -3.4641016 | AA51: =$A50*AA$44 -> -3.6252311 | AB51: =$A50*AB$44 -> -3.7587705 | AC51: =$A50*AC$44 -> -3.8637033 | AD51: =$A50*AD$44 -> -3.939231 | ... AF51: =$A50*AF$44 -> -4
A52: 5 | B52: 2.4999992 | C52: 2.8678813 | D52: 3.2139371 | E52: 3.5355329 | F52: 3.8302212 | G52: 4.0957592 | H52: 4.3301261 | I52: 4.5315381 | J52: 4.6984624 | K52: 4.8296285 | L52: 4.9240383 | M52: 4.9809733 | N52: 5 | O52: 4.9809737 | P52: 4.9240393 | Q52: 4.82963 | R52: 4.6984643 | S52: 4.5315405 | T52: 4.3301289 | U52: 4.0957625 | V52: 3.8302248 | W52: =$A52*W$43 -> 3.5355339 | X52: =$A52*X$43 -> 3.213938 | Y52: =$A52*Y$43 -> 2.8678822 | Z52: =$A52*Z$43 -> 2.5 | AA52: =$A52*AA$43 -> 2.1130913 | AB52: =$A52*AB$43 -> 1.7101007 | AC52: =$A52*AC$43 -> 1.2940952 | AD52: =$A52*AD$43 -> 0.86824089 | ... AF52: =$A52*AF$43 -> 6.1257423e-16
B53: 4.3301275 | C53: 4.0957608 | D53: 3.830223 | E53: 3.5355349 | F53: 3.2139392 | G53: 2.8678836 | H53: 2.5000016 | I53: 2.1130931 | J53: 1.7101028 | K53: 1.2940975 | L53: 0.86824335 | M53: 0.43578136 | N53: 2.8083014e-06 | O53: -0.43577576 | P53: -0.86823782 | Q53: -1.2940921 | R53: -1.7100975 | S53: -2.1130881 | T53: -2.4999968 | U53: -2.867879 | V53: -3.2139349 | W53: =$A52*W$44 -> -3.5355339 | X53: =$A52*X$44 -> -3.8302222 | Y53: =$A52*Y$44 -> -4.0957602 | Z53: =$A52*Z$44 -> -4.330127 | AA53: =$A52*AA$44 -> -4.5315389 | AB53: =$A52*AB$44 -> -4.6984631 | AC53: =$A52*AC$44 -> -4.8296291 | AD53: =$A52*AD$44 -> -4.9240388 | ... AF53: =$A52*AF$44 -> -5
A54: 6 | B54: 2.999999 | C54: 3.4414575 | D54: 3.8567245 | E54: 4.2426395 | F54: 4.5962655 | G54: 4.9149111 | H54: 5.1961513 | I54: 5.4378457 | J54: 5.6381548 | K54: 5.7955542 | L54: 5.908846 | M54: 5.9771679 | N54: 6 | O54: 5.9771685 | P54: 5.9088472 | Q54: 5.795556 | R54: 5.6381571 | S54: 5.4378485 | T54: 5.1961547 | U54: 4.914915 | V54: 4.5962698 | W54: =$A54*W$43 -> 4.2426407 | X54: =$A54*X$43 -> 3.8567257 | Y54: =$A54*Y$43 -> 3.4414586 | Z54: =$A54*Z$43 -> 3 | AA54: =$A54*AA$43 -> 2.5357096 | AB54: =$A54*AB$43 -> 2.0521209 | AC54: =$A54*AC$43 -> 1.5529143 | AD54: =$A54*AD$43 -> 1.0418891 | ... AF54: =$A54*AF$43 -> 7.3508907e-16
B55: 5.196153 | C55: 4.914913 | D55: 4.5962676 | E55: 4.2426419 | F55: 3.8567271 | G55: 3.4414603 | H55: 3.0000019 | I55: 2.5357118 | J55: 2.0521233 | K55: 1.552917 | L55: 1.041892 | M55: 0.52293763 | N55: 3.3699617e-06 | O55: -0.52293091 | P55: -1.0418854 | Q55: -1.5529105 | R55: -2.052117 | S55: -2.5357057 | T55: -2.9999961 | U55: -3.4414548 | V55: -3.8567219 | W55: =$A54*W$44 -> -4.2426407 | X55: =$A54*X$44 -> -4.5962667 | Y55: =$A54*Y$44 -> -4.9149123 | Z55: =$A54*Z$44 -> -5.1961524 | AA55: =$A54*AA$44 -> -5.4378467 | AB55: =$A54*AB$44 -> -5.6381557 | AC55: =$A54*AC$44 -> -5.795555 | AD55: =$A54*AD$44 -> -5.9088465 | ... AF55: =$A54*AF$44 -> -6
A56: 7 | B56: 3.4999989 | C56: 4.0150338 | D56: 4.4995119 | E56: 4.9497461 | F56: 5.3623097 | G56: 5.7340629 | H56: 6.0621765 | I56: 6.3441533 | J56: 6.5778473 | K56: 6.7614799 | L56: 6.8936537 | M56: 6.9733626 | N56: 7 | O56: 6.9733632 | P56: 6.893655 | Q56: 6.761482 | R56: 6.57785 | S56: 6.3441566 | T56: 6.0621804 | U56: 5.7340674 | V56: 5.3623148 | W56: =$A56*W$43 -> 4.9497475 | X56: =$A56*X$43 -> 4.4995133 | Y56: =$A56*Y$43 -> 4.0150351 | Z56: =$A56*Z$43 -> 3.5 | AA56: =$A56*AA$43 -> 2.9583278 | AB56: =$A56*AB$43 -> 2.394141 | AC56: =$A56*AC$43 -> 1.8117333 | AD56: =$A56*AD$43 -> 1.2155372 | ... AF56: =$A56*AF$43 -> 8.5760392e-16
B57: 6.0621785 | C57: 5.7340652 | D57: 5.3623122 | E57: 4.9497489 | F57: 4.4995149 | G57: 4.015037 | H57: 3.5000023 | I57: 2.9583304 | J57: 2.3941439 | K57: 1.8117365 | L57: 1.2155407 | M57: 0.6100939 | N57: 3.931622e-06 | O57: -0.61008606 | P57: -1.2155329 | Q57: -1.8117289 | R57: -2.3941365 | S57: -2.9583233 | T57: -3.4999955 | U57: -4.0150306 | V57: -4.4995089 | W57: =$A56*W$44 -> -4.9497475 | X57: =$A56*X$44 -> -5.3623111 | Y57: =$A56*Y$44 -> -5.7340643 | Z57: =$A56*Z$44 -> -6.0621778 | AA57: =$A56*AA$44 -> -6.3441545 | AB57: =$A56*AB$44 -> -6.5778483 | AC57: =$A56*AC$44 -> -6.7614808 | AD57: =$A56*AD$44 -> -6.8936543 | ... AF57: =$A56*AF$44 -> -7
A58: 8 | B58: 3.9999987 | C58: 4.5886101 | D58: 5.1422993 | E58: 5.6568527 | F58: 6.1283539 | G58: 6.5532148 | H58: 6.9282017 | I58: 7.2504609 | J58: 7.5175398 | K58: 7.7274056 | L58: 7.8784613 | M58: 7.9695572 | N58: 8 | O58: 7.969558 | P58: 7.8784629 | Q58: 7.727408 | R58: 7.5175428 | S58: 7.2504647 | T58: 6.9282062 | U58: 6.5532199 | V58: 6.1283597 | W58: =$A58*W$43 -> 5.6568542 | X58: =$A58*X$43 -> 5.1423009 | Y58: =$A58*Y$43 -> 4.5886115 | Z58: =$A58*Z$43 -> 4 | AA58: =$A58*AA$43 -> 3.3809461 | AB58: =$A58*AB$43 -> 2.7361611 | AC58: =$A58*AC$43 -> 2.0705524 | AD58: =$A58*AD$43 -> 1.3891854 | ... AF58: =$A58*AF$43 -> 9.8011876e-16
B59: 6.928204 | C59: 6.5532174 | D59: 6.1283568 | E59: 5.6568558 | F59: 5.1423028 | G59: 4.5886137 | H59: 4.0000026 | I59: 3.380949 | J59: 2.7361644 | K59: 2.070556 | L59: 1.3891894 | M59: 0.69725017 | N59: 4.4932822e-06 | O59: -0.69724122 | P59: -1.3891805 | Q59: -2.0705473 | R59: -2.736156 | S59: -3.3809409 | T59: -3.9999948 | U59: -4.5886064 | V59: -5.1422959 | W59: =$A58*W$44 -> -5.6568542 | X59: =$A58*X$44 -> -6.1283555 | Y59: =$A58*Y$44 -> -6.5532164 | Z59: =$A58*Z$44 -> -6.9282032 | AA59: =$A58*AA$44 -> -7.2504623 | AB59: =$A58*AB$44 -> -7.517541 | AC59: =$A58*AC$44 -> -7.7274066 | AD59: =$A58*AD$44 -> -7.878462 | ... AF59: =$A58*AF$44 -> -8
A60: 9 | B60: 4.4999985 | C60: 5.1621863 | D60: 5.7850868 | E60: 6.3639592 | F60: 6.8943982 | G60: 7.3723666 | H60: 7.7942269 | I60: 8.1567685 | J60: 8.4572322 | K60: 8.6933313 | L60: 8.863269 | M60: 8.9657519 | N60: 9 | O60: 8.9657527 | P60: 8.8632708 | Q60: 8.693334 | R60: 8.4572357 | S60: 8.1567728 | T60: 7.794232 | U60: 7.3723724 | V60: 6.8944047 | W60: =$A60*W$43 -> 6.363961 | X60: =$A60*X$43 -> 5.7850885 | Y60: =$A60*Y$43 -> 5.1621879 | Z60: =$A60*Z$43 -> 4.5 | AA60: =$A60*AA$43 -> 3.8035644 | AB60: =$A60*AB$43 -> 3.0781813 | AC60: =$A60*AC$43 -> 2.3293714 | AD60: =$A60*AD$43 -> 1.5628336 | ... AF60: =$A60*AF$43 -> 1.1026336e-15
B61: 7.7942295 | C61: 7.3723695 | D61: 6.8944014 | E61: 6.3639628 | F61: 5.7850906 | G61: 5.1621905 | H61: 4.5000029 | I61: 3.8035677 | J61: 3.078185 | K61: 2.3293755 | L61: 1.562838 | M61: 0.78440644 | N61: 5.0549425e-06 | O61: -0.78439637 | P61: -1.5628281 | Q61: -2.3293657 | R61: -3.0781755 | S61: -3.8035585 | T61: -4.4999942 | U61: -5.1621822 | V61: -5.7850829 | W61: =$A60*W$44 -> -6.363961 | X61: =$A60*X$44 -> -6.8944 | Y61: =$A60*Y$44 -> -7.3723684 | Z61: =$A60*Z$44 -> -7.7942286 | AA61: =$A60*AA$44 -> -8.1567701 | AB61: =$A60*AB$44 -> -8.4572336 | AC61: =$A60*AC$44 -> -8.6933324 | AD61: =$A60*AD$44 -> -8.8632698 | ... AF61: =$A60*AF$44 -> -9
A62: 10 | B62: 4.9999984 | C62: 5.7357626 | D62: 6.4278742 | E62: 7.0710658 | F62: 7.6604424 | G62: 8.1915185 | H62: 8.6602522 | I62: 9.0630762 | J62: 9.3969247 | K62: 9.6592571 | L62: 9.8480767 | M62: 9.9619465 | N62: 10 | O62: 9.9619475 | P62: 9.8480786 | Q62: 9.65926 | R62: 9.3969286 | S62: 9.0630809 | T62: 8.6602578 | U62: 8.1915249 | V62: 7.6604496 | W62: =$A62*W$43 -> 7.0710678 | X62: =$A62*X$43 -> 6.4278761 | Y62: =$A62*Y$43 -> 5.7357644 | Z62: =$A62*Z$43 -> 5 | AA62: =$A62*AA$43 -> 4.2261826 | AB62: =$A62*AB$43 -> 3.4202014 | AC62: =$A62*AC$43 -> 2.5881905 | AD62: =$A62*AD$43 -> 1.7364818 | ... AF62: =$A62*AF$43 -> 1.2251485e-15
B63: 8.660255 | C63: 8.1915217 | D63: 7.660446 | E63: 7.0710698 | F63: 6.4278785 | G63: 5.7357672 | H63: 5.0000032 | I63: 4.2261863 | J63: 3.4202055 | K63: 2.588195 | L63: 1.7364867 | M63: 0.87156271 | N63: 5.6166028e-06 | O63: -0.87155152 | P63: -1.7364756 | Q63: -2.5881841 | R63: -3.420195 | S63: -4.2261761 | T63: -4.9999935 | U63: -5.735758 | V63: -6.4278699 | W63: =$A62*W$44 -> -7.0710678 | X63: =$A62*X$44 -> -7.6604444 | Y63: =$A62*Y$44 -> -8.1915204 | Z63: =$A62*Z$44 -> -8.660254 | AA63: =$A62*AA$44 -> -9.0630779 | AB63: =$A62*AB$44 -> -9.3969262 | AC63: =$A62*AC$44 -> -9.6592583 | AD63: =$A62*AD$44 -> -9.8480775 | ... AF63: =$A62*AF$44 -> -10
A64: 20 | B64: 9.9999968 | C64: 11.471525 | D64: 12.855748 | E64: 14.142132 | F64: 15.320885 | G64: 16.383037 | H64: 17.320504 | I64: 18.126152 | J64: 18.793849 | K64: 19.318514 | L64: 19.696153 | M64: 19.923893 | N64: 20 | O64: 19.923895 | P64: 19.696157 | Q64: 19.31852 | R64: 18.793857 | S64: 18.126162 | T64: 17.320516 | U64: 16.38305 | V64: 15.320899 | W64: =$A64*W$43 -> 14.142136 | X64: =$A64*X$43 -> 12.855752 | Y64: =$A64*Y$43 -> 11.471529 | Z64: =$A64*Z$43 -> 10 | AA64: =$A64*AA$43 -> 8.4523652 | AB64: =$A64*AB$43 -> 6.8404029 | AC64: =$A64*AC$43 -> 5.1763809 | AD64: =$A64*AD$43 -> 3.4729636 | ... AF64: =$A64*AF$43 -> 2.4502969e-15
B65: 17.32051 | C65: 16.383043 | D65: 15.320892 | E65: 14.14214 | F65: 12.855757 | G65: 11.471534 | H65: 10.000006 | I65: 8.4523726 | J65: 6.8404111 | K65: 5.1763899 | L65: 3.4729734 | M65: 1.7431254 | N65: 1.1233206e-05 | O65: -1.743103 | P65: -3.4729513 | Q65: -5.1763682 | R65: -6.84039 | S65: -8.4523522 | T65: -9.999987 | U65: -11.471516 | V65: -12.85574 | W65: =$A64*W$44 -> -14.142136 | X65: =$A64*X$44 -> -15.320889 | Y65: =$A64*Y$44 -> -16.383041 | Z65: =$A64*Z$44 -> -17.320508 | AA65: =$A64*AA$44 -> -18.126156 | AB65: =$A64*AB$44 -> -18.793852 | AC65: =$A64*AC$44 -> -19.318517 | AD65: =$A64*AD$44 -> -19.696155 | ... AF65: =$A64*AF$44 -> -20
A66: 22 | B66: 10.999996 | C66: 12.618678 | D66: 14.141323 | E66: 15.556345 | F66: 16.852973 | G66: 18.021341 | H66: 19.052555 | I66: 19.938768 | J66: 20.673234 | K66: 21.250366 | L66: 21.665769 | M66: 21.916282 | N66: 22 | O66: 21.916284 | P66: 21.665773 | Q66: 21.250372 | R66: 20.673243 | S66: 19.938778 | T66: 19.052567 | U66: 18.021355 | V66: 16.852989 | W66: =$A66*W$43 -> 15.556349 | X66: =$A66*X$43 -> 14.141327 | Y66: =$A66*Y$43 -> 12.618682 | Z66: =$A66*Z$43 -> 11 | AA66: =$A66*AA$43 -> 9.2976018 | AB66: =$A66*AB$43 -> 7.5244432 | AC66: =$A66*AC$43 -> 5.694019 | AD66: =$A66*AD$43 -> 3.8202599 | ... AF66: =$A66*AF$43 -> 2.6953266e-15
B67: 19.052561 | C67: 18.021348 | D67: 16.852981 | E67: 15.556354 | F67: 14.141333 | G67: 12.618688 | H67: 11.000007 | I67: 9.2976098 | J67: 7.5244522 | K67: 5.6940289 | L67: 3.8202707 | M67: 1.917438 | N67: 1.2356526e-05 | O67: -1.9174133 | P67: -3.8202464 | Q67: -5.6940051 | R67: -7.524429 | S67: -9.2975874 | T67: -10.999986 | U67: -12.618668 | V67: -14.141314 | W67: =$A66*W$44 -> -15.556349 | X67: =$A66*X$44 -> -16.852978 | Y67: =$A66*Y$44 -> -18.021345 | Z67: =$A66*Z$44 -> -19.052559 | AA67: =$A66*AA$44 -> -19.938771 | AB67: =$A66*AB$44 -> -20.673238 | AC67: =$A66*AC$44 -> -21.250368 | AD67: =$A66*AD$44 -> -21.665771 | ... AF67: =$A66*AF$44 -> -22
A68: 24 | B68: 11.999996 | C68: 13.76583 | D68: 15.426898 | E68: 16.970558 | F68: 18.385062 | G68: 19.659644 | H68: 20.784605 | I68: 21.751383 | J68: 22.552619 | K68: 23.182217 | L68: 23.635384 | M68: 23.908672 | N68: 24 | O68: 23.908674 | P68: 23.635389 | Q68: 23.182224 | R68: 22.552629 | S68: 21.751394 | T68: 20.784619 | U68: 19.65966 | V68: 18.385079 | W68: =$A68*W$43 -> 16.970563 | X68: =$A68*X$43 -> 15.426903 | Y68: =$A68*Y$43 -> 13.765834 | Z68: =$A68*Z$43 -> 12 | AA68: =$A68*AA$43 -> 10.142838 | AB68: =$A68*AB$43 -> 8.2084834 | AC68: =$A68*AC$43 -> 6.2116571 | AD68: =$A68*AD$43 -> 4.1675563 | ... AF68: =$A68*AF$43 -> 2.9403563e-15
B69: 20.784612 | C69: 19.659652 | D69: 18.38507 | E69: 16.970568 | F69: 15.426908 | G69: 13.765841 | H69: 12.000008 | I69: 10.142847 | J69: 8.2084933 | K69: 6.2116679 | L69: 4.1675681 | M69: 2.0917505 | N69: 1.3479847e-05 | O69: -2.0917237 | P69: -4.1675415 | Q69: -6.2116419 | R69: -8.208468 | S69: -10.142823 | T69: -11.999984 | U69: -13.765819 | V69: -15.426888 | W69: =$A68*W$44 -> -16.970563 | X69: =$A68*X$44 -> -18.385067 | Y69: =$A68*Y$44 -> -19.659649 | Z69: =$A68*Z$44 -> -20.78461 | AA69: =$A68*AA$44 -> -21.751387 | AB69: =$A68*AB$44 -> -22.552623 | AC69: =$A68*AC$44 -> -23.18222 | AD69: =$A68*AD$44 -> -23.635386 | ... AF69: =$A68*AF$44 -> -24
A70: 26 | B70: 12.999996 | C70: 14.912983 | D70: 16.712473 | E70: 18.384771 | F70: 19.91715 | G70: 21.297948 | H70: 22.516656 | I70: 23.563998 | J70: 24.432004 | K70: 25.114068 | L70: 25.604999 | M70: 25.901061 | N70: 26 | O70: 25.901063 | P70: 25.605004 | Q70: 25.114076 | R70: 24.432014 | S70: 23.56401 | T70: 22.51667 | U70: 21.297965 | V70: 19.917169 | W70: =$A70*W$43 -> 18.384776 | X70: =$A70*X$43 -> 16.712478 | Y70: =$A70*Y$43 -> 14.912987 | Z70: =$A70*Z$43 -> 13 | AA70: =$A70*AA$43 -> 10.988075 | AB70: =$A70*AB$43 -> 8.8925237 | AC70: =$A70*AC$43 -> 6.7292952 | AD70: =$A70*AD$43 -> 4.5148526 | ... AF70: =$A70*AF$43 -> 3.185386e-15
B71: 22.516663 | C71: 21.297956 | D71: 19.91716 | E71: 18.384781 | F71: 16.712484 | G71: 14.912995 | H71: 13.000008 | I71: 10.988084 | J71: 8.8925344 | K71: 6.7293069 | L71: 4.5148654 | M71: 2.2660631 | N71: 1.4603167e-05 | O71: -2.266034 | P71: -4.5148366 | Q71: -6.7292787 | R71: -8.892507 | S71: -10.988058 | T71: -12.999983 | U71: -14.912971 | V71: -16.712462 | W71: =$A70*W$44 -> -18.384776 | X71: =$A70*X$44 -> -19.917156 | Y71: =$A70*Y$44 -> -21.297953 | Z71: =$A70*Z$44 -> -22.51666 | AA71: =$A70*AA$44 -> -23.564002 | AB71: =$A70*AB$44 -> -24.432008 | AC71: =$A70*AC$44 -> -25.114071 | AD71: =$A70*AD$44 -> -25.605002 | ... AF71: =$A70*AF$44 -> -26
A72: 15 | B72: 7.4999976 | C72: 8.6036439 | D72: 9.6418113 | E72: 10.606599 | F72: 11.490664 | G72: 12.287278 | H72: 12.990378 | I72: 13.594614 | J72: 14.095387 | K72: 14.488886 | L72: 14.772115 | M72: 14.94292 | N72: 15 | O72: 14.942921 | P72: 14.772118 | Q72: 14.48889 | R72: 14.095393 | S72: 13.594621 | T72: 12.990387 | U72: 12.287287 | V72: 11.490674 | W72: =$A72*W$43 -> 10.606602 | X72: =$A72*X$43 -> 9.6418141 | Y72: =$A72*Y$43 -> 8.6036465 | Z72: =$A72*Z$43 -> 7.5 | AA72: =$A72*AA$43 -> 6.3392739 | AB72: =$A72*AB$43 -> 5.1303021 | AC72: =$A72*AC$43 -> 3.8822857 | AD72: =$A72*AD$43 -> 2.6047227 | ... AF72: =$A72*AF$43 -> 1.8377227e-15
B73: 12.990382 | C73: 12.287283 | D73: 11.490669 | E73: 10.606605 | F73: 9.6418177 | G73: 8.6036508 | H73: 7.5000049 | I73: 6.3392794 | J73: 5.1303083 | K73: 3.8822925 | L73: 2.60473 | M73: 1.3073441 | N73: 8.4249042e-06 | O73: -1.3073273 | P73: -2.6047134 | Q73: -3.8822762 | R73: -5.1302925 | S73: -6.3392642 | T73: -7.4999903 | U73: -8.603637 | V73: -9.6418048 | W73: =$A72*W$44 -> -10.606602 | X73: =$A72*X$44 -> -11.490667 | Y73: =$A72*Y$44 -> -12.287281 | Z73: =$A72*Z$44 -> -12.990381 | AA73: =$A72*AA$44 -> -13.594617 | AB73: =$A72*AB$44 -> -14.095389 | AC73: =$A72*AC$44 -> -14.488887 | AD73: =$A72*AD$44 -> -14.772116 | ... AF73: =$A72*AF$44 -> -15
A74: 16 | B74: 7.9999974 | C74: 9.1772201 | D74: 10.284599 | E74: 11.313705 | F74: 12.256708 | G74: 13.10643 | H74: 13.856403 | I74: 14.500922 | J74: 15.03508 | K74: 15.454811 | L74: 15.756923 | M74: 15.939114 | N74: 16 | O74: 15.939116 | P74: 15.756926 | Q74: 15.454816 | R74: 15.035086 | S74: 14.500929 | T74: 13.856412 | U74: 13.10644 | V74: 12.256719 | W74: =$A74*W$43 -> 11.313708 | X74: =$A74*X$43 -> 10.284602 | Y74: =$A74*Y$43 -> 9.177223 | Z74: =$A74*Z$43 -> 8 | AA74: =$A74*AA$43 -> 6.7618922 | AB74: =$A74*AB$43 -> 5.4723223 | AC74: =$A74*AC$43 -> 4.1411047 | AD74: =$A74*AD$43 -> 2.7783708 | ... AF74: =$A74*AF$43 -> 1.9602375e-15
B75: 13.856408 | C75: 13.106435 | D75: 12.256714 | E75: 11.313712 | F75: 10.284606 | G75: 9.1772275 | H75: 8.0000052 | I75: 6.7618981 | J75: 5.4723289 | K75: 4.141112 | L75: 2.7783787 | M75: 1.3945003 | N75: 8.9865645e-06 | O75: -1.3944824 | P75: -2.778361 | Q75: -4.1410946 | R75: -5.472312 | S75: -6.7618818 | T75: -7.9999896 | U75: -9.1772128 | V75: -10.284592 | W75: =$A74*W$44 -> -11.313708 | X75: =$A74*X$44 -> -12.256711 | Y75: =$A74*Y$44 -> -13.106433 | Z75: =$A74*Z$44 -> -13.856406 | AA75: =$A74*AA$44 -> -14.500925 | AB75: =$A74*AB$44 -> -15.035082 | AC75: =$A74*AC$44 -> -15.454813 | AD75: =$A74*AD$44 -> -15.756924 | ... AF75: =$A74*AF$44 -> -16

Sheet Deckman
B1: v1 | C1: a1 | D1: v2 | E1: a2 | F1: v3 | G1: a3 | H1: v4 | I1: a4 | J1: v5 | K1: a5 | L1: v6 | M1: a6 | N1: v7 | O1: a7 | P1: v8 | Q1: a8
A3: 6 | B3: 4.0840001 | C3: 50.599998 | D3: 4.7189999 | E3: 60 | F3: 5.1360002 | G3: 70 | H3: 5.6500001 | I3: 90 | J3: 5.4530001 | K3: 110 | L3: 5.1170001 | M3: 120 | N3: 3.8280001 | O3: 142.60001 | P3: 2.8069999 | Q3: 180
A4: 8 | B4: 5.0580001 | C4: 49.599998 | D4: 5.1009998 | E4: 50 | F4: 6.2199998 | G4: 70 | H4: 6.7080002 | I4: 90 | J4: 6.539 | K4: 110 | L4: 6.1950002 | M4: 120 | N4: 4.744 | O4: 146.89999 | P4: 3.7520001 | Q4: 180
A5: 10 | B5: 5.4660001 | C5: 46.599998 | D5: 5.7789998 | E5: 50 | F5: 6.8990002 | G5: 70 | H5: 7.2360001 | I5: 90 | J5: 7.138 | K5: 110 | L5: 6.3150001 | M5: 135 | N5: 5.3649998 | O5: 153.60001 | P5: 4.645 | Q5: 180
A6: 12 | B6: 6.0339999 | C6: 47.400002 | D6: 6.3140001 | E6: 50 | F6: 7.2150002 | G6: 70 | H6: 7.5890002 | I6: 90 | J6: 7.5170002 | K6: 110 | L6: 6.948 | M6: 135 | N6: 5.895 | O6: 159.2 | P6: 5.4569998 | Q6: 180
A7: 16 | B7: 6.4720001 | C7: 45.099998 | D7: 6.8709998 | E7: 50 | F7: 7.552 | G7: 70 | H7: 7.9710002 | I7: 90 | J7: 8.085 | K7: 110 | L7: 7.6620002 | M7: 135 | N7: 6.7880001 | O7: 175.2 | P7: 6.7579999 | Q7: 180
A8: 20 | B8: 6.6069999 | C8: 43.799999 | D8: 7.059 | E8: 50 | F8: 7.7160001 | G8: 70 | H8: 8.1619997 | I8: 90 | J8: 8.5080004 | K8: 110 | L8: 8.1949997 | M8: 135 | N8: 7.4910002 | O8: 178.3 | P8: 7.4860001 | Q8: 180
A9: 24 | B9: 6.652 | C9: 44 | D9: 7.0939999 | E9: 50 | F9: 7.7800002 | G9: 70 | H9: 8.2659998 | I9: 90 | J9: 8.6680002 | K9: 110 | L9: 8.6780005 | M9: 135 | N9: 8.0080004 | O9: 178.7 | P9: 8.0050001 | Q9: 180

Sheet Deckman MH
B1: v1 | C1: a1 | D1: v2 | E1: a2 | F1: v3 | G1: a3 | H1: v4 | I1: a4 | J1: v5 | K1: a5 | L1: v6 | M1: a6 | N1: v7 | O1: a7 | P1: v8 | Q1: a8
A3: 6.3376913 | B3: =Deckman!B3 -> 4.0840001 | C3: =Deckman!C3 -> 50.599998 | D3: =Deckman!D3 -> 4.7189999 | E3: =Deckman!E3 -> 60 | F3: =Deckman!F3 -> 5.1360002 | G3: =Deckman!G3 -> 70 | H3: =Deckman!H3 -> 5.6500001 | I3: =Deckman!I3 -> 90 | ... Q3: =Deckman!Q3 -> 180
A4: 8.4502554 | B4: =Deckman!B4 -> 5.0580001 | C4: =Deckman!C4 -> 49.599998 | D4: =Deckman!D4 -> 5.1009998 | E4: =Deckman!E4 -> 50 | F4: =Deckman!F4 -> 6.2199998 | G4: =Deckman!G4 -> 70 | H4: =Deckman!H4 -> 6.7080002 | I4: =Deckman!I4 -> 90 | ... Q4: =Deckman!Q4 -> 180
A5: 10.562819 | B5: =Deckman!B5 -> 5.4660001 | C5: =Deckman!C5 -> 46.599998 | D5: =Deckman!D5 -> 5.7789998 | E5: =Deckman!E5 -> 50 | F5: =Deckman!F5 -> 6.8990002 | G5: =Deckman!G5 -> 70 | H5: =Deckman!H5 -> 7.2360001 | I5: =Deckman!I5 -> 90 | ... Q5: =Deckman!Q5 -> 180
A6: 12.675383 | B6: =Deckman!B6 -> 6.0339999 | C6: =Deckman!C6 -> 47.400002 | D6: =Deckman!D6 -> 6.3140001 | E6: =Deckman!E6 -> 50 | F6: =Deckman!F6 -> 7.2150002 | G6: =Deckman!G6 -> 70 | H6: =Deckman!H6 -> 7.5890002 | I6: =Deckman!I6 -> 90 | ... Q6: =Deckman!Q6 -> 180
A7: 16.900511 | B7: =Deckman!B7 -> 6.4720001 | C7: =Deckman!C7 -> 45.099998 | D7: =Deckman!D7 -> 6.8709998 | E7: =Deckman!E7 -> 50 | F7: =Deckman!F7 -> 7.552 | G7: =Deckman!G7 -> 70 | H7: =Deckman!H7 -> 7.9710002 | I7: =Deckman!I7 -> 90 | ... Q7: =Deckman!Q7 -> 180
A8: 21.125639 | B8: =Deckman!B8 -> 6.6069999 | C8: =Deckman!C8 -> 43.799999 | D8: =Deckman!D8 -> 7.059 | E8: =Deckman!E8 -> 50 | F8: =Deckman!F8 -> 7.7160001 | G8: =Deckman!G8 -> 70 | H8: =Deckman!H8 -> 8.1619997 | I8: =Deckman!I8 -> 90 | ... Q8: =Deckman!Q8 -> 180
A9: 25.350765 | B9: =Deckman!B9 -> 6.652 | C9: =Deckman!C9 -> 44 | D9: =Deckman!D9 -> 7.0939999 | E9: =Deckman!E9 -> 50 | F9: =Deckman!F9 -> 7.7800002 | G9: =Deckman!G9 -> 70 | H9: =Deckman!H9 -> 8.2659998 | I9: =Deckman!I9 -> 90 | ... Q9: =Deckman!Q9 -> 180

Sheet Expedition
A1: pol | B1: Twa0 | C1: Bsp0 | D1: UpTwa | E1: UpBsp | F1: Twa2 | G1: Bsp2 | H1: Twa3 | I1: Bsp3 | J1: Twa4 | K1: Bsp4 | L1: Twa5 | M1: Bsp5 | N1: Twa6 | O1: Bsp6 | P1: DnTwa | Q1: DnBsp | R1: Twa7 | S1: Bsp7
A2: =Deckman!A3 -> 6 | B2: 0 | C2: 0 | D2: =Deckman!C3 -> 50.599998 | E2: =Deckman!B3 -> 4.0840001 | F2: =Deckman!E3 -> 60 | G2: =Deckman!D3 -> 4.7189999 | H2: =Deckman!G3 -> 70 | I2: =Deckman!F3 -> 5.1360002 | J2: =Deckman!I3 -> 90 | K2: =Deckman!H3 -> 5.6500001 | L2: =Deckman!K3 -> 110 | M2: =Deckman!J3 -> 5.4530001 | N2: =Deckman!M3 -> 120 | O2: =Deckman!L3 -> 5.1170001 | P2: =Deckman!O3 -> 142.60001 | Q2: =Deckman!N3 -> 3.8280001 | R2: =Deckman!Q3 -> 180 | S2: =Deckman!P3 -> 2.8069999
A3: =Deckman!A4 -> 8 | B3: 0 | C3: 0 | D3: =Deckman!C4 -> 49.599998 | E3: =Deckman!B4 -> 5.0580001 | F3: =Deckman!E4 -> 50 | G3: =Deckman!D4 -> 5.1009998 | H3: =Deckman!G4 -> 70 | I3: =Deckman!F4 -> 6.2199998 | J3: =Deckman!I4 -> 90 | K3: =Deckman!H4 -> 6.7080002 | L3: =Deckman!K4 -> 110 | M3: =Deckman!J4 -> 6.539 | N3: =Deckman!M4 -> 120 | O3: =Deckman!L4 -> 6.1950002 | P3: =Deckman!O4 -> 146.89999 | Q3: =Deckman!N4 -> 4.744 | R3: =Deckman!Q4 -> 180 | S3: =Deckman!P4 -> 3.7520001
A4: =Deckman!A5 -> 10 | B4: 0 | C4: 0 | D4: =Deckman!C5 -> 46.599998 | E4: =Deckman!B5 -> 5.4660001 | F4: =Deckman!E5 -> 50 | G4: =Deckman!D5 -> 5.7789998 | H4: =Deckman!G5 -> 70 | I4: =Deckman!F5 -> 6.8990002 | J4: =Deckman!I5 -> 90 | K4: =Deckman!H5 -> 7.2360001 | L4: =Deckman!K5 -> 110 | M4: =Deckman!J5 -> 7.138 | N4: =Deckman!M5 -> 135 | O4: =Deckman!L5 -> 6.3150001 | P4: =Deckman!O5 -> 153.60001 | Q4: =Deckman!N5 -> 5.3649998 | R4: =Deckman!Q5 -> 180 | S4: =Deckman!P5 -> 4.645
A5: =Deckman!A6 -> 12 | B5: 0 | C5: 0 | D5: =Deckman!C6 -> 47.400002 | E5: =Deckman!B6 -> 6.0339999 | F5: =Deckman!E6 -> 50 | G5: =Deckman!D6 -> 6.3140001 | H5: =Deckman!G6 -> 70 | I5: =Deckman!F6 -> 7.2150002 | J5: =Deckman!I6 -> 90 | K5: =Deckman!H6 -> 7.5890002 | L5: =Deckman!K6 -> 110 | M5: =Deckman!J6 -> 7.5170002 | N5: =Deckman!M6 -> 135 | O5: =Deckman!L6 -> 6.948 | P5: =Deckman!O6 -> 159.2 | Q5: =Deckman!N6 -> 5.895 | R5: =Deckman!Q6 -> 180 | S5: =Deckman!P6 -> 5.4569998
A6: =Deckman!A7 -> 16 | B6: 0 | C6: 0 | D6: =Deckman!C7 -> 45.099998 | E6: =Deckman!B7 -> 6.4720001 | F6: =Deckman!E7 -> 50 | G6: =Deckman!D7 -> 6.8709998 | H6: =Deckman!G7 -> 70 | I6: =Deckman!F7 -> 7.552 | J6: =Deckman!I7 -> 90 | K6: =Deckman!H7 -> 7.9710002 | L6: =Deckman!K7 -> 110 | M6: =Deckman!J7 -> 8.085 | N6: =Deckman!M7 -> 135 | O6: =Deckman!L7 -> 7.6620002 | P6: =Deckman!O7 -> 175.2 | Q6: =Deckman!N7 -> 6.7880001 | R6: =Deckman!Q7 -> 180 | S6: =Deckman!P7 -> 6.7579999
A7: =Deckman!A8 -> 20 | B7: 0 | C7: 0 | D7: =Deckman!C8 -> 43.799999 | E7: =Deckman!B8 -> 6.6069999 | F7: =Deckman!E8 -> 50 | G7: =Deckman!D8 -> 7.059 | H7: =Deckman!G8 -> 70 | I7: =Deckman!F8 -> 7.7160001 | J7: =Deckman!I8 -> 90 | K7: =Deckman!H8 -> 8.1619997 | L7: =Deckman!K8 -> 110 | M7: =Deckman!J8 -> 8.5080004 | N7: =Deckman!M8 -> 135 | O7: =Deckman!L8 -> 8.1949997 | P7: =Deckman!O8 -> 178.3 | Q7: =Deckman!N8 -> 7.4910002 | R7: =Deckman!Q8 -> 180 | S7: =Deckman!P8 -> 7.4860001
A8: =Deckman!A9 -> 24 | B8: 0 | C8: 0 | D8: =Deckman!C9 -> 44 | E8: =Deckman!B9 -> 6.652 | F8: =Deckman!E9 -> 50 | G8: =Deckman!D9 -> 7.0939999 | H8: =Deckman!G9 -> 70 | I8: =Deckman!F9 -> 7.7800002 | J8: =Deckman!I9 -> 90 | K8: =Deckman!H9 -> 8.2659998 | L8: =Deckman!K9 -> 110 | M8: =Deckman!J9 -> 8.6680002 | N8: =Deckman!M9 -> 135 | O8: =Deckman!L9 -> 8.6780005 | P8: =Deckman!O9 -> 178.7 | Q8: =Deckman!N9 -> 8.0080004 | R8: =Deckman!Q9 -> 180 | S8: =Deckman!P9 -> 8.0050001

Sheet Expedition MH
A1: pol | B1: Twa0 | C1: Bsp0 | D1: UpTwa | E1: UpBsp | F1: Twa2 | G1: Bsp2 | H1: Twa3 | I1: Bsp3 | J1: Twa4 | K1: Bsp4 | L1: Twa5 | M1: Bsp5 | N1: Twa6 | O1: Bsp6 | P1: DnTwa | Q1: DnBsp | R1: Twa7 | S1: Bsp7
A2: 6.3376913 | B2: =Expedition!B2 -> 0 | C2: =Expedition!C2 -> 0 | D2: =Expedition!D2 -> 50.599998 | E2: =Expedition!E2 -> 4.0840001 | F2: =Expedition!F2 -> 60 | G2: =Expedition!G2 -> 4.7189999 | H2: =Expedition!H2 -> 70 | I2: =Expedition!I2 -> 5.1360002 | ... S2: =Expedition!S2 -> 2.8069999
A3: 8.4502554 | B3: =Expedition!B3 -> 0 | C3: =Expedition!C3 -> 0 | D3: =Expedition!D3 -> 49.599998 | E3: =Expedition!E3 -> 5.0580001 | F3: =Expedition!F3 -> 50 | G3: =Expedition!G3 -> 5.1009998 | H3: =Expedition!H3 -> 70 | I3: =Expedition!I3 -> 6.2199998 | ... S3: =Expedition!S3 -> 3.7520001
A4: 10.562819 | B4: =Expedition!B4 -> 0 | C4: =Expedition!C4 -> 0 | D4: =Expedition!D4 -> 46.599998 | E4: =Expedition!E4 -> 5.4660001 | F4: =Expedition!F4 -> 50 | G4: =Expedition!G4 -> 5.7789998 | H4: =Expedition!H4 -> 70 | I4: =Expedition!I4 -> 6.8990002 | ... S4: =Expedition!S4 -> 4.645
A5: 12.675383 | B5: =Expedition!B5 -> 0 | C5: =Expedition!C5 -> 0 | D5: =Expedition!D5 -> 47.400002 | E5: =Expedition!E5 -> 6.0339999 | F5: =Expedition!F5 -> 50 | G5: =Expedition!G5 -> 6.3140001 | H5: =Expedition!H5 -> 70 | I5: =Expedition!I5 -> 7.2150002 | ... S5: =Expedition!S5 -> 5.4569998
A6: 16.900511 | B6: =Expedition!B6 -> 0 | C6: =Expedition!C6 -> 0 | D6: =Expedition!D6 -> 45.099998 | E6: =Expedition!E6 -> 6.4720001 | F6: =Expedition!F6 -> 50 | G6: =Expedition!G6 -> 6.8709998 | H6: =Expedition!H6 -> 70 | I6: =Expedition!I6 -> 7.552 | ... S6: =Expedition!S6 -> 6.7579999
A7: 21.125639 | B7: =Expedition!B7 -> 0 | C7: =Expedition!C7 -> 0 | D7: =Expedition!D7 -> 43.799999 | E7: =Expedition!E7 -> 6.6069999 | F7: =Expedition!F7 -> 50 | G7: =Expedition!G7 -> 7.059 | H7: =Expedition!H7 -> 70 | I7: =Expedition!I7 -> 7.7160001 | ... S7: =Expedition!S7 -> 7.4860001
A8: 25.350765 | B8: =Expedition!B8 -> 0 | C8: =Expedition!C8 -> 0 | D8: =Expedition!D8 -> 44 | E8: =Expedition!E8 -> 6.652 | F8: =Expedition!F8 -> 50 | G8: =Expedition!G8 -> 7.0939999 | H8: =Expedition!H8 -> 70 | I8: =Expedition!I8 -> 7.7800002 | ... S8: =Expedition!S8 -> 8.0050001

Sheet MaxSea
A1: TWA | B1: 6 | C1: 8 | D1: 10 | E1: 12 | F1: 16 | G1: 20 | H1: 24
A2: 33 | B2: 0 | C2: 0 | D2: 0 | E2: 0 | F2: 0 | G2: 0 | H2: 0
A3: 36 | B3: 0 | C3: 0 | D3: 0 | E3: 3.852 | F3: 4.573 | G3: 0 | H3: 0
A4: 39 | B4: 2.6589999 | C4: 3.5280001 | D4: 4.2389998 | E4: 4.8280001 | F4: 5.5050001 | G4: 5.75 | H4: 5.592
A5: 50 | B5: 4.0279999 | C5: 5.1009998 | D5: 5.7789998 | E5: 6.3140001 | F5: 6.8709998 | G5: 7.059 | H5: 7.0939999
A6: 60 | B6: 4.7189999 | C6: 5.7519999 | D6: 6.4990001 | E6: 6.9190001 | F6: 7.2880001 | G6: 7.447 | H6: 7.4910002
A7: 70 | B7: 5.1360002 | C7: 6.2199998 | D7: 6.8990002 | E7: 7.2150002 | F7: 7.552 | G7: 7.7160001 | H7: 7.7800002
A8: 80 | B8: 5.5139999 | C8: 6.586 | D8: 7.1409998 | E8: 7.4569998 | F8: 7.777 | G8: 7.9419999 | H8: 8.0240002
A9: 90 | B9: 5.6500001 | C9: 6.7080002 | D9: 7.2360001 | E9: 7.5890002 | F9: 7.9710002 | G9: 8.1619997 | H9: 8.2659998
A10: 105 | B10: 5.5479999 | C10: 6.631 | D10: 7.1999998 | E10: 7.5700002 | F10: 8.1219997 | G10: 8.4309998 | H10: 8.5740004
A11: 120 | B11: 5.1170001 | C11: 6.1950002 | D11: 6.9289999 | E11: 7.3449998 | F11: 7.9499998 | G11: 8.4449997 | H11: 8.8479996
A12: 135 | B12: 4.2519999 | C12: 5.4250002 | D12: 6.3150001 | E12: 6.948 | F12: 7.6620002 | G12: 8.1949997 | H12: 8.6780005
A13: 140 | B13: 3.9630001 | C13: 5.1389999 | D13: 6.033 | E13: 6.7719998 | F13: 7.5510001 | G13: 8.0970001 | H13: 8.5810003
... A16: 180 | B16: 2.8069999 | C16: 3.7520001 | D16: 4.645 | E16: 5.4569998 | F16: 6.7579999 | G16: 7.4860001 | H16: 8.0050001

Sheet Raymarine
A1: pol | B1: Bsp0 | C1: UpTwa | D1: UpBsp | E1: Twa2 | F1: Bsp2 | G1: Twa3 | H1: Bsp3 | I1: Twa4 | J1: Bsp4 | K1: Twa5 | L1: Bsp5 | M1: Twa6 | N1: Bsp6 | O1: DnTwa | P1: DnBsp | Q1: Bsp7
A2: =Deckman!A3 -> 6 | B2: 0 | C2: =Deckman!C3 -> 50.599998 | D2: =Deckman!B3 -> 4.0840001 | E2: =Deckman!E3 -> 60 | F2: =Deckman!D3 -> 4.7189999 | G2: =Deckman!G3 -> 70 | H2: =Deckman!F3 -> 5.1360002 | I2: =Deckman!I3 -> 90 | J2: =Deckman!H3 -> 5.6500001 | K2: =Deckman!K3 -> 110 | L2: =Deckman!J3 -> 5.4530001 | M2: =Deckman!M3 -> 120 | N2: =Deckman!L3 -> 5.1170001 | O2: =Deckman!O3 -> 142.60001 | P2: =Deckman!N3 -> 3.8280001 | Q2: =Deckman!P3 -> 2.8069999
A3: =Deckman!A4 -> 8 | B3: 0 | C3: =Deckman!C4 -> 49.599998 | D3: =Deckman!B4 -> 5.0580001 | E3: =Deckman!E4 -> 50 | F3: =Deckman!D4 -> 5.1009998 | G3: =Deckman!G4 -> 70 | H3: =Deckman!F4 -> 6.2199998 | I3: =Deckman!I4 -> 90 | J3: =Deckman!H4 -> 6.7080002 | K3: =Deckman!K4 -> 110 | L3: =Deckman!J4 -> 6.539 | M3: =Deckman!M4 -> 120 | N3: =Deckman!L4 -> 6.1950002 | O3: =Deckman!O4 -> 146.89999 | P3: =Deckman!N4 -> 4.744 | Q3: =Deckman!P4 -> 3.7520001
A4: =Deckman!A5 -> 10 | B4: 0 | C4: =Deckman!C5 -> 46.599998 | D4: =Deckman!B5 -> 5.4660001 | E4: =Deckman!E5 -> 50 | F4: =Deckman!D5 -> 5.7789998 | G4: =Deckman!G5 -> 70 | H4: =Deckman!F5 -> 6.8990002 | I4: =Deckman!I5 -> 90 | J4: =Deckman!H5 -> 7.2360001 | K4: =Deckman!K5 -> 110 | L4: =Deckman!J5 -> 7.138 | M4: =Deckman!M5 -> 135 | N4: =Deckman!L5 -> 6.3150001 | O4: =Deckman!O5 -> 153.60001 | P4: =Deckman!N5 -> 5.3649998 | Q4: =Deckman!P5 -> 4.645
A5: =Deckman!A6 -> 12 | B5: 0 | C5: =Deckman!C6 -> 47.400002 | D5: =Deckman!B6 -> 6.0339999 | E5: =Deckman!E6 -> 50 | F5: =Deckman!D6 -> 6.3140001 | G5: =Deckman!G6 -> 70 | H5: =Deckman!F6 -> 7.2150002 | I5: =Deckman!I6 -> 90 | J5: =Deckman!H6 -> 7.5890002 | K5: =Deckman!K6 -> 110 | L5: =Deckman!J6 -> 7.5170002 | M5: =Deckman!M6 -> 135 | N5: =Deckman!L6 -> 6.948 | O5: =Deckman!O6 -> 159.2 | P5: =Deckman!N6 -> 5.895 | Q5: =Deckman!P6 -> 5.4569998
A6: =Deckman!A7 -> 16 | B6: 0 | C6: =Deckman!C7 -> 45.099998 | D6: =Deckman!B7 -> 6.4720001 | E6: =Deckman!E7 -> 50 | F6: =Deckman!D7 -> 6.8709998 | G6: =Deckman!G7 -> 70 | H6: =Deckman!F7 -> 7.552 | I6: =Deckman!I7 -> 90 | J6: =Deckman!H7 -> 7.9710002 | K6: =Deckman!K7 -> 110 | L6: =Deckman!J7 -> 8.085 | M6: =Deckman!M7 -> 135 | N6: =Deckman!L7 -> 7.6620002 | O6: =Deckman!O7 -> 175.2 | P6: =Deckman!N7 -> 6.7880001 | Q6: =Deckman!P7 -> 6.7579999
A7: =Deckman!A8 -> 20 | B7: 0 | C7: =Deckman!C8 -> 43.799999 | D7: =Deckman!B8 -> 6.6069999 | E7: =Deckman!E8 -> 50 | F7: =Deckman!D8 -> 7.059 | G7: =Deckman!G8 -> 70 | H7: =Deckman!F8 -> 7.7160001 | I7: =Deckman!I8 -> 90 | J7: =Deckman!H8 -> 8.1619997 | K7: =Deckman!K8 -> 110 | L7: =Deckman!J8 -> 8.5080004 | M7: =Deckman!M8 -> 135 | N7: =Deckman!L8 -> 8.1949997 | O7: =Deckman!O8 -> 178.3 | P7: =Deckman!N8 -> 7.4910002 | Q7: =Deckman!P8 -> 7.4860001
A8: =Deckman!A9 -> 24 | B8: 0 | C8: =Deckman!C9 -> 44 | D8: =Deckman!B9 -> 6.652 | E8: =Deckman!E9 -> 50 | F8: =Deckman!D9 -> 7.0939999 | G8: =Deckman!G9 -> 70 | H8: =Deckman!F9 -> 7.7800002 | I8: =Deckman!I9 -> 90 | J8: =Deckman!H9 -> 8.2659998 | K8: =Deckman!K9 -> 110 | L8: =Deckman!J9 -> 8.6680002 | M8: =Deckman!M9 -> 135 | N8: =Deckman!L9 -> 8.6780005 | O8: =Deckman!O9 -> 178.7 | P8: =Deckman!N9 -> 8.0080004 | Q8: =Deckman!P9 -> 8.0050001

Sheet Nexus
B1: TBS1 | C1: TWA1 | D1: TBS2 | E1: TWA2 | F1: TBS3 | G1: TWA3 | H1: TBS4 | I1: TWA4 | J1: TBS5 | K1: TWA5 | L1: TBS6 | M1: TWA6 | N1: TBS7 | O1: TWA7 | P1: TBS8 | Q1: TWA8 | R1: TBS9 | S1: TWA9
A2: =Deckman!A3 -> 6 | B2: =Deckman!B3 -> 4.0840001 | C2: =Deckman!C3 -> 50.599998 | D2: 4.198 | E2: 52 | F2: 4.7189999 | G2: 60 | H2: 5.362 | I2: 75 | J2: 5.6500001 | K2: 90 | L2: 5.4530001 | M2: 110 | N2: 5.1170001 | O2: 120 | P2: 3.4809999 | Q2: 150 | R2: =Deckman!N3 -> 3.8280001 | S2: =Deckman!O3 -> 142.60001
A3: =Deckman!A4 -> 8 | B3: =Deckman!B4 -> 5.0580001 | C3: =Deckman!C4 -> 49.599998 | D3: 5.2810001 | E3: 52 | F3: 5.7519999 | G3: 60 | H3: 6.4439998 | I3: 75 | J3: 6.7080002 | K3: 90 | L3: 6.539 | M3: 110 | N3: 6.1950002 | O3: 120 | P3: 4.5809999 | Q3: 150 | R3: =Deckman!N4 -> 4.744 | S3: =Deckman!O4 -> 146.89999
A4: =Deckman!A5 -> 10 | B4: =Deckman!B5 -> 5.4660001 | C4: =Deckman!C5 -> 46.599998 | D4: 5.9489999 | E4: 52 | F4: 6.4990001 | G4: 60 | H4: 7.046 | I4: 75 | J4: 7.2360001 | K4: 90 | L4: 7.138 | M4: 110 | N4: 6.9289999 | O4: 120 | P4: 5.533 | Q4: 150 | R4: =Deckman!N5 -> 5.3649998 | S4: =Deckman!O5 -> 153.60001
A5: =Deckman!A6 -> 12 | B5: =Deckman!B6 -> 6.0339999 | C5: =Deckman!C6 -> 47.400002 | D5: 6.4879999 | E5: 52 | F5: 6.9190001 | G5: 60 | H5: 7.3470001 | I5: 75 | J5: 7.5890002 | K5: 90 | L5: 7.5170002 | M5: 110 | N5: 7.3449998 | O5: 120 | P5: 6.3239999 | Q5: 150 | R5: =Deckman!N6 -> 5.895 | S5: =Deckman!O6 -> 159.2
A6: =Deckman!A7 -> 16 | B6: =Deckman!B7 -> 6.4720001 | C6: =Deckman!C7 -> 45.099998 | D6: 6.9790001 | E6: 52 | F6: 7.2880001 | G6: 60 | H6: 7.6659999 | I6: 75 | J6: 7.9710002 | K6: 90 | L6: 8.085 | M6: 110 | N6: 7.9499998 | O6: 120 | P6: 7.3060002 | Q6: 150 | R6: =Deckman!N7 -> 6.7880001 | S6: =Deckman!O7 -> 175.2
A7: =Deckman!A8 -> 20 | B7: =Deckman!B8 -> 6.6069999 | C7: =Deckman!C8 -> 43.799999 | D7: 7.1550002 | E7: 52 | F7: 7.447 | G7: 60 | H7: 7.8280001 | I7: 75 | J7: 8.1619997 | K7: 90 | L7: 8.5080004 | M7: 110 | N7: 8.4449997 | O7: 120 | P7: 7.8899999 | Q7: 150 | R7: =Deckman!N8 -> 7.4910002 | S7: =Deckman!O8 -> 178.3
A8: =Deckman!A9 -> 24 | B8: =Deckman!B9 -> 6.652 | C8: =Deckman!C9 -> 44 | D8: 7.191 | E8: 52 | F8: 7.4910002 | G8: 60 | H8: 7.902 | I8: 75 | J8: 8.2659998 | K8: 90 | L8: 8.6680002 | M8: 110 | N8: 8.8479996 | O8: 120 | P8: 8.375 | Q8: 150 | R8: =Deckman!N9 -> 8.0080004 | S8: =Deckman!O9 -> 178.7

Sheet Ockam
A1: POLARS FOR OCKAM SPLINE
A2: NPTWS | B2: 7
A3: NPTWA | B3: 31 | AM3: 4.7010002 | AN3: 48.5 | AO3: 4.8889999 | AP3: 133
B4: 6 | C4: 8 | D4: 10 | E4: 12 | F4: 16 | G4: 20 | H4: 24 | AM4: 5.7680001 | AN4: 47.299999 | AO4: 5.9660001 | AP4: 138
A5: 30 | B5: 0 | C5: 0 | D5: 0 | E5: 0 | F5: 0 | G5: 0 | H5: 0 | AM5: 6.3439999 | AN5: 45 | AO5: 6.3099999 | AP5: 148.60001
A6: 35 | B6: 0 | C6: 0 | D6: 0 | E6: 0 | F6: 0 | G6: 0 | H6: 0 | AM6: 7.098 | AN6: 46.299999 | AO6: 6.9819999 | AP6: 152.3
A7: 40 | B7: 2.829 | C7: 3.7219999 | D7: 4.4590001 | E7: 5.052 | F7: 5.6880002 | G7: 5.9770002 | H7: 5.8920002 | AM7: 7.5430002 | AN7: 43.700001 | AO7: 7.8309999 | AP7: 165.5
A8: 45 | B8: 3.5109999 | C8: 4.5120001 | D8: 5.2919998 | E8: 5.7639999 | F8: 6.4650002 | G8: 6.7270002 | H8: 6.756 | AM8: 7.6999998 | AN8: 42.400002 | AO8: 8.599 | AP8: 172.8
A9: 50 | B9: 4.0279999 | C9: 5.1009998 | D9: 5.7789998 | E9: 6.3140001 | F9: 6.8709998 | G9: 7.059 | H9: 7.0939999 | AM9: 7.6880002 | AN9: 42 | AO9: 9.3009996 | AP9: 174.2
A10: 55 | B10: 4.4200001 | C10: 5.4910002 | D10: 6.1939998 | E10: 6.6880002 | F10: 7.1110001 | G10: 7.2779999 | H10: 7.316
A11: 60 | B11: 4.7189999 | C11: 5.7519999 | D11: 6.4990001 | E11: 6.9190001 | F11: 7.2880001 | G11: 7.447 | H11: 7.4910002
A12: 65 | B12: 4.948 | C12: 5.9619999 | D12: 6.6950002 | E12: 7.0739999 | F12: 7.4310002 | G12: 7.5900002 | H12: 7.6440001
A13: 70 | B13: 5.1360002 | C13: 6.2199998 | D13: 6.8990002 | E13: 7.2150002 | F13: 7.552 | G13: 7.7160001 | H13: 7.7800002
A14: 75 | B14: 5.362 | C14: 6.4439998 | D14: 7.046 | E14: 7.3470001 | F14: 7.6659999 | G14: 7.8280001 | H14: 7.902
A15: 80 | B15: 5.5139999 | C15: 6.586 | D15: 7.1409998 | E15: 7.4569998 | F15: 7.777 | G15: 7.9419999 | H15: 8.0240002
A16: 85 | B16: 5.6069999 | C16: 6.6680002 | D16: 7.2020001 | E16: 7.5380001 | F16: 7.8779998 | G16: 8.0550003 | H16: 8.1479998
A17: 90 | B17: 5.6500001 | C17: 6.7080002 | D17: 7.2360001 | E17: 7.5890002 | F17: 7.9710002 | G17: 8.1619997 | H17: 8.2659998
A18: 95 | B18: 5.6469998 | C18: 6.71 | D18: 7.2459998 | E18: 7.6079998 | F18: 8.052 | G18: 8.2580004 | H18: 8.3739996
A19: 100 | B19: 5.612 | C19: 6.6849999 | D19: 7.2350001 | E19: 7.5999999 | F19: 8.1199999 | G19: 8.3479996 | H19: 8.4759998
A20: 105 | B20: 5.5479999 | C20: 6.631 | D20: 7.1999998 | E20: 7.5700002 | F20: 8.1219997 | G20: 8.4309998 | H20: 8.5740004
A21: 110 | B21: 5.4530001 | C21: 6.539 | D21: 7.138 | E21: 7.5170002 | F21: 8.085 | G21: 8.5080004 | H21: 8.6680002
... A35: 180 | B35: 2.8069999 | C35: 3.7520001 | D35: 4.645 | E35: 5.4569998 | F35: 6.7579999 | G35: 7.4860001 | H35: 8.0050001
A36: VMG OPTIMA
A37: NPTWS | B37: 7
A38: Vtw | B38: 6 | C38: 8 | D38: 10 | E38: 12 | F38: 16 | G38: 20 | H38: 24
A39: VsUp | B39: =Deckman!B3 -> 4.0840001 | C39: =Deckman!B4 -> 5.0580001 | D39: =Deckman!B5 -> 5.4660001 | E39: =Deckman!B6 -> 6.0339999 | F39: =Deckman!B7 -> 6.4720001 | G39: =Deckman!B8 -> 6.6069999 | H39: =Deckman!B9 -> 6.652
A40: BtwUp | B40: =Deckman!C3 -> 50.599998 | C40: =Deckman!C4 -> 49.599998 | D40: =Deckman!C5 -> 46.599998 | E40: =Deckman!C6 -> 47.400002 | F40: =Deckman!C7 -> 45.099998 | G40: =Deckman!C8 -> 43.799999 | H40: =Deckman!C9 -> 44
A41: VsDown | B41: =Deckman!N3 -> 3.8280001 | C41: =Deckman!N4 -> 4.744 | D41: =Deckman!N5 -> 5.3649998 | E41: =Deckman!N6 -> 5.895 | F41: =Deckman!N7 -> 6.7880001 | G41: =Deckman!N8 -> 7.4910002 | H41: =Deckman!N9 -> 8.0080004
A42: BtwDown | B42: =Deckman!O3 -> 142.60001 | C42: =Deckman!O4 -> 146.89999 | D42: =Deckman!O5 -> 153.60001 | E42: =Deckman!O6 -> 159.2 | F42: =Deckman!O7 -> 175.2 | G42: =Deckman!O8 -> 178.3 | H42: =Deckman!O9 -> 178.7

Sheet Bedford
A1: POLARS FOR OCKAM SPLINE
A2: NPTWS | B2: 7
A3: NPTWA | B3: 31
B4: 6 | C4: 8 | D4: 10 | E4: 12 | F4: 16 | G4: 20 | H4: 24
A5: 30 | B5: 0 | C5: 0 | D5: 0 | E5: 0 | F5: 0 | G5: 0 | H5: 0
A6: 35 | B6: 0 | C6: 0 | D6: 0 | E6: 0 | F6: 0 | G6: 0 | H6: 0
A7: 40 | B7: 2.829 | C7: 3.7219999 | D7: 4.4590001 | E7: 5.052 | F7: 5.6880002 | G7: 5.9770002 | H7: 5.8920002
A8: 45 | B8: 3.5109999 | C8: 4.5120001 | D8: 5.2919998 | E8: 5.7639999 | F8: 6.4650002 | G8: 6.7270002 | H8: 6.756
A9: 50 | B9: 4.0279999 | C9: 5.1009998 | D9: 5.7789998 | E9: 6.3140001 | F9: 6.8709998 | G9: 7.059 | H9: 7.0939999
A10: 55 | B10: 4.4200001 | C10: 5.4910002 | D10: 6.1939998 | E10: 6.6880002 | F10: 7.1110001 | G10: 7.2779999 | H10: 7.316
A11: 60 | B11: 4.7189999 | C11: 5.7519999 | D11: 6.4990001 | E11: 6.9190001 | F11: 7.2880001 | G11: 7.447 | H11: 7.4910002
A12: 65 | B12: 4.948 | C12: 5.9619999 | D12: 6.6950002 | E12: 7.0739999 | F12: 7.4310002 | G12: 7.5900002 | H12: 7.6440001
A13: 70 | B13: 5.1360002 | C13: 6.2199998 | D13: 6.8990002 | E13: 7.2150002 | F13: 7.552 | G13: 7.7160001 | H13: 7.7800002
A14: 75 | B14: 5.362 | C14: 6.4439998 | D14: 7.046 | E14: 7.3470001 | F14: 7.6659999 | G14: 7.8280001 | H14: 7.902
A15: 80 | B15: 5.5139999 | C15: 6.586 | D15: 7.1409998 | E15: 7.4569998 | F15: 7.777 | G15: 7.9419999 | H15: 8.0240002
A16: 85 | B16: 5.6069999 | C16: 6.6680002 | D16: 7.2020001 | E16: 7.5380001 | F16: 7.8779998 | G16: 8.0550003 | H16: 8.1479998
... A35: 180 | B35: 2.8069999 | C35: 3.7520001 | D35: 4.645 | E35: 5.4569998 | F35: 6.7579999 | G35: 7.4860001 | H35: 8.0050001
A36: VMG OPTIMA
A37: NPTWS | B37: 7
A38: Vtw | B38: 6 | C38: 8 | D38: 10 | E38: 12 | F38: 16 | G38: 20 | H38: 24
A39: VsUp | B39: 4.0840001 | C39: 5.0580001 | D39: 5.4660001 | E39: 6.0339999 | F39: 6.4720001 | G39: 6.6069999 | H39: 6.652
A40: BtwUp | B40: 50.599998 | C40: 49.599998 | D40: 46.599998 | E40: 47.400002 | F40: 45.099998 | G40: 43.799999 | H40: 44
A41: Awa | B41: 29.85 | C41: 30.1 | D41: 29.83 | E41: 31.02 | F41: 31.190001 | G41: 31.73 | H41: 33
A42: Heel | B42: 2.8 | C42: 4.4000001 | D42: 6 | E42: 10.2 | F42: 14.6 | G42: 17.1 | H42: 18.9
A43: VsDown | B43: 3.8280001 | C43: 4.744 | D43: 5.3649998 | E43: 5.895 | F43: 6.7880001 | G43: 7.4910002 | H43: 8.0080004
A44: BtwDown | B44: 142.60001 | C44: 146.89999 | D44: 153.60001 | E44: 159.2 | F44: 175.2 | G44: 178.3 | H44: 178.7
A45: Awa | B45: 103.65 | C45: 113.46 | D45: 128.39 | E45: 140.91 | F45: 171.69 | G45: 177.32001 | H45: 178.03
A46: Heel | B46: 0.60000002 | C46: 0.80000001 | D46: 0.69999999 | E46: 0.69999999 | F46: 0.40000001 | G46: 0.40000001 | H46: 0.5
