Workbook
Name Doc_Header: Documentation!#REF!

Sheet NOTES
A1: US SAILING - PERFORMANCE PACKAGE
A3: Welcome to your Performance Package (Boat Polars)
A5: This Excel spreadsheet contains the following pages:
A7: Documentation -- read this to understand the assumptions behind performance prediction and how use the polar data
A9: Polars -- detailed list of predictions for true wind speeds of 6, 8, 10, 12, 16, 20 and 24 knots
A10: true wind angles vary in 1 degree increments from 180 degrees (dead downwind to about 30 degrees)
A11: there is one line per wind speed and angle combination; data includes true and apparent wind, boat speed,
A12: VMG (boat speed made good upwind or downwind), heel angle, REEF and FLAT "indicators" of how
A13: much the sail plan has been de-powered
A15: Polar Table -- summary of best peformance at each wind speed (PRINT THIS PAGE)
A17: Chart 1-7 -- Polar plot of boat speed vs wind angle for each wind speed. Each plot may contain multiple curves,
A18: depending on how many sail combinations are available. This illustrates jib/spinnaker crossovers.
... A42: FILES for OCKAM and NOBLETEC: e-mail JimTeeters@USSAILING.org

Sheet Documentation
A3: US SAILING - PERFORMANCE PACKAGE
A5: The Performance Package is custom-calculated for each individual boat. It is intended to augment, not to replace the many excellent books and articles offering general suggestions for improvement of sailing performance. At first study, the Performance Package will be of greater interest to the more sophisticated sailors but ultimately it may prove more useful to the beginner for whom there is more to be learned.
A7: The speed predictions for the individual boats which are central elements of the Performance Package are derived in two steps. First the hull is measured by use of an electronic device so as to put the hull lines into the computer data bank. The other elements of measurement, the rig dimensions, the flotation and stability are added to the data bank for this one boat. Second, a series of complex calculations is made to find the boat speeds at which all of the elements of drag come into equilibrium with the drive provided by the sails.
A9: At the speeds shown on the VPP data sheet, various factors of drag have been balanced against the driving force. The important thing to have in mind is that each factor contributes either to drive or to drag. There are no "speed producing" elements in the hull. Thus length is not a speed producer. It simply affects the drag differently under different sailing conditions. But drive (from the sails) and drag can be influenced in some degree by the way a boat is sailed.
A11: How accurate are the speed predictions? They are printed out to a thousandth of a knot but they aren't that accurate. (Thousandths are printed out so as to obviate the practice of adjusting flotation and the like with the intention of getting a new measurement which rounds off to a lower rating by a tenth of a foot.) One answer to the question of accuracy is that no one can know exactly. Onboard measurements of wind angle and speed are very hard to take with accuracy. So also it is hard to measure the speed of the boat. Wind conditions are constantly changing. But actual sailing trials have been conducted and about the best one can say is that speed predictions are as close as the instruments can measure. In a later section we will explain adjustments or corrections for wind instruments.
A13: It must be understood also that the speed predictions are based on perfect steering in absolutely steady wind and the sails are perfectly optimized to the sailing conditions, meaning that the reefing does not correspond to any particular set of jibs and/or mainsail reef points. Drag due to pitching in waves is accounted for using a wave spectrum that varies with the wind strength. Of course, real world wave conditions can vary quite independently of the wind strength.
A18: THE POLAR DIAGRAMS AND HOW TO READ THEM
A20: For many years polar diagrams derived from designers' estimates and from sailing trials have been used at sophisticated levels of sail racing, for example in America's Cup competition. But for most sailors they will be new and the explanation which follows assumes that this is an initial encounter.
A22: The wind direction is indicated by the drawn arrow and may be seen as blowing from the top of the diagram toward the bottom.
A24: Each radial line extending from the center represents a sailing angle relative to the indicated wind. Thus the horizontal line is at 90 to the wind. On one of the diagrams this is the true wind direction and on the other it is the apparent wind direction as it would appear on a boat's wind direction indicator. For the wind direction of 90 apparent, the wind direction true must be farther aft. You will see that on the diagram for true wind angle the direction is about 105 to result in the same boat speed as achieved in a wind of 90 apparent. Of course, it is all the same wind, just a difference in how the direction is defined, relative to itself (true) or relative to the moving boat (apparent). Most of the time you will be interested in the apparent wind; this is what you feel and what your indicator displays.
A26: Each radial line is graduated into one-knot increments by tick marks with smaller ticks on tenths of knots. These show the predicted boat speed. The farther from the center the higher the boat speed. The corresponding speeds in knots are shown along the 90 line.
A28: The irregular curves are the plots of boat speeds at seven different wind speeds; 6, 8, 10, 12, 16, 20 and 24 knots. The inner curve nearest the center presents the boat speeds at the six-knot wind speed and the curve farthest from the center presents boat speeds at 24-knot wind speed.
... A165: NOTE: "Course" above means the direction of the midline of the hull without any allowance for leeway.

Sheet Polars
A1: Options: /FONT /US_DATES /LJS /US_COPY_RIGHT /VCR /HPGL /AMERICAP
A2: Options: /VPP1DEG /ICWL
A3: ORR AMENDED FOR 2015
A4: DATE RUN: 25/MAR/2015 TIME: 13:48 HYDROSTATICS & THEORETIC STABILITY
A5: CERT. NO: 42449
A6: YACHT: SHUANG HSI VCG = VERTICAL CENTER OF GRAVITY
A7: SAIL NO: USA-176 VCB = VERTICAL CENTER OF BUOYANCY
A8: CLASS: TASHIBA 40 LCB = LONGITUDINAL CENTER OF BUOYANCY
A9: --------------------------- LPP INPUT DATA ---------------------------
A10: INPUT FILES: US42449.DAT 04/MAR/15 13:38:51
A11: OFFSETS Measured: 00/00/00 US18250.OFF 03/JUL/93 08:30:42
A12: Flotation date year: 85 Specific Gravity: 1.023
... A204: --------------------------------------------------------------------------------
A205: VTW BTW VAW BAW V VMG PHI REEF FLAT CL iter | C205: VTW | D205: BTW | E205: VAW | F205: BAW | G205: V | H205: VMG | I205: PHI | J205: SAIL
A206: --------------------------------------------------------------------------------
A207: 6.0 180.0 3.12 180.00 2.807 -2.807 0.0 1.0000 1.0000 -0.0391 3 Asym Spin tacked on CL | C207: 6 | D207: 180 | E207: 3.12 | F207: 180 | G207: 2.807 | H207: -2.807 | I207: 0 | J207: Asym Spin tacked on CL
A208: 6.0 179.0 3.11 178.10 2.810 -2.810 0.0 1.0000 1.0000 -0.0042 1 Asym Spin tacked on CL | C208: 6 | D208: 179 | E208: 3.11 | F208: 178.1 | G208: 2.81 | H208: -2.81 | I208: 0 | J208: Asym Spin tacked on CL
A209: 6.0 178.0 3.11 176.19 2.814 -2.813 0.0 1.0000 1.0000 0.0308 2 Asym Spin tacked on CL | C209: 6 | D209: 178 | E209: 3.11 | F209: 176.19 | G209: 2.814 | H209: -2.813 | I209: 0 | J209: Asym Spin tacked on CL
A210: 6.0 177.0 3.11 174.28 2.820 -2.816 0.0 1.0000 1.0000 0.0660 2 Asym Spin tacked on CL | C210: 6 | D210: 177 | E210: 3.11 | F210: 174.28 | G210: 2.82 | H210: -2.816 | I210: 0 | J210: Asym Spin tacked on CL
A211: 6.0 176.0 3.11 172.36 2.827 -2.820 0.0 1.0000 1.0000 0.1015 2 Asym Spin tacked on CL | C211: 6 | D211: 176 | E211: 3.11 | F211: 172.36 | G211: 2.827 | H211: -2.82 | I211: 0 | J211: Asym Spin tacked on CL
A212: 6.0 175.0 3.11 170.44 2.835 -2.824 0.1 1.0000 1.0000 0.1373 2 Asym Spin tacked on CL | C212: 6 | D212: 175 | E212: 3.11 | F212: 170.44 | G212: 2.835 | H212: -2.824 | I212: 0.1 | J212: Asym Spin tacked on CL
A213: 6.0 174.0 3.11 168.51 2.844 -2.828 0.1 1.0000 1.0000 0.1735 2 Asym Spin tacked on CL | C213: 6 | D213: 174 | E213: 3.11 | F213: 168.51 | G213: 2.844 | H213: -2.828 | I213: 0.1 | J213: Asym Spin tacked on CL
A214: 6.0 173.0 3.11 166.57 2.855 -2.833 0.1 1.0000 1.0000 0.2102 2 Asym Spin tacked on CL | C214: 6 | D214: 173 | E214: 3.11 | F214: 166.57 | G214: 2.855 | H214: -2.833 | I214: 0.1 | J214: Asym Spin tacked on CL
A215: 6.0 172.0 3.11 164.63 2.867 -2.839 0.1 1.0000 1.0000 0.2473 2 Asym Spin tacked on CL | C215: 6 | D215: 172 | E215: 3.11 | F215: 164.63 | G215: 2.867 | H215: -2.839 | I215: 0.1 | J215: Asym Spin tacked on CL
A216: 6.0 171.0 3.11 162.67 2.880 -2.844 0.1 1.0000 1.0000 0.2850 2 Asym Spin tacked on CL | C216: 6 | D216: 171 | E216: 3.11 | F216: 162.67 | G216: 2.88 | H216: -2.844 | I216: 0.1 | J216: Asym Spin tacked on CL
A217: 6.0 170.0 3.11 160.71 2.894 -2.850 0.1 1.0000 1.0000 0.3233 2 Asym Spin tacked on CL | C217: 6 | D217: 170 | E217: 3.11 | F217: 160.71 | G217: 2.894 | H217: -2.85 | I217: 0.1 | J217: Asym Spin tacked on CL
A218: 6.0 169.0 3.12 158.73 2.910 -2.857 0.1 1.0000 1.0000 0.3622 2 Asym Spin tacked on CL | C218: 6 | D218: 169 | E218: 3.12 | F218: 158.73 | G218: 2.91 | H218: -2.857 | I218: 0.1 | J218: Asym Spin tacked on CL
... A520: 6.0 50.6 8.91 29.85 4.084 2.590 2.8 1.0000 1.0000 1.8381 2 OPTUP | C520: 6 | D520: 50.6 | E520: 8.91 | F520: 29.85 | G520: 4.084 | H520: 2.59 | I520: 2.8 | J520: OPTUP
A521: --------------------------------------------------------------------------------
A522: VTW BTW VAW BAW V VMG PHI REEF FLAT CL iter | C522: VTW | D522: BTW | E522: VAW | F522: BAW | G522: V | H522: VMG | I522: PHI | J522: SAIL
A523: --------------------------------------------------------------------------------
A524: 8.0 180.0 4.15 180.00 3.752 -3.752 0.0 1.0000 1.0000 -0.0391 3 Asym Spin tacked on CL | C524: 8 | D524: 180 | E524: 4.15 | F524: 180 | G524: 3.752 | H524: -3.752 | I524: 0 | J524: Asym Spin tacked on CL
A525: 8.0 179.0 4.14 178.09 3.755 -3.755 0.0 1.0000 1.0000 -0.0042 2 Asym Spin tacked on CL | C525: 8 | D525: 179 | E525: 4.14 | F525: 178.09 | G525: 3.755 | H525: -3.755 | I525: 0 | J525: Asym Spin tacked on CL
A526: 8.0 178.0 4.14 176.18 3.760 -3.758 0.1 1.0000 1.0000 0.0309 2 Asym Spin tacked on CL | C526: 8 | D526: 178 | E526: 4.14 | F526: 176.18 | G526: 3.76 | H526: -3.758 | I526: 0.1 | J526: Asym Spin tacked on CL
A527: 8.0 177.0 4.14 174.27 3.767 -3.762 0.1 1.0000 1.0000 0.0662 2 Asym Spin tacked on CL | C527: 8 | D527: 177 | E527: 4.14 | F527: 174.27 | G527: 3.767 | H527: -3.762 | I527: 0.1 | J527: Asym Spin tacked on CL
A528: 8.0 176.0 4.14 172.35 3.776 -3.767 0.1 1.0000 1.0000 0.1017 2 Asym Spin tacked on CL | C528: 8 | D528: 176 | E528: 4.14 | F528: 172.35 | G528: 3.776 | H528: -3.767 | I528: 0.1 | J528: Asym Spin tacked on CL
A529: 8.0 175.0 4.14 170.43 3.786 -3.772 0.1 1.0000 1.0000 0.1376 2 Asym Spin tacked on CL | C529: 8 | D529: 175 | E529: 4.14 | F529: 170.43 | G529: 3.786 | H529: -3.772 | I529: 0.1 | J529: Asym Spin tacked on CL
A530: 8.0 174.0 4.14 168.50 3.798 -3.777 0.1 1.0000 1.0000 0.1738 2 Asym Spin tacked on CL | C530: 8 | D530: 174 | E530: 4.14 | F530: 168.5 | G530: 3.798 | H530: -3.777 | I530: 0.1 | J530: Asym Spin tacked on CL
A531: 8.0 173.0 4.14 166.56 3.811 -3.783 0.1 1.0000 1.0000 0.2105 2 Asym Spin tacked on CL | C531: 8 | D531: 173 | E531: 4.14 | F531: 166.56 | G531: 3.811 | H531: -3.783 | I531: 0.1 | J531: Asym Spin tacked on CL
A532: 8.0 172.0 4.14 164.61 3.826 -3.789 0.1 1.0000 1.0000 0.2476 2 Asym Spin tacked on CL | C532: 8 | D532: 172 | E532: 4.14 | F532: 164.61 | G532: 3.826 | H532: -3.789 | I532: 0.1 | J532: Asym Spin tacked on CL
...

Sheet Polar Table
A1: POLAR SUMMARY TABLES
A3: =MID(Polars!A5,1,30)&MID(Polars!A6,1,30) -> CERT. NO: 42449 YACHT: SHUANG HSI
A4: =MID(Polars!A7,1,30)&MID(Polars!A8,1,30) -> SAIL NO: USA-176 CLASS: TASHIBA 40
A6: ----------------------------------------------------------------------------
A7: VTW BTW VAW BAW V VMG PHI REEF FLAT Headsail
A8: ----------------------------------------------------------------------------
A10: 6.0 50.6 8.91 29.85 4.084 2.590 2.8 1.0000 1.0000 2 OPTUP
A12: 6.0 40.0 8.11 27.03 2.829 2.167 2.0 1.0000 0.7981 5 Jib
A13: 6.0 45.0 8.59 28.18 3.511 2.483 2.5 1.0000 0.9398 4 Jib
A14: 6.0 50.0 8.88 29.64 4.028 2.589 2.8 1.0000 1.0000 4 Jib
A15: 6.0 55.0 9.03 31.33 4.420 2.535 2.9 1.0000 1.0000 4 Jib
A16: 6.0 60.0 9.07 33.19 4.719 2.359 3.0 1.0000 1.0000 4 Jib
A17: 6.0 65.0 9.02 35.17 4.948 2.091 3.0 1.0000 1.0000 4 Jib
A18: 6.0 70.0 9.07 37.78 5.136 1.757 3.9 1.0000 1.0000 2 Asym Spin tacked on CL
A19: 6.0 75.0 8.96 39.61 5.362 1.388 4.0 1.0000 1.0000 2 Asym Spin tacked on CL
... A59: Portsmouth, RI USA
A61: =A1 -> POLAR SUMMARY TABLES
A63: =A3 -> CERT. NO: 42449 YACHT: SHUANG HSI
A64: =A4 -> SAIL NO: USA-176 CLASS: TASHIBA 40
A66: ----------------------------------------------------------------------------
A67: VTW BTW VAW BAW V VMG PHI REEF FLAT Headsail
A68: ----------------------------------------------------------------------------
A70: 8.0 49.6 11.59 30.10 5.058 3.280 4.4 1.0000 1.0000 2 OPTUP
A72: 8.0 40.0 10.77 27.14 3.722 2.852 3.0 1.0000 0.7885 5 Jib
A73: 8.0 45.0 11.30 28.55 4.512 3.190 3.8 1.0000 0.9225 4 Jib
A74: 8.0 50.0 11.61 30.25 5.101 3.279 4.4 1.0000 1.0000 4 Jib
A75: 8.0 55.0 11.70 32.31 5.491 3.149 4.6 1.0000 1.0000 4 Jib
A76: 8.0 60.0 11.65 34.59 5.752 2.876 4.6 1.0000 1.0000 3 Jib
A77: 8.0 65.0 11.52 36.93 5.962 2.520 4.6 1.0000 1.0000 4 Jib
A78: 8.0 70.0 11.59 39.40 6.220 2.127 8.6 1.0000 1.0000 2 Asym Spin tacked on CL
A79: 8.0 75.0 11.40 41.59 6.444 1.668 8.5 1.0000 1.0000 2 Asym Spin tacked on CL
... A118: Portsmouth, RI USA
A121: =A61 -> POLAR SUMMARY TABLES
A123: =A63 -> CERT. NO: 42449 YACHT: SHUANG HSI
A124: =A64 -> SAIL NO: USA-176 CLASS: TASHIBA 40
A126: ----------------------------------------------------------------------------
A127: VTW BTW VAW BAW V VMG PHI REEF FLAT Headsail
A128: ----------------------------------------------------------------------------
A130: 10.0 46.6 13.90 29.83 5.466 3.759 6.0 1.0000 0.8946 3 OPTUP
A132: 10.0 40.0 13.29 27.49 4.459 3.416 4.2 1.0000 0.7655 4 Jib
...

Sheet Polar Table MH
A1: POLAR SUMMARY TABLES
A3: =MID(Polars!A5,1,30)&MID(Polars!A6,1,30) -> CERT. NO: 42449 YACHT: SHUANG HSI
A4: =MID(Polars!A7,1,30)&MID(Polars!A8,1,30) -> SAIL NO: USA-176 CLASS: TASHIBA 40
A6: ----------------------------------------------------------------------------
A7: VTW BTW VAW BAW V VMG PHI REEF FLAT Headsail
A8: ----------------------------------------------------------------------------
A10: 6.3 50.6 9.47 31.11 4.084 2.590 2.8 1.0000 1.0000 2 OPTUP
A12: 6.3 40.0 8.70 27.92 2.829 2.167 2.0 1.0000 0.7981 5 Jib
A13: 6.3 45.0 9.16 29.26 3.511 2.483 2.5 1.0000 0.9398 4 Jib
A14: 6.3 50.0 9.44 30.90 4.028 2.589 2.8 1.0000 1.0000 4 Jib
A15: 6.3 55.0 9.58 32.77 4.420 2.535 2.9 1.0000 1.0000 4 Jib
A16: 6.3 60.0 9.61 34.79 4.719 2.359 3.0 1.0000 1.0000 4 Jib
A17: 6.3 65.0 9.54 36.95 4.948 2.091 3.0 1.0000 1.0000 4 Jib
A18: 6.3 70.0 9.42 39.13 5.136 1.757 3.9 1.0000 1.0000 2 Asym Spin tacked on CL
A19: 6.3 75.0 9.29 41.09 5.362 1.388 4.0 1.0000 1.0000 2 Asym Spin tacked on CL
... A59: Portsmouth, RI USA
A61: =A1 -> POLAR SUMMARY TABLES
A63: =A3 -> CERT. NO: 42449 YACHT: SHUANG HSI
A64: =A4 -> SAIL NO: USA-176 CLASS: TASHIBA 40
A66: ----------------------------------------------------------------------------
A67: VTW BTW VAW BAW V VMG PHI REEF FLAT Headsail
A68: ----------------------------------------------------------------------------
A70: 8.5 49.6 12.33 31.34 5.058 3.280 4.4 1.0000 1.0000 2 OPTUP
A72: 8.5 40.0 11.55 28.01 3.722 2.852 3.0 1.0000 0.7885 5 Jib
A73: 8.5 45.0 12.06 29.62 4.512 3.190 3.8 1.0000 0.9225 4 Jib
A74: 8.5 50.0 12.35 31.50 5.101 3.279 4.4 1.0000 1.0000 4 Jib
A75: 8.5 55.0 12.43 33.72 5.491 3.149 4.6 1.0000 1.0000 4 Jib
A76: 8.5 60.0 12.36 36.17 5.752 2.876 4.6 1.0000 1.0000 3 Jib
A77: 8.5 65.0 12.21 38.69 5.962 2.520 4.6 1.0000 1.0000 4 Jib
A78: 8.5 70.0 12.03 40.76 6.220 2.127 8.6 1.0000 1.0000 2 Asym Spin tacked on CL
A79: 8.5 75.0 11.82 43.09 6.444 1.668 8.5 1.0000 1.0000 2 Asym Spin tacked on CL
... A118: Portsmouth, RI USA
A121: =A61 -> POLAR SUMMARY TABLES
A123: =A63 -> CERT. NO: 42449 YACHT: SHUANG HSI
A124: =A64 -> SAIL NO: USA-176 CLASS: TASHIBA 40
A126: ----------------------------------------------------------------------------
A127: VTW BTW VAW BAW V VMG PHI REEF FLAT Headsail
A128: ----------------------------------------------------------------------------
A130: 10.6 46.6 14.84 30.96 5.466 3.759 6.0 1.0000 0.8946 3 OPTUP
A132: 10.6 40.0 14.26 28.35 4.459 3.416 4.2 1.0000 0.7655 4 Jib
...

Sheet WL Targets
B1: VPP HandyGuide | H1: VPP HandyGuide
A4: ='Graphics Grid'!A1&" Targets" -> SHUANG HSI Targets | G4: =A4 -> SHUANG HSI Targets
A6: True Wind Speed | C6: UPWIND VMG | E6: True Wind Angle | G6: True Wind Speed | I6: UPWIND VMG | K6: True Wind Angle
B7: Boat Speed | C7: App Wind Speed | D7: App Wind Angle | H7: Boat Speed | I7: App Wind Speed | J7: App Wind Angle
A8: (kts) | B8: (kts) | C8: (kts) | D8: (deg) | E8: (deg) | G8: (kts) | H8: (kts) | I8: (kts) | J8: (deg) | K8: (deg)
A9: 6.3376915 | B9: 4.084 | C9: 9.4681458 | D9: 31.106272 | E9: 50.6 | G9: =A9 -> 6.3376915 | H9: =B9 -> 4.084 | I9: =C9 -> 9.4681458 | J9: =D9 -> 31.106272 | K9: =E9 -> 50.6
A10: 8.4502554 | B10: 5.058 | C10: 12.334891 | D10: 31.343584 | E10: 49.6 | G10: =A10 -> 8.4502554 | H10: =B10 -> 5.058 | I10: =C10 -> 12.334891 | J10: =D10 -> 31.343584 | K10: =E10 -> 49.6
A11: 10.562819 | B11: 5.466 | C11: 14.837339 | D11: 30.958742 | E11: 46.6 | G11: =A11 -> 10.562819 | H11: =B11 -> 5.466 | I11: =C11 -> 14.837339 | J11: =D11 -> 30.958742 | K11: =E11 -> 46.6
A12: 12.675383 | B12: 6.034 | C12: 17.259314 | D12: 32.144207 | E12: 47.4 | G12: =A12 -> 12.675383 | H12: =B12 -> 6.034 | I12: =C12 -> 17.259314 | J12: =D12 -> 32.144207 | K12: =E12 -> 47.4
A13: 16.900511 | B13: 6.472 | C13: 21.744534 | D13: 32.192513 | E13: 45.1 | G13: =A13 -> 16.900511 | H13: =B13 -> 6.472 | I13: =C13 -> 21.744534 | J13: =D13 -> 32.192513 | K13: =E13 -> 45.1
A14: 21.125638 | B14: 6.607 | C14: 25.941129 | D14: 32.598036 | E14: 43.8 | G14: =A14 -> 21.125638 | H14: =B14 -> 6.607 | I14: =C14 -> 25.941129 | J14: =D14 -> 32.598036 | K14: =E14 -> 43.8
A15: 25.350766 | B15: 6.652 | C15: 29.94965 | D15: 33.799584 | E15: 44 | G15: =A15 -> 25.350766 | H15: =B15 -> 6.652 | I15: =C15 -> 29.94965 | J15: =D15 -> 33.799584 | K15: =E15 -> 44
A17: True Wind Speed | C17: DOWNWIND VMG | E17: True Wind Angle | G17: True Wind Speed | I17: DOWNWIND VMG | K17: True Wind Angle
B18: Boat Speed | C18: App Wind Speed | D18: App Wind Angle | H18: Boat Speed | I18: App Wind Speed | J18: App Wind Angle
A19: (kts) | B19: (kts) | C19: (kts) | D19: (deg) | E19: (deg) | G19: (kts) | H19: (kts) | I19: (kts) | J19: (deg) | K19: (deg)
A20: 6.3376915 | B20: 3.828 | C20: 4.0338827 | D20: 107.40684 | E20: 142.6 | G20: =A20 -> 6.3376915 | H20: =B20 -> 3.828 | I20: =C20 -> 4.0338827 | J20: =D20 -> 107.40684 | K20: =E20 -> 142.6
A21: 8.4502554 | B21: 4.744 | C21: 5.171387 | D21: 116.84066 | E21: 146.9 | G21: =A21 -> 8.4502554 | H21: =B21 -> 4.744 | I21: =C21 -> 5.171387 | J21: =D21 -> 116.84066 | K21: =E21 -> 146.9
A22: 10.562819 | B22: 5.365 | C22: 6.23169 | D22: 131.09613 | E22: 153.6 | G22: =A22 -> 10.562819 | H22: =B22 -> 5.365 | I22: =C22 -> 6.23169 | J22: =D22 -> 131.09613 | K22: =E22 -> 153.6
A23: 12.675383 | B23: 5.895 | C23: 7.46394 | D23: 142.9147 | E23: 159.2 | G23: =A23 -> 12.675383 | H23: =B23 -> 5.895 | I23: =C23 -> 7.46394 | J23: =D23 -> 142.9147 | K23: =E23 -> 159.2
A24: 16.900511 | B24: 6.788 | C24: 10.152214 | D24: 171.99289 | E24: 175.2 | G24: =A24 -> 16.900511 | H24: =B24 -> 6.788 | I24: =C24 -> 10.152214 | J24: =D24 -> 171.99289 | K24: =E24 -> 175.2
A25: 21.125638 | B25: 7.491 | C25: 13.639745 | D25: 177.36652 | E25: 178.3 | G25: =A25 -> 21.125638 | H25: =B25 -> 7.491 | I25: =C25 -> 13.639745 | J25: =D25 -> 177.36652 | K25: =E25 -> 178.3
A26: 25.350766 | B26: 8.008 | C26: 17.345778 | D26: 178.09995 | E26: 178.7 | G26: =A26 -> 25.350766 | H26: =B26 -> 8.008 | I26: =C26 -> 17.345778 | J26: =D26 -> 178.09995 | K26: =E26 -> 178.7

Sheet Summary
A1: ORR 2015 | B1: =$A$1&" TRUE WIND POLAR DIAGRAM; "&C3 -> ORR 2015 TRUE WIND POLAR DIAGRAM; VTW: 6.3 | L1: =$A$1&" TRUE WIND POLAR DIAGRAM; "&M3 -> ORR 2015 TRUE WIND POLAR DIAGRAM; VTW: 8.5 | V1: =$A$1&" TRUE WIND POLAR DIAGRAM; "&W3 -> ORR 2015 TRUE WIND POLAR DIAGRAM; VTW: 10.6 | AF1: =$A$1&" TRUE WIND POLAR DIAGRAM; "&AG3 -> ORR 2015 TRUE WIND POLAR DIAGRAM; VTW: 12.7 | AP1: =$A$1&" TRUE WIND POLAR DIAGRAM; "&AQ3 -> ORR 2015 TRUE WIND POLAR DIAGRAM; VTW: 16.9 | AZ1: =$A$1&" TRUE WIND POLAR DIAGRAM; "&BA3 -> ORR 2015 TRUE WIND POLAR DIAGRAM; VTW: 21.1 | BJ1: =$A$1&" TRUE WIND POLAR DIAGRAM; "&BK3 -> ORR 2015 TRUE WIND POLAR DIAGRAM; VTW: 25.4 | BT1: =$A$1&" TRUE WIND POLAR DIAGRAM" -> ORR 2015 TRUE WIND POLAR DIAGRAM
B2: Sail1 | C2: Jib | D2: Sail2 | E2: Symm | F2: Sail3 | G2: Asym | H2: Sail4 | I2: CL Asy | J2: Sail5 | K2: Poled Jib | L2: Sail1 | M2: Jib | N2: Sail2 | O2: Symm | P2: Sail3 | Q2: Asym | R2: Sail4 | S2: CL Asy | T2: Sail5 | U2: Poled Jib | V2: Sail1 | W2: Jib | X2: Sail2 | Y2: Symm | Z2: Sail3 | AA2: Asym | AB2: Sail4 | AC2: CL Asy | AD2: Sail5 | AE2: Poled Jib | AF2: Sail1 | AG2: Jib | AH2: Sail2 | AI2: Symm | AJ2: Sail3 | AK2: Asym | AL2: Sail4 | AM2: CL Asy | AN2: Sail5 | AO2: Poled Jib | AP2: Sail1 | AQ2: Jib | AR2: Sail2 | AS2: Symm | AT2: Sail3 | AU2: Asym | AV2: Sail4 | AW2: CL Asy | AX2: Sail5 | AY2: Poled Jib | AZ2: Sail1 | BA2: Jib | BB2: Sail2 | BC2: Symm | BD2: Sail3 | BE2: Asym | BF2: Sail4 | BG2: CL Asy | BH2: Sail5 | BI2: Poled Jib | BJ2: Sail1 | BK2: Jib | BL2: Sail2 | BM2: Symm | BN2: Sail3 | BO2: Asym | BP2: Sail4 | BQ2: CL Asy | BR2: Sail5 | BS2: Poled Jib
B3: 6.3376913 | C3: ="VTW: "&TEXT(B3,"#0.0") -> VTW: 6.3 | L3: 8.4502554 | M3: ="VTW: "&TEXT(L3,"#0.0") -> VTW: 8.5 | V3: 10.562819 | W3: ="VTW: "&TEXT(V3,"#0.0") -> VTW: 10.6 | AF3: 12.675383 | AG3: ="VTW: "&TEXT(AF3,"#0.0") -> VTW: 12.7 | AP3: 16.900511 | AQ3: ="VTW: "&TEXT(AP3,"#0.0") -> VTW: 16.9 | AZ3: 21.125639 | BA3: ="VTW: "&TEXT(AZ3,"#0.0") -> VTW: 21.1 | BJ3: 25.350765 | BK3: ="VTW: "&TEXT(BJ3,"#0.0") -> VTW: 25.4
B4: BTW | C4: V | D4: BTW | E4: V | F4: BTW | G4: V | H4: BTW | I4: V | J4: BTW | K4: V | L4: BTW | M4: V | N4: BTW | O4: V | P4: BTW | Q4: V | R4: BTW | S4: V | T4: BTW | U4: V | V4: BTW | W4: V | X4: BTW | Y4: V | Z4: BTW | AA4: V | AB4: BTW | AC4: V | AD4: BTW | AE4: V | AF4: BTW | AG4: V | AH4: BTW | AI4: V | AJ4: BTW | AK4: V | AL4: BTW | AM4: V | AN4: BTW | AO4: V | AP4: BTW | AQ4: V | AR4: BTW | AS4: V | AT4: BTW | AU4: V | AV4: BTW | AW4: V | AX4: BTW | AY4: V | AZ4: BTW | BA4: V | BB4: BTW | BC4: V | BD4: BTW | BE4: V | BF4: BTW | BG4: V | BH4: BTW | BI4: V | BJ4: BTW | BK4: V | BL4: BTW | BM4: V | BN4: BTW | BO4: V | BP4: BTW | BQ4: V | BR4: BTW | BS4: V | BZ4: FASTEST SOLUTIONS
A5: 1 | B5: 180 | C5: 2.598 | H5: 180 | I5: 2.8069999 | L5: 180 | M5: 3.4879999 | R5: 180 | S5: 3.7520001 | V5: 180 | W5: 4.3319998 | AB5: 180 | AC5: 4.645 | AF5: 180 | AG5: 5.125 | AL5: 180 | AM5: 5.4569998 | AP5: 180 | AQ5: 6.4260001 | AV5: 180 | AW5: 6.7579999 | AZ5: 180 | BA5: 7.2459998 | BF5: 180 | BG5: 7.4860001 | BJ5: 180 | BK5: 7.7690001 | BP5: 180 | BQ5: 8.0050001
A6: =A5+1 -> 2 | B6: 179 | C6: 2.6059999 | H6: 179 | I6: 2.8099999 | L6: 179 | M6: 3.4979999 | R6: 179 | S6: 3.7550001 | V6: 179 | W6: 4.3439999 | AB6: 179 | AC6: 4.6490002 | AF6: 179 | AG6: 5.1389999 | AL6: 179 | AM6: 5.461 | AP6: 179 | AQ6: 6.4390001 | AV6: 179 | AW6: 6.7610002 | AZ6: 179 | BA6: 7.2550001 | BF6: 179 | BG6: 7.4879999 | BJ6: 179 | BK6: 7.777 | BP6: 179 | BQ6: 8.007
A7: =A6+1 -> 3 | B7: 178 | C7: 2.6140001 | H7: 178 | I7: 2.8139999 | L7: 178 | M7: 3.5090001 | R7: 178 | S7: 3.76 | V7: 178 | W7: 4.3559999 | AB7: 178 | AC7: 4.6550002 | AF7: 178 | AG7: 5.152 | AL7: 178 | AM7: 5.467 | AP7: 178 | AQ7: 6.4530001 | AV7: 178 | AW7: 6.7670002 | AZ7: 178 | BA7: 7.263 | BF7: 178.3 | BG7: 7.4910002 | BJ7: 178 | BK7: 7.7849998 | BP7: 178.7 | BQ7: 8.0080004
A8: =A7+1 -> 4 | B8: 177 | C8: 2.6229999 | H8: 177 | I8: 2.8199999 | L8: 177 | M8: 3.52 | R8: 177 | S8: 3.767 | V8: 177 | W8: 4.3699999 | AB8: 177 | AC8: 4.6630001 | AF8: 177 | AG8: 5.1669998 | AL8: 177 | AM8: 5.4749999 | AP8: 177 | AQ8: 6.467 | AV8: 177 | AW8: 6.7729998 | AZ8: 177 | BA8: 7.2719998 | BF8: 178 | BG8: 7.4920001 | BJ8: 177 | BK8: 7.7930002 | BP8: 178 | BQ8: 8.0109997
A9: =A8+1 -> 5 | B9: 176 | C9: 2.632 | H9: 176 | I9: 2.8269999 | L9: 176 | M9: 3.5309999 | R9: 176 | S9: 3.776 | V9: 176 | W9: 4.3829999 | AB9: 176 | AC9: 4.6729999 | AF9: 176 | AG9: 5.1810002 | AL9: 176 | AM9: 5.4850001 | AP9: 176 | AQ9: 6.4819999 | AV9: 176 | AW9: 6.7810001 | AZ9: 176 | BA9: 7.2820001 | BF9: 177 | BG9: 7.4970002 | BJ9: 176.5 | BK9: 7.7969999 | BP9: 177 | BQ9: 8.0150003
A10: =A9+1 -> 6 | B10: 175 | C10: 2.641 | H10: 175 | I10: 2.835 | L10: 175 | M10: 3.543 | R10: 175 | S10: 3.786 | V10: 175 | W10: 4.3969998 | AB10: 175 | AC10: 4.6849999 | AF10: 175 | AG10: 5.1960001 | AL10: 175 | AM10: 5.4959998 | AP10: 175 | AQ10: 6.4970002 | AV10: 175.2 | AW10: 6.7880001 | AZ10: 175.8 | BA10: 7.2839999 | BF10: 176 | BG10: 7.5019999 | BJ10: 176 | BK10: 7.8010001 | BP10: 176 | BQ10: 8.0200005
A11: =A10+1 -> 7 | B11: 174 | C11: 2.651 | H11: 174 | I11: 2.8440001 | L11: 174 | M11: 3.5550001 | R11: 174 | S11: 3.7980001 | V11: 174 | W11: 4.4120002 | AB11: 174 | AC11: 4.6989999 | AF11: 174 | AG11: 5.2119999 | AL11: 174 | AM11: 5.5089998 | AP11: 174 | AQ11: 6.5120001 | AV11: 175 | AW11: 6.7909999 | AZ11: 175 | BA11: 7.2909999 | BF11: 175 | BG11: 7.5089998 | BJ11: 175 | BK11: 7.8099999 | BP11: 175 | BQ11: 8.026
A12: =A11+1 -> 8 | B12: 173 | C12: 2.661 | H12: 173 | I12: 2.855 | L12: 173 | M12: 3.5680001 | R12: 173 | S12: 3.8110001 | V12: 173 | W12: 4.4260001 | AB12: 173 | AC12: 4.7140002 | AF12: 173 | AG12: 5.2280002 | AL12: 173 | AM12: 5.5240002 | AP12: 173 | AQ12: 6.527 | AV12: 174 | AW12: 6.802 | AZ12: 174 | BA12: 7.3010001 | BF12: 174 | BG12: 7.5159998 | BJ12: 174 | BK12: 7.8179998 | BP12: 174 | BQ12: 8.0319996
A13: =A12+1 -> 9 | B13: 172 | C13: 2.671 | H13: 172 | I13: 2.8670001 | L13: 172 | M13: 3.5810001 | R13: 172 | S13: 3.826 | V13: 172 | W13: 4.441 | AB13: 172 | AC13: 4.7319999 | AF13: 172 | AG13: 5.243 | AL13: 172 | AM13: 5.54 | AP13: 172.5 | AQ13: 6.5349998 | AV13: 173 | AW13: 6.8140001 | AZ13: 173 | BA13: 7.3099999 | BF13: 173 | BG13: 7.5240002 | BJ13: 173 | BK13: 7.8270001 | BP13: 173 | BQ13: 8.0389996
A14: =A13+1 -> 10 | B14: 171 | C14: 2.681 | H14: 171 | I14: 2.8800001 | L14: 171 | M14: 3.5929999 | R14: 171 | S14: 3.8429999 | V14: 171 | W14: 4.4569998 | AB14: 171 | AC14: 4.7509999 | AF14: 171 | AG14: 5.2589998 | AL14: 171 | AM14: 5.5580001 | AP14: 172 | AQ14: 6.5419998 | AV14: 172 | AW14: 6.8270001 | AZ14: 172 | BA14: 7.3200002 | BF14: 172 | BG14: 7.533 | BJ14: 172 | BK14: 7.835 | BP14: 172 | BQ14: 8.0469999
A15: =A14+1 -> 11 | B15: 170 | C15: 2.6919999 | H15: 170 | I15: 2.8940001 | L15: 170 | M15: 3.6070001 | R15: 170 | S15: 3.8610001 | V15: 170 | W15: 4.4720001 | AB15: 170 | AC15: 4.7719998 | AF15: 170 | AG15: 5.276 | AL15: 170 | AM15: 5.5780001 | AP15: 171 | AQ15: 6.5570002 | AV15: 171 | AW15: 6.842 | AZ15: 171 | BA15: 7.329 | BF15: 171 | BG15: 7.5430002 | BJ15: 171 | BK15: 7.8429999 | BP15: 171 | BQ15: 8.0559998
A16: =A15+1 -> 12 | B16: 169 | C16: 2.7019999 | H16: 169 | I16: 2.9100001 | L16: 169 | M16: 3.6199999 | R16: 169 | S16: 3.881 | V16: 169 | W16: 4.4879999 | AB16: 169 | AC16: 4.7950001 | AF16: 170 | AG16: 5.2750001 | AL16: 169 | AM16: 5.599 | AP16: 170 | AQ16: 6.572 | AV16: 170 | AW16: 6.8569999 | AZ16: 170 | BA16: 7.3390002 | BF16: 170 | BG16: 7.5539999 | BJ16: 170 | BK16: 7.8520002 | BP16: 170 | BQ16: 8.066
A17: =A16+1 -> 13 | B17: 168 | C17: 2.7130001 | H17: 168 | I17: 2.927 | L17: 168 | M17: 3.6329999 | R17: 168 | S17: 3.902 | V17: 168.7 | W17: 4.493 | AB17: 168 | AC17: 4.8200002 | AF17: 169 | AG17: 5.2919998 | AL17: 168 | AM17: 5.6220002 | AP17: 169 | AQ17: 6.5869999 | AV17: 169 | AW17: 6.8740001 | AZ17: 169 | BA17: 7.348 | BF17: 169 | BG17: 7.5650001 | BJ17: 169 | BK17: 7.8600001 | BP17: 169 | BQ17: 8.0760002
... A126: =A125+1 -> 122 | B126: 60 | C126: 4.7189999 | H126: 60 | I126: 4.494 | L126: 60 | M126: 5.7519999 | R126: 60 | S126: 5.5900002 | V126: 60 | W126: 6.4990001 | AB126: 60 | AC126: 6.349 | AF126: 60 | AG126: 6.9190001 | AL126: 60 | AM126: 6.8140001 | AP126: 60 | AQ126: 7.2880001 | AV126: 60 | AW126: 7.211 | AZ126: 60 | BA126: 7.447 | BF126: 60 | BG126: 7.362 | BJ126: 60 | BK126: 7.4910002 | BP126: 60 | BQ126: 7.401
A127: =A126+1 -> 123 | B127: 59 | C127: 4.665 | L127: 59 | M127: 5.7049999 | V127: 59 | W127: 6.4489999 | AF127: 59 | AG127: 6.8800001 | AP127: 59 | AQ127: 7.256 | AZ127: 59 | BA127: 7.4159999 | BJ127: 59 | BK127: 7.4590001
A128: =A127+1 -> 124 | B128: 58 | C128: 4.6090002 | L128: 58 | M128: 5.6560001 | V128: 58 | W128: 6.3930001 | AF128: 58 | AG128: 6.8379998 | AP128: 58 | AQ128: 7.2220001 | AZ128: 58 | BA128: 7.3829999 | BJ128: 58 | BK128: 7.4250002
A129: =A128+1 -> 125 | B129: 57 | C129: 4.5489998 | L129: 57 | M129: 5.6040001 | V129: 57 | W129: 6.3319998 | AF129: 57 | AG129: 6.7919998 | AP129: 57 | AQ129: 7.1869998 | AZ129: 57 | BA129: 7.3499999 | BJ129: 57 | BK129: 7.3899999
A130: =A129+1 -> 126 | B130: 56 | C130: 4.4860001 | L130: 56 | M130: 5.5489998 | V130: 56 | W130: 6.2659998 | AF130: 56 | AG130: 6.7420001 | AP130: 56 | AQ130: 7.1500001 | AZ130: 56 | BA130: 7.3140001 | BJ130: 56 | BK130: 7.3530002
A131: =A130+1 -> 127 | B131: 55 | C131: 4.4200001 | L131: 55 | M131: 5.4910002 | V131: 55 | W131: 6.1939998 | AF131: 55 | AG131: 6.6880002 | AP131: 55 | AQ131: 7.1110001 | AZ131: 55 | BA131: 7.2779999 | BJ131: 55 | BK131: 7.316
A132: =A131+1 -> 128 | B132: 54 | C132: 4.3499999 | L132: 54 | M132: 5.428 | V132: 54 | W132: 6.1170001 | AF132: 54 | AG132: 6.6279998 | AP132: 54 | AQ132: 7.0700002 | AZ132: 54 | BA132: 7.2389998 | BJ132: 54 | BK132: 7.276
A133: =A132+1 -> 129 | B133: 53 | C133: 4.276 | L133: 53 | M133: 5.3579998 | V133: 53 | W133: 6.0349998 | AF133: 53 | AG133: 6.5619998 | AP133: 53 | AQ133: 7.026 | AZ133: 53 | BA133: 7.198 | BJ133: 53 | BK133: 7.2350001
A134: =A133+1 -> 130 | B134: 52 | C134: 4.198 | L134: 52 | M134: 5.2810001 | V134: 52 | W134: 5.9489999 | AF134: 52 | AG134: 6.4879999 | AP134: 52 | AQ134: 6.9790001 | AZ134: 52 | BA134: 7.1550002 | BJ134: 52 | BK134: 7.191
A135: =A134+1 -> 131 | B135: 51 | C135: 4.1149998 | L135: 51 | M135: 5.1960001 | V135: 51 | W135: 5.8639998 | AF135: 51 | AG135: 6.4060001 | AP135: 51 | AQ135: 6.927 | AZ135: 51 | BA135: 7.1090002 | BJ135: 51 | BK135: 7.1440001
A136: =A135+1 -> 132 | B136: 50.599998 | C136: 4.0840001 | L136: 50 | M136: 5.1009998 | V136: 50 | W136: 5.7789998 | AF136: 50 | AG136: 6.3140001 | AP136: 50 | AQ136: 6.8709998 | AZ136: 50 | BA136: 7.059 | BJ136: 50 | BK136: 7.0939999
A137: =A136+1 -> 133 | B137: 50 | C137: 4.0279999 | L137: 49.599998 | M137: 5.0580001 | V137: 49 | W137: 5.6919999 | AF137: 49 | AG137: 6.2140002 | AP137: 49 | AQ137: 6.809 | AZ137: 49 | BA137: 7.006 | BJ137: 49 | BK137: 7.04
A138: =A137+1 -> 134 | B138: 49 | C138: 3.9349999 | L138: 49 | M138: 4.9970002 | V138: 48 | W138: 5.6030002 | AF138: 48 | AG138: 6.105 | AP138: 48 | AQ138: 6.7399998 | AZ138: 48 | BA138: 6.948 | BJ138: 48 | BK138: 6.9809999
... A149: =A148+1 -> 145 | B149: 38 | C149: 2.4649999 | L149: 38 | M149: 3.3099999 | V149: 38 | W149: 3.9909999 | AF149: 38 | AG149: 4.5700002 | AP149: 38 | AQ149: 5.2849998 | AZ149: 38 | BA149: 5.4959998 | BJ149: 38 | BK149: 5.4359999
A150: =A149+1 -> 146 | L150: 37 | M150: 3.053 | V150: 37 | W150: 3.704 | AF150: 37 | AG150: 4.2600002 | AP150: 37 | AQ150: 4.9829998 | AZ150: 37 | BA150: 5.092 | BJ150: 37 | BK150: 4.5999999
A151: =A150+1 -> 147 | AF151: 36 | AG151: 3.852 | AP151: 36 | AQ151: 4.573
A152: =A151+1 -> 148
A153: =A152+1 -> 149
A154: =A153+1 -> 150
A155: =A154+1 -> 151
A156: =A155+1 -> 152
A157: =A156+1 -> 153
A158: =A157+1 -> 154
...

Sheet Summary AW
A1: =Summary!A1 -> ORR 2015 | B1: =$A$1&" APPARENT WIND POLAR DIAGRAM; "&C3 -> ORR 2015 APPARENT WIND POLAR DIAGRAM; VTW: 6 | L1: =$A$1&" APPARENT WIND POLAR DIAGRAM; "&M3 -> ORR 2015 APPARENT WIND POLAR DIAGRAM; VTW: 8 | V1: =$A$1&" APPARENT WIND POLAR DIAGRAM; "&W3 -> ORR 2015 APPARENT WIND POLAR DIAGRAM; VTW: 11 | AF1: =$A$1&" APPARENT WIND POLAR DIAGRAM; "&AG3 -> ORR 2015 APPARENT WIND POLAR DIAGRAM; VTW: 13 | AP1: =$A$1&" APPARENT WIND POLAR DIAGRAM; "&AQ3 -> ORR 2015 APPARENT WIND POLAR DIAGRAM; VTW: 17 | AZ1: =$A$1&" APPARENT WIND POLAR DIAGRAM; "&BA3 -> ORR 2015 APPARENT WIND POLAR DIAGRAM; VTW: 21 | BJ1: =$A$1&" APPARENT WIND POLAR DIAGRAM; "&BK3 -> ORR 2015 APPARENT WIND POLAR DIAGRAM; VTW: 25 | BT1: =$A$1&" APPARENT WIND POLAR DIAGRAM" -> ORR 2015 APPARENT WIND POLAR DIAGRAM
B2: Sail1 | C2: Jib | D2: Sail2 | E2: Symm | F2: Sail3 | G2: Asym | H2: Sail4 | I2: CL Asy | J2: Sail5 | K2: Poled Jib | L2: Sail1 | M2: Jib | N2: Sail2 | O2: Symm | P2: Sail3 | Q2: Asym | R2: Sail4 | S2: CL Asy | T2: Sail5 | U2: Poled Jib | V2: Sail1 | W2: Jib | X2: Sail2 | Y2: Symm | Z2: Sail3 | AA2: Asym | AB2: Sail4 | AC2: CL Asy | AD2: Sail5 | AE2: Poled Jib | AF2: Sail1 | AG2: Jib | AH2: Sail2 | AI2: Symm | AJ2: Sail3 | AK2: Asym | AL2: Sail4 | AM2: CL Asy | AN2: Sail5 | AO2: Poled Jib | AP2: Sail1 | AQ2: Jib | AR2: Sail2 | AS2: Symm | AT2: Sail3 | AU2: Asym | AV2: Sail4 | AW2: CL Asy | AX2: Sail5 | AY2: Poled Jib | AZ2: Sail1 | BA2: Jib | BB2: Sail2 | BC2: Symm | BD2: Sail3 | BE2: Asym | BF2: Sail4 | BG2: CL Asy | BH2: Sail5 | BI2: Poled Jib | BJ2: Sail1 | BK2: Jib | BL2: Sail2 | BM2: Symm | BN2: Sail3 | BO2: Asym | BP2: Sail4 | BQ2: CL Asy | BR2: Sail5 | BS2: Poled Jib
B3: 6.3376913 | C3: ="VTW: "&TEXT(B3,"#0") -> VTW: 6 | L3: 8.4502554 | M3: ="VTW: "&TEXT(L3,"#0") -> VTW: 8 | V3: 10.562819 | W3: ="VTW: "&TEXT(V3,"#0") -> VTW: 11 | AF3: 12.675383 | AG3: ="VTW: "&TEXT(AF3,"#0") -> VTW: 13 | AP3: 16.900511 | AQ3: ="VTW: "&TEXT(AP3,"#0") -> VTW: 17 | AZ3: 21.125639 | BA3: ="VTW: "&TEXT(AZ3,"#0") -> VTW: 21 | BJ3: 25.350765 | BK3: ="VTW: "&TEXT(BJ3,"#0") -> VTW: 25
B4: BTW | C4: V | D4: BTW | E4: V | F4: BTW | G4: V | H4: BTW | I4: V | J4: BTW | K4: V | L4: BTW | M4: V | N4: BTW | O4: V | P4: BTW | Q4: V | R4: BTW | S4: V | T4: BTW | U4: V | V4: BTW | W4: V | X4: BTW | Y4: V | Z4: BTW | AA4: V | AB4: BTW | AC4: V | AD4: BTW | AE4: V | AF4: BTW | AG4: V | AH4: BTW | AI4: V | AJ4: BTW | AK4: V | AL4: BTW | AM4: V | AN4: BTW | AO4: V | AP4: BTW | AQ4: V | AR4: BTW | AS4: V | AT4: BTW | AU4: V | AV4: BTW | AW4: V | AX4: BTW | AY4: V | AZ4: BTW | BA4: V | BB4: BTW | BC4: V | BD4: BTW | BE4: V | BF4: BTW | BG4: V | BH4: BTW | BI4: V | BJ4: BTW | BK4: V | BL4: BTW | BM4: V | BN4: BTW | BO4: V | BP4: BTW | BQ4: V | BR4: BTW | BS4: V
B5: 180 | C5: 2.598 | H5: 180 | I5: 2.8069999 | L5: 180 | M5: 3.4879999 | R5: 180 | S5: 3.7520001 | V5: 180 | W5: 4.3319998 | AB5: 180 | AC5: 4.645 | AF5: 180 | AG5: 5.125 | AL5: 180 | AM5: 5.4569998 | AP5: 180 | AQ5: 6.4260001 | AV5: 180 | AW5: 6.7579999 | AZ5: 180 | BA5: 7.2459998 | BF5: 180 | BG5: 7.4860001 | BJ5: 180 | BK5: 7.7690001 | BP5: 180 | BQ5: 8.0050001
B6: 178.17 | C6: 2.6059999 | H6: 178.10001 | I6: 2.8099999 | L6: 178.16 | M6: 3.4979999 | R6: 178.09 | S6: 3.7550001 | V6: 178.17 | W6: 4.3439999 | AB6: 178.11 | AC6: 4.6490002 | AF6: 178.19 | AG6: 5.1389999 | AL6: 178.14 | AM6: 5.461 | AP6: 178.27 | AQ6: 6.4390001 | AV6: 178.25 | AW6: 6.7610002 | AZ6: 178.39 | BA6: 7.2550001 | BF6: 178.39 | BG6: 7.4879999 | BJ6: 178.49001 | BK6: 7.777 | BP6: 178.49001 | BQ6: 8.007
B7: 176.33 | C7: 2.6140001 | H7: 176.19 | I7: 2.8139999 | L7: 176.31 | M7: 3.5090001 | R7: 176.17999 | S7: 3.76 | V7: 176.33 | W7: 4.3559999 | AB7: 176.22 | AC7: 4.6550002 | AF7: 176.37 | AG7: 5.152 | AL7: 176.28999 | AM7: 5.467 | AP7: 176.53999 | AQ7: 6.4530001 | AV7: 176.5 | AW7: 6.7670002 | AZ7: 176.78 | BA7: 7.263 | BF7: 177.32001 | BG7: 7.4910002 | BJ7: 176.97 | BK7: 7.7849998 | BP7: 178.03 | BQ7: 8.0080004
B8: 174.48 | C8: 2.6229999 | H8: 174.28 | I8: 2.8199999 | L8: 174.45 | M8: 3.52 | R8: 174.27 | S8: 3.767 | V8: 174.48 | W8: 4.3699999 | AB8: 174.32001 | AC8: 4.6630001 | AF8: 174.55 | AG8: 5.1669998 | AL8: 174.42999 | AM8: 5.4749999 | AP8: 174.81 | AQ8: 6.467 | AV8: 174.75 | AW8: 6.7729998 | AZ8: 175.16 | BA8: 7.2719998 | BF8: 176.78 | BG8: 7.4920001 | BJ8: 175.46001 | BK8: 7.7930002 | BP8: 176.98 | BQ8: 8.0109997
B9: 172.63 | C9: 2.632 | H9: 172.36 | I9: 2.8269999 | L9: 172.59 | M9: 3.5309999 | R9: 172.35001 | S9: 3.776 | V9: 172.63 | W9: 4.3829999 | AB9: 172.42 | AC9: 4.6729999 | AF9: 172.72 | AG9: 5.1810002 | AL9: 172.56 | AM9: 5.4850001 | AP9: 173.07001 | AQ9: 6.4819999 | AV9: 173 | AW9: 6.7810001 | AZ9: 173.55 | BA9: 7.2820001 | BF9: 175.17 | BG9: 7.4970002 | BJ9: 174.71001 | BK9: 7.7969999 | BP9: 175.47 | BQ9: 8.0150003
B10: 170.75999 | C10: 2.641 | H10: 170.44 | I10: 2.835 | L10: 170.72 | M10: 3.543 | R10: 170.42999 | S10: 3.786 | V10: 170.77 | W10: 4.3969998 | AB10: 170.50999 | AC10: 4.6849999 | AF10: 170.89 | AG10: 5.1960001 | AL10: 170.7 | AM10: 5.4959998 | AP10: 171.33 | AQ10: 6.4970002 | AV10: 171.69 | AW10: 6.7880001 | AZ10: 173.22 | BA10: 7.2839999 | BF10: 173.55 | BG10: 7.5019999 | BJ10: 173.95 | BK10: 7.8010001 | BP10: 173.96001 | BQ10: 8.0200005
B11: 168.89999 | C11: 2.651 | H11: 168.50999 | I11: 2.8440001 | L11: 168.84 | M11: 3.5550001 | R11: 168.5 | S11: 3.7980001 | V11: 168.91 | W11: 4.4120002 | AB11: 168.60001 | AC11: 4.6989999 | AF11: 169.06 | AG11: 5.2119999 | AL11: 168.83 | AM11: 5.5089998 | AP11: 169.59 | AQ11: 6.5120001 | AV11: 171.25 | AW11: 6.7909999 | AZ11: 171.94 | BA11: 7.2909999 | BF11: 171.94 | BG11: 7.5089998 | BJ11: 172.42999 | BK11: 7.8099999 | BP11: 172.45 | BQ11: 8.026
B12: 167.03 | C12: 2.661 | H12: 166.57001 | I12: 2.855 | L12: 166.96001 | M12: 3.5680001 | R12: 166.56 | S12: 3.8110001 | V12: 167.05 | W12: 4.4260001 | AB12: 166.67999 | AC12: 4.7140002 | AF12: 167.22 | AG12: 5.2280002 | AL12: 166.96001 | AM12: 5.5240002 | AP12: 167.85001 | AQ12: 6.527 | AV12: 169.5 | AW12: 6.802 | AZ12: 170.32001 | BA12: 7.3010001 | BF12: 170.34 | BG12: 7.5159998 | BJ12: 170.92 | BK12: 7.8179998 | BP12: 170.94 | BQ12: 8.0319996
B13: 165.14999 | C13: 2.671 | H13: 164.63 | I13: 2.8670001 | L13: 165.08 | M13: 3.5810001 | R13: 164.61 | S13: 3.826 | V13: 165.17999 | W13: 4.441 | AB13: 164.75999 | AC13: 4.7319999 | AF13: 165.38 | AG13: 5.243 | AL13: 165.09 | AM13: 5.54 | AP13: 166.92 | AQ13: 6.5349998 | AV13: 167.75 | AW13: 6.8140001 | AZ13: 168.71001 | BA13: 7.3099999 | BF13: 168.73 | BG13: 7.5240002 | BJ13: 169.41 | BK13: 7.8270001 | BP13: 169.42999 | BQ13: 8.0389996
B14: 163.28 | C14: 2.681 | H14: 162.67 | I14: 2.8800001 | L14: 163.2 | M14: 3.5929999 | R14: 162.66 | S14: 3.8429999 | V14: 163.31 | W14: 4.4569998 | AB14: 162.83 | AC14: 4.7509999 | AF14: 163.53999 | AG14: 5.2589998 | AL14: 163.21001 | AM14: 5.5580001 | AP14: 166.11 | AQ14: 6.5419998 | AV14: 166 | AW14: 6.8270001 | AZ14: 167.10001 | BA14: 7.3200002 | BF14: 167.12 | BG14: 7.533 | BJ14: 167.89999 | BK14: 7.835 | BP14: 167.92999 | BQ14: 8.0469999
B15: 161.39999 | C15: 2.6919999 | H15: 160.71001 | I15: 2.8940001 | L15: 161.32001 | M15: 3.6070001 | R15: 160.7 | S15: 3.8610001 | V15: 161.45 | W15: 4.4720001 | AB15: 160.89999 | AC15: 4.7719998 | AF15: 161.71001 | AG15: 5.276 | AL15: 161.33 | AM15: 5.5780001 | AP15: 164.38 | AQ15: 6.5570002 | AV15: 164.25 | AW15: 6.842 | AZ15: 165.5 | BA15: 7.329 | BF15: 165.52 | BG15: 7.5430002 | BJ15: 166.39 | BK15: 7.8429999 | BP15: 166.42 | BQ15: 8.0559998
B16: 159.52 | C16: 2.7019999 | H16: 158.73 | I16: 2.9100001 | L16: 159.44 | M16: 3.6199999 | R16: 158.73 | S16: 3.881 | V16: 159.58 | W16: 4.4879999 | AB16: 158.95 | AC16: 4.7950001 | AF16: 161.77 | AG16: 5.2750001 | AL16: 159.45 | AM16: 5.599 | AP16: 162.64 | AQ16: 6.572 | AV16: 162.5 | AW16: 6.8569999 | AZ16: 163.89 | BA16: 7.3390002 | BF16: 163.92 | BG16: 7.5539999 | BJ16: 164.89 | BK16: 7.8520002 | BP16: 164.92 | BQ16: 8.066
... B126: 33.189999 | C126: 4.7189999 | H126: 34.470001 | I126: 4.494 | L126: 34.59 | M126: 5.7519999 | R126: 35.419998 | S126: 5.5900002 | V126: 35.939999 | W126: 6.4990001 | AB126: 36.25 | AC126: 6.349 | AF126: 37.18 | AG126: 6.9190001 | AL126: 37.380001 | AM126: 6.8140001 | AP126: 39.830002 | AQ126: 7.2880001 | AV126: 40.080002 | AW126: 7.211 | AZ126: 42.18 | BA126: 7.447 | BF126: 42.450001 | BG126: 7.362 | BJ126: 44.110001 | BK126: 7.4910002 | BP126: 44.32 | BQ126: 7.401
B127: 32.810001 | C127: 4.665 | L127: 34.119999 | M127: 5.7049999 | V127: 35.43 | W127: 6.4489999 | AF127: 36.599998 | AG127: 6.8800001 | AP127: 39.209999 | AQ127: 7.256 | AZ127: 41.48 | BA127: 7.4159999 | BJ127: 43.360001 | BK127: 7.4590001
B128: 32.43 | C128: 4.6090002 | L128: 33.66 | M128: 5.6560001 | V128: 34.939999 | W128: 6.3930001 | AF128: 36.040001 | AG128: 6.8379998 | AP128: 38.59 | AQ128: 7.2220001 | AZ128: 40.779999 | BA128: 7.3829999 | BJ128: 42.619999 | BK128: 7.4250002
B129: 32.060001 | C129: 4.5489998 | L129: 33.209999 | M129: 5.6040001 | V129: 34.459999 | W129: 6.3319998 | AF129: 35.52 | AG129: 6.7919998 | AP129: 37.98 | AQ129: 7.1869998 | AZ129: 40.09 | BA129: 7.3499999 | BJ129: 41.889999 | BK129: 7.3899999
B130: 31.690001 | C130: 4.4860001 | L130: 32.75 | M130: 5.5489998 | V130: 33.990002 | W130: 6.2659998 | AF130: 35 | AG130: 6.7420001 | AP130: 37.360001 | AQ130: 7.1500001 | AZ130: 39.41 | BA130: 7.3140001 | BJ130: 41.150002 | BK130: 7.3530002
B131: 31.33 | C131: 4.4200001 | L131: 32.310001 | M131: 5.4910002 | V131: 33.52 | W131: 6.1939998 | AF131: 34.490002 | AG131: 6.6880002 | AP131: 36.759998 | AQ131: 7.1110001 | AZ131: 38.720001 | BA131: 7.2779999 | BJ131: 40.43 | BK131: 7.316
B132: 30.98 | C132: 4.3499999 | L132: 31.870001 | M132: 5.428 | V132: 33.07 | W132: 6.1170001 | AF132: 33.990002 | AG132: 6.6279998 | AP132: 36.16 | AQ132: 7.0700002 | AZ132: 38.049999 | BA132: 7.2389998 | BJ132: 39.709999 | BK132: 7.276
B133: 30.639999 | C133: 4.276 | L133: 31.440001 | M133: 5.3579998 | V133: 32.619999 | W133: 6.0349998 | AF133: 33.509998 | AG133: 6.5619998 | AP133: 35.57 | AQ133: 7.026 | AZ133: 37.369999 | BA133: 7.198 | BJ133: 38.990002 | BK133: 7.2350001
B134: 30.299999 | C134: 4.198 | L134: 31.030001 | M134: 5.2810001 | V134: 32.189999 | W134: 5.9489999 | AF134: 33.029999 | AG134: 6.4879999 | AP134: 34.98 | AQ134: 6.9790001 | AZ134: 36.709999 | BA134: 7.1550002 | BJ134: 38.279999 | BK134: 7.191
B135: 29.969999 | C135: 4.1149998 | L135: 30.629999 | M135: 5.1960001 | V135: 31.77 | W135: 5.8639998 | AF135: 32.57 | AG135: 6.4060001 | AP135: 34.400002 | AQ135: 6.927 | AZ135: 36.07 | BA135: 7.1090002 | BJ135: 37.580002 | BK135: 7.1440001
B136: 29.85 | C136: 4.0840001 | L136: 30.25 | M136: 5.1009998 | V136: 31.33 | W136: 5.7789998 | AF136: 32.130001 | AG136: 6.3140001 | AP136: 33.830002 | AQ136: 6.8709998 | AZ136: 35.439999 | BA136: 7.059 | BJ136: 36.889999 | BK136: 7.0939999
B137: 29.639999 | C137: 4.0279999 | L137: 30.1 | M137: 5.0580001 | V137: 30.889999 | W137: 5.6919999 | AF137: 31.700001 | AG137: 6.2140002 | AP137: 33.259998 | AQ137: 6.809 | AZ137: 34.810001 | BA137: 7.006 | BJ137: 36.200001 | BK137: 7.04
B138: 29.33 | C138: 3.9349999 | L138: 29.889999 | M138: 4.9970002 | V138: 30.459999 | W138: 5.6030002 | AF138: 31.280001 | AG138: 6.105 | AP138: 32.709999 | AQ138: 6.7399998 | AZ138: 34.189999 | BA138: 6.948 | BJ138: 35.52 | BK138: 6.9809999
... B149: 26.809999 | C149: 2.4649999 | L149: 26.74 | M149: 3.3099999 | V149: 27.01 | W149: 3.9909999 | AF149: 27.35 | AG149: 4.5700002 | AP149: 28.23 | AQ149: 5.2849998 | AZ149: 29.219999 | BA149: 5.4959998 | BJ149: 30.24 | BK149: 5.4359999
L150: 26.66 | M150: 3.053 | V150: 26.870001 | W150: 3.704 | AF150: 27.16 | AG150: 4.2600002 | AP150: 27.969999 | AQ150: 4.9829998 | AZ150: 29.1 | BA150: 5.092 | BJ150: 31.209999 | BK150: 4.5999999
AF151: 27.129999 | AG151: 3.852 | AP151: 27.83 | AQ151: 4.573
A187: POLAR PLOT FORMAT
B188: Sail1 | D188: Sail1 | H188: Sail1 | J188: Sail1 | BZ188: TWS: 6 | CC188: TWS: 8 | CF188: TWS: 10 | CI188: TWS: 12 | CL188: TWS: 16 | CO188: TWS: 20 | CR188: TWS: 24
B189: 6 | C189: ="VTW: "&TEXT(B189,"#0") -> VTW: 6 | H189: X | I189: Y
B190: 2.9183869e-06 | C190: -2.598 | H190: 3.1531607e-06 | I190: -2.8069999 | L190: 3.918142e-06 | M190: -3.4879999 | R190: 4.2146988e-06 | S190: -3.7520001 | V190: 4.8662244e-06 | W190: -4.3319998 | AB190: 5.217824e-06 | AC190: -4.645 | AF190: 5.7570179e-06 | AG190: -5.125 | AL190: 6.12996e-06 | AM190: -5.4569998 | AP190: 7.218458e-06 | AQ190: -6.4260001 | AV190: 7.5914002e-06 | AW190: -6.7579999 | AZ190: 8.1395806e-06 | BA190: -7.2459998 | BF190: 8.4091778e-06 | BG190: -7.4860001 | BJ190: 8.7270775e-06 | BK190: -7.7690001 | BP190: 8.9921812e-06 | BQ190: -8.0050001 | BZ190: 3.1531607e-06 | CA190: -2.8069999 | CC190: 4.2146988e-06 | CD190: -3.7520001 | CF190: 5.217824e-06 | CG190: -4.645 | CI190: 6.12996e-06 | CJ190: -5.4569998 | CL190: 7.5914002e-06 | CM190: -6.7579999 | CO190: 8.4091778e-06 | CP190: -7.4860001 | CR190: 8.9921812e-06 | CS190: -8.0050001
B191: 0.08322323 | C191: -2.6046707 | H191: 0.093168872 | I191: -2.808455 | L191: 0.11231933 | M191: -3.4961962 | R191: 0.12515712 | S191: -3.7529137 | V191: 0.13872667 | W191: -4.3417842 | AB191: 0.15333259 | AC191: -4.6464709 | AF191: 0.16232186 | AG191: -5.1364357 | AL191: 0.17725611 | AM191: -5.4581225 | AP191: 0.19439757 | AQ191: -6.436065 | AV191: 0.20647841 | AW191: -6.7578465 | AZ191: 0.20384538 | BA191: -7.2521358 | BF191: 0.21039203 | BG191: -7.4850436 | BJ191: 0.20494291 | BK191: -7.7742991 | BP191: 0.21100398 | BQ191: -8.0042193 | BZ191: 0.093168872 | CA191: -2.808455 | CC191: 0.12515712 | CD191: -3.7529137 | CF191: 0.15333259 | CG191: -4.6464709 | CI191: 0.17725611 | CJ191: -5.4581225 | CL191: 0.20647841 | CM191: -6.7578465 | CO191: 0.21039203 | CP191: -7.4850436 | CR191: 0.21100398 | CS191: -8.0042193
B192: 0.16732439 | C192: -2.6086393 | H192: 0.18698777 | I192: -2.8077804 | L192: 0.22583671 | M192: -3.5017252 | R192: 0.25050406 | S192: -3.751646 | V192: 0.2788313 | W192: -4.3470667 | AB192: 0.30688868 | AC192: -4.6448731 | AF192: 0.32619506 | AG192: -5.1416632 | AL192: 0.35375695 | AM192: -5.4555426 | AP192: 0.38945734 | AQ192: -6.4412369 | AV192: 0.41312292 | AW192: -6.7543779 | AZ192: 0.40797103 | BA192: -7.2515329 | BF192: 0.35026978 | BG192: -7.4828066 | BJ192: 0.41151441 | BK192: -7.7741159 | BP192: 0.27529378 | BQ192: -8.003267 | BZ192: 0.18698777 | CA192: -2.8077804 | CC192: 0.25050406 | CD192: -3.751646 | CF192: 0.30688868 | CG192: -4.6448731 | CI192: 0.35375695 | CJ192: -5.4555426 | CL192: 0.41312292 | CM192: -6.7543779 | CO192: 0.42083423 | CP192: -7.4801714 | CR192: 0.42206527 | CS192: -7.9998735
B193: 0.25231781 | C193: -2.6108359 | H193: 0.28106428 | I193: -2.8059584 | L193: 0.34043856 | M193: -3.5034985 | R193: 0.37610388 | S193: -3.7481775 | V193: 0.42036936 | W193: -4.3497343 | AB193: 0.46151278 | AC193: -4.6401052 | AF193: 0.49075183 | AG193: -5.1436417 | AL193: 0.5314199 | AM193: -5.4491483 | AP193: 0.58500413 | AQ193: -6.4404859 | AV193: 0.6197478 | AW193: -6.7445859 | AZ193: 0.61357158 | BA193: -7.2460687 | BF193: 0.42083423 | BG193: -7.4801714 | BJ193: 0.61686297 | BK193: -7.7685476 | BP193: 0.42206527 | BQ193: -7.9998735 | BZ193: 0.28106428 | CA193: -2.8059584 | CC193: 0.37610388 | CD193: -3.7481775 | CF193: 0.46151278 | CG193: -4.6401052 | CI193: 0.5314199 | CJ193: -5.4491483 | CL193: 0.6197478 | CM193: -6.7445859 | CO193: 0.63125278 | CP193: -7.470377 | CR193: 0.63304188 | CS193: -7.9899617
B194: 0.33762592 | C194: -2.6102553 | H194: 0.37584798 | I194: -2.8019041 | L194: 0.45539237 | M194: -3.5015108 | R194: 0.5026698 | S194: -3.7423922 | V194: 0.5622395 | W194: -4.346789 | AB194: 0.61642233 | AC194: -4.6321648 | AF194: 0.65653331 | AG194: -5.1392341 | AL194: 0.71024714 | AM194: -5.4388211 | AP194: 0.78210238 | AQ194: -6.4346436 | AV194: 0.8264033 | AW194: -6.7304547 | AZ194: 0.81803905 | BA194: -7.2359061 | BF194: 0.63125278 | BG194: -7.470377 | BJ194: 0.71886599 | BK194: -7.7637903 | BP194: 0.63304188 | BQ194: -7.9899617 | BZ194: 0.37584798 | CA194: -2.8019041 | CC194: 0.5026698 | CD194: -3.7423922 | CF194: 0.61642233 | CG194: -4.6321648 | CI194: 0.71024714 | CJ194: -5.4388211 | CL194: 0.8264033 | CM194: -6.7304547 | CO194: 0.8427532 | CP194: -7.4545133 | CR194: 0.84389419 | CS194: -7.975478
...

Sheet Graphics Grid
A1: SHUANG HSI | R1: TWA | S1: 30 | U1: TWA | V1: 60 | X1: TWA | Y1: 90 | AA1: TWA | AB1: 120 | AD1: TWA | AE1: 150 | AG1: TWA | AH1: 180
A2: USA-176 | H2: =A1&CHAR(10)&A2&CHAR(10)&A3 -> SHUANG HSI USA-176 TASHIBA 40 | O2: BOAT | R2: cosine | S2: =COS(RADIANS(S1)) -> 0.8660254 | U2: cosine | V2: =COS(RADIANS(V1)) -> 0.5 | X2: cosine | Y2: =COS(RADIANS(Y1)) -> 6.1257423e-17 | AA2: cosine | AB2: =COS(RADIANS(AB1)) -> -0.5 | AD2: cosine | AE2: =COS(RADIANS(AE1)) -> -0.8660254 | AG2: cosine | AH2: =COS(RADIANS(AH1)) -> -1 | AJ2: data xjib | AK2: 0 | AL2: 0.0161 | AM2: 0.0312 | AN2: 0.0419 | AO2: 0.05 | AP2: 0.0537 | AQ2: 0.056 | AR2: 0.057 | AS2: 0.059
A3: TASHIBA 40 | I3: TWS | J3: VS | K3: TWA | R3: sine | S3: =SIN(RADIANS(S1)) -> 0.5 | U3: sine | V3: =SIN(RADIANS(V1)) -> 0.8660254 | X3: sine | Y3: =SIN(RADIANS(Y1)) -> 1 | AA3: sine | AB3: =SIN(RADIANS(AB1)) -> 0.8660254 | AD3: sine | AE3: =SIN(RADIANS(AE1)) -> 0.5 | AG3: sine | AH3: =SIN(RADIANS(AH1)) -> 1.2251485e-16 | AJ3: data yjib | AK3: 0.5 | AL3: 0.45 | AM3: 0.4 | AN3: 0.35 | AO3: 0.3 | AP3: 0.25 | AQ3: 0.19 | AR3: 0.15 | AS3: 0.1
A4: Vmax | B4: 10 | C4: 2 | H4: VMG UP | I4: =Deckman!A3 -> 6 | J4: =Deckman!B3 -> 4.0840001 | K4: =Deckman!C3 -> 50.599998 | L4: =J4*SIN(RADIANS(K4)) -> 3.1558439 | M4: =J4*COS(RADIANS(K4)) -> 2.5922396 | R4: Xcenter | S4: Ycenter | U4: Xcenter | V4: Ycenter | X4: Xcenter | Y4: Ycenter | AA4: Xcenter | AB4: Ycenter | AD4: Xcenter | AE4: Ycenter | AG4: Xcenter | AH4: Ycenter | AJ4: data xmain | AK4: 0 | AL4: 0.019 | AM4: 0.03 | AN4: 0.037 | AO4: 0.045 | AP4: 0.05 | AQ4: 0.053 | AR4: 0.056 | AS4: 0.057
A5: Xpmax | B5: 10 | D5: =DEGREES(ATAN(B5/B7)) -> 63.434949 | I5: =Deckman!A4 -> 8 | J5: =Deckman!B4 -> 5.0580001 | K5: =Deckman!C4 -> 49.599998 | L5: =J5*SIN(RADIANS(K5)) -> 3.8518607 | M5: =J5*COS(RADIANS(K5)) -> 3.2781906 | O5: Center | P5: 1.25 | R5: =$P5*S3 -> 0.625 | S5: =$P5*S2 -> 1.0825318 | U5: =$P5*V3 -> 1.0825318 | V5: =$P5*V2 -> 0.625 | X5: =$P5*Y3 -> 1.25 | Y5: =$P5*Y2 -> 7.6571778e-17 | AA5: =$P5*AB3 -> 1.0825318 | AB5: =$P5*AB2 -> -0.625 | AD5: =$P5*AE3 -> 0.625 | AE5: =$P5*AE2 -> -1.0825318 | AG5: =$P5*AH3 -> 1.5314356e-16 | AH5: =$P5*AH2 -> -1.25 | AJ5: data ymain | AK5: 0 | AL5: -0.05 | AM5: -0.1 | AN5: -0.15 | AO5: -0.2 | AP5: -0.25 | AQ5: -0.3 | AR5: -0.35 | AS5: -0.4
A6: Ypmin | B6: -9 | I6: =Deckman!A5 -> 10 | J6: =Deckman!B5 -> 5.4660001 | K6: =Deckman!C5 -> 46.599998 | L6: =J6*SIN(RADIANS(K6)) -> 3.9714571 | M6: =J6*COS(RADIANS(K6)) -> 3.7556205 | O6: Scale | P6: 1.5 | R6: Scale | S6: =$P6 -> 1.5 | U6: Scale | V6: =$P6 -> 1.5 | X6: Scale | Y6: =$P6 -> 1.5 | AA6: Scale | AB6: =$P6 -> 1.5 | AD6: Scale | AE6: =$P6 -> 1.5 | AG6: Scale | AH6: =$P6 -> 1.5 | AJ6: data xspin | AK6: 0.25 | AL6: 0.221 | AM6: 0.19 | AN6: 0.161 | AO6: 0.13 | AP6: 0.11 | AQ6: 0.07 | AR6: 0.036 | AS6: 0 | AT6: -0.036 | AU6: -0.07 | AV6: -0.11 | AW6: -0.13 | AX6: -0.161 | AY6: -0.19 | AZ6: -0.221 | BA6: -0.25
A7: Ypmax | B7: 5 | I7: =Deckman!A6 -> 12 | J7: =Deckman!B6 -> 6.0339999 | K7: =Deckman!C6 -> 47.400002 | L7: =J7*SIN(RADIANS(K7)) -> 4.4416099 | M7: =J7*COS(RADIANS(K7)) -> 4.0842694 | AJ7: data yspin | AK7: 0.4 | AL7: 0.425 | AM7: 0.448 | AN7: 0.4636 | AO7: 0.477 | AP7: 0.484 | AQ7: 0.491 | AR7: 0.4956 | AS7: 0.498 | AT7: 0.4956 | AU7: 0.491 | AV7: 0.484 | AW7: 0.477 | AX7: 0.4636 | AY7: 0.448 | AZ7: 0.425 | BA7: 0.4
I8: =Deckman!A7 -> 16 | J8: =Deckman!B7 -> 6.4720001 | K8: =Deckman!C7 -> 45.099998 | L8: =J8*SIN(RADIANS(K8)) -> 4.5843754 | M8: =J8*COS(RADIANS(K8)) -> 4.568401 | O8: Boat X | P8: Boat Y | R8: Boat X | S8: Boat Y | U8: Boat X | V8: Boat Y | X8: Boat X | Y8: Boat Y | AA8: Boat X | AB8: Boat Y | AD8: Boat X | AE8: Boat Y | AG8: Boat X | AH8: Boat Y
A9: PLOT RADIANTS | I9: =Deckman!A8 -> 20 | J9: =Deckman!B8 -> 6.6069999 | K9: =Deckman!C8 -> 43.799999 | L9: =J9*SIN(RADIANS(K9)) -> 4.5729898 | M9: =J9*COS(RADIANS(K9)) -> 4.7686698 | O9: 0 | P9: 0.5 | R9: =S$6*($O9*S$2+$P9*S$3)+R$5 -> 1 | S9: =S$6*(-$O9*S$3+$P9*S$2)+S$5 -> 1.7320508 | U9: =V$6*($O9*V$2+$P9*V$3)+U$5 -> 1.7320508 | V9: =V$6*(-$O9*V$3+$P9*V$2)+V$5 -> 1 | X9: =Y$6*($O9*Y$2+$P9*Y$3)+X$5 -> 2 | Y9: =Y$6*(-$O9*Y$3+$P9*Y$2)+Y$5 -> 1.2251485e-16 | AA9: =AB$6*($O9*AB$2+$P9*AB$3)+AA$5 -> 1.7320508 | AB9: =AB$6*(-$O9*AB$3+$P9*AB$2)+AB$5 -> -1 | AD9: =AE$6*($O9*AE$2+$P9*AE$3)+AD$5 -> 1 | AE9: =AE$6*(-$O9*AE$3+$P9*AE$2)+AE$5 -> -1.7320508 | AG9: =AH$6*($O9*AH$2+$P9*AH$3)+AG$5 -> 2.4502969e-16 | AH9: =AH$6*(-$O9*AH$3+$P9*AH$2)+AH$5 -> -2
A10: 30 | B10: =B$4*SIN(RADIANS(A10)) -> 5 | C10: =IF(A10<$D$5,B7*TAN(RADIANS(A10)),B5) -> 2.8867513 | E10: =C$4*SIN(RADIANS(A10)) -> 1 | F10: =B10 -> 5 | I10: =Deckman!A9 -> 24 | J10: =Deckman!B9 -> 6.652 | K10: =Deckman!C9 -> 44 | L10: =J10*SIN(RADIANS(K10)) -> 4.6208674 | M10: =J10*COS(RADIANS(K10)) -> 4.7850483 | O10: 0.029 | P10: 0.4 | R10: =S$6*($O10*S$2+$P10*S$3)+R$5 -> 0.96267211 | S10: =S$6*(-$O10*S$3+$P10*S$2)+S$5 -> 1.580397 | U10: =V$6*($O10*V$2+$P10*V$3)+U$5 -> 1.623897 | V10: =V$6*(-$O10*V$3+$P10*V$2)+V$5 -> 0.88732789 | X10: =Y$6*($O10*Y$2+$P10*Y$3)+X$5 -> 1.85 | Y10: =Y$6*(-$O10*Y$3+$P10*Y$2)+Y$5 -> -0.0435 | AA10: =AB$6*($O10*AB$2+$P10*AB$3)+AA$5 -> 1.580397 | AB10: =AB$6*(-$O10*AB$3+$P10*AB$2)+AB$5 -> -0.96267211 | AD10: =AE$6*($O10*AE$2+$P10*AE$3)+AD$5 -> 0.88732789 | AE10: =AE$6*(-$O10*AE$3+$P10*AE$2)+AE$5 -> -1.623897 | AG10: =AH$6*($O10*AH$2+$P10*AH$3)+AG$5 -> -0.0435 | AH10: =AH$6*(-$O10*AH$3+$P10*AH$2)+AH$5 -> -1.85
B11: =B$4*COS(RADIANS(A10)) -> 8.660254 | C11: =IF(A10<$D$5,B7*TAN(RADIANS(A10)),B5) -> 2.8867513 | E11: =C$4*COS(RADIANS(A10)) -> 1.7320508 | F11: =B11 -> 8.660254 | O11: 0.058 | P11: 0.3 | R11: =S$6*($O11*S$2+$P11*S$3)+R$5 -> 0.92534421 | S11: =S$6*(-$O11*S$3+$P11*S$2)+S$5 -> 1.4287432 | U11: =V$6*($O11*V$2+$P11*V$3)+U$5 -> 1.5157432 | V11: =V$6*(-$O11*V$3+$P11*V$2)+V$5 -> 0.77465579 | X11: =Y$6*($O11*Y$2+$P11*Y$3)+X$5 -> 1.7 | Y11: =Y$6*(-$O11*Y$3+$P11*Y$2)+Y$5 -> -0.087 | AA11: =AB$6*($O11*AB$2+$P11*AB$3)+AA$5 -> 1.4287432 | AB11: =AB$6*(-$O11*AB$3+$P11*AB$2)+AB$5 -> -0.92534421 | AD11: =AE$6*($O11*AE$2+$P11*AE$3)+AD$5 -> 0.77465579 | AE11: =AE$6*(-$O11*AE$3+$P11*AE$2)+AE$5 -> -1.5157432 | AG11: =AH$6*($O11*AH$2+$P11*AH$3)+AG$5 -> -0.087 | AH11: =AH$6*(-$O11*AH$3+$P11*AH$2)+AH$5 -> -1.7
A12: =A10+10 -> 40 | B12: =B$4*SIN(RADIANS(A12)) -> 6.4278761 | E12: =C$4*SIN(RADIANS(A12)) -> 1.2855752 | F12: =B12 -> 6.4278761 | H12: VMG DN | I12: =Deckman!A3 -> 6 | J12: =Deckman!N3 -> 3.8280001 | K12: =Deckman!O3 -> 142.60001 | L12: =J12*SIN(RADIANS(K12)) -> 2.3250344 | M12: =J12*COS(RADIANS(K12)) -> -3.0410195 | O12: 0.086 | P12: 0.2 | R12: =S$6*($O12*S$2+$P12*S$3)+R$5 -> 0.88671728 | S12: =S$6*(-$O12*S$3+$P12*S$2)+S$5 -> 1.2778394 | U12: =V$6*($O12*V$2+$P12*V$3)+U$5 -> 1.4068394 | V12: =V$6*(-$O12*V$3+$P12*V$2)+V$5 -> 0.66328272 | X12: =Y$6*($O12*Y$2+$P12*Y$3)+X$5 -> 1.55 | Y12: =Y$6*(-$O12*Y$3+$P12*Y$2)+Y$5 -> -0.129 | AA12: =AB$6*($O12*AB$2+$P12*AB$3)+AA$5 -> 1.2778394 | AB12: =AB$6*(-$O12*AB$3+$P12*AB$2)+AB$5 -> -0.88671728 | AD12: =AE$6*($O12*AE$2+$P12*AE$3)+AD$5 -> 0.66328272 | AE12: =AE$6*(-$O12*AE$3+$P12*AE$2)+AE$5 -> -1.4068394 | AG12: =AH$6*($O12*AH$2+$P12*AH$3)+AG$5 -> -0.129 | AH12: =AH$6*(-$O12*AH$3+$P12*AH$2)+AH$5 -> -1.55
B13: =B$4*COS(RADIANS(A12)) -> 7.6604444 | E13: =C$4*COS(RADIANS(A12)) -> 1.5320889 | F13: =B13 -> 7.6604444 | I13: =Deckman!A4 -> 8 | J13: =Deckman!N4 -> 4.744 | K13: =Deckman!O4 -> 146.89999 | L13: =J13*SIN(RADIANS(K13)) -> 2.5907081 | M13: =J13*COS(RADIANS(K13)) -> -3.9741373 | O13: 0.107 | P13: 0.1 | R13: =S$6*($O13*S$2+$P13*S$3)+R$5 -> 0.83899708 | S13: =S$6*(-$O13*S$3+$P13*S$2)+S$5 -> 1.1321856 | U13: =V$6*($O13*V$2+$P13*V$3)+U$5 -> 1.2926856 | V13: =V$6*(-$O13*V$3+$P13*V$2)+V$5 -> 0.56100292 | X13: =Y$6*($O13*Y$2+$P13*Y$3)+X$5 -> 1.4 | Y13: =Y$6*(-$O13*Y$3+$P13*Y$2)+Y$5 -> -0.1605 | AA13: =AB$6*($O13*AB$2+$P13*AB$3)+AA$5 -> 1.1321856 | AB13: =AB$6*(-$O13*AB$3+$P13*AB$2)+AB$5 -> -0.83899708 | AD13: =AE$6*($O13*AE$2+$P13*AE$3)+AD$5 -> 0.56100292 | AE13: =AE$6*(-$O13*AE$3+$P13*AE$2)+AE$5 -> -1.2926856 | AG13: =AH$6*($O13*AH$2+$P13*AH$3)+AG$5 -> -0.1605 | AH13: =AH$6*(-$O13*AH$3+$P13*AH$2)+AH$5 -> -1.4
A14: =A12+10 -> 50 | B14: =B$4*SIN(RADIANS(A14)) -> 7.6604444 | E14: =C$4*SIN(RADIANS(A14)) -> 1.5320889 | F14: =B14 -> 7.6604444 | I14: =Deckman!A5 -> 10 | J14: =Deckman!N5 -> 5.3649998 | K14: =Deckman!O5 -> 153.60001 | L14: =J14*SIN(RADIANS(K14)) -> 2.3854671 | M14: =J14*COS(RADIANS(K14)) -> -4.8054936 | O14: 0.122 | P14: 0 | R14: =S$6*($O14*S$2+$P14*S$3)+R$5 -> 0.78348265 | S14: =S$6*(-$O14*S$3+$P14*S$2)+S$5 -> 0.99103175 | U14: =V$6*($O14*V$2+$P14*V$3)+U$5 -> 1.1740318 | V14: =V$6*(-$O14*V$3+$P14*V$2)+V$5 -> 0.46651735 | X14: =Y$6*($O14*Y$2+$P14*Y$3)+X$5 -> 1.25 | Y14: =Y$6*(-$O14*Y$3+$P14*Y$2)+Y$5 -> -0.183 | AA14: =AB$6*($O14*AB$2+$P14*AB$3)+AA$5 -> 0.99103175 | AB14: =AB$6*(-$O14*AB$3+$P14*AB$2)+AB$5 -> -0.78348265 | AD14: =AE$6*($O14*AE$2+$P14*AE$3)+AD$5 -> 0.46651735 | AE14: =AE$6*(-$O14*AE$3+$P14*AE$2)+AE$5 -> -1.1740318 | AG14: =AH$6*($O14*AH$2+$P14*AH$3)+AG$5 -> -0.183 | AH14: =AH$6*(-$O14*AH$3+$P14*AH$2)+AH$5 -> -1.25
B15: =B$4*COS(RADIANS(A14)) -> 6.4278761 | E15: =C$4*COS(RADIANS(A14)) -> 1.2855752 | F15: =B15 -> 6.4278761 | I15: =Deckman!A6 -> 12 | J15: =Deckman!N6 -> 5.895 | K15: =Deckman!O6 -> 159.2 | L15: =J15*SIN(RADIANS(K15)) -> 2.0933558 | M15: =J15*COS(RADIANS(K15)) -> -5.5107972 | O15: 0.13 | P15: -0.1 | R15: =S$6*($O15*S$2+$P15*S$3)+R$5 -> 0.71887495 | S15: =S$6*(-$O15*S$3+$P15*S$2)+S$5 -> 0.85512794 | U15: =V$6*($O15*V$2+$P15*V$3)+U$5 -> 1.0501279 | V15: =V$6*(-$O15*V$3+$P15*V$2)+V$5 -> 0.38112505 | X15: =Y$6*($O15*Y$2+$P15*Y$3)+X$5 -> 1.1 | Y15: =Y$6*(-$O15*Y$3+$P15*Y$2)+Y$5 -> -0.195 | AA15: =AB$6*($O15*AB$2+$P15*AB$3)+AA$5 -> 0.85512794 | AB15: =AB$6*(-$O15*AB$3+$P15*AB$2)+AB$5 -> -0.71887495 | AD15: =AE$6*($O15*AE$2+$P15*AE$3)+AD$5 -> 0.38112505 | AE15: =AE$6*(-$O15*AE$3+$P15*AE$2)+AE$5 -> -1.0501279 | AG15: =AH$6*($O15*AH$2+$P15*AH$3)+AG$5 -> -0.195 | AH15: =AH$6*(-$O15*AH$3+$P15*AH$2)+AH$5 -> -1.1
A16: =A14+10 -> 60 | B16: =B$4*SIN(RADIANS(A16)) -> 8.660254 | E16: =C$4*SIN(RADIANS(A16)) -> 1.7320508 | F16: =B16 -> 8.660254 | I16: =Deckman!A7 -> 16 | J16: =Deckman!N7 -> 6.7880001 | K16: =Deckman!O7 -> 175.2 | L16: =J16*SIN(RADIANS(K16)) -> 0.56800557 | M16: =J16*COS(RADIANS(K16)) -> -6.7641936 | O16: 0.125 | P16: -0.2 | R16: =S$6*($O16*S$2+$P16*S$3)+R$5 -> 0.63737976 | S16: =S$6*(-$O16*S$3+$P16*S$2)+S$5 -> 0.72897413 | U16: =V$6*($O16*V$2+$P16*V$3)+U$5 -> 0.91647413 | V16: =V$6*(-$O16*V$3+$P16*V$2)+V$5 -> 0.31262024 | X16: =Y$6*($O16*Y$2+$P16*Y$3)+X$5 -> 0.95 | Y16: =Y$6*(-$O16*Y$3+$P16*Y$2)+Y$5 -> -0.1875 | AA16: =AB$6*($O16*AB$2+$P16*AB$3)+AA$5 -> 0.72897413 | AB16: =AB$6*(-$O16*AB$3+$P16*AB$2)+AB$5 -> -0.63737976 | AD16: =AE$6*($O16*AE$2+$P16*AE$3)+AD$5 -> 0.31262024 | AE16: =AE$6*(-$O16*AE$3+$P16*AE$2)+AE$5 -> -0.91647413 | AG16: =AH$6*($O16*AH$2+$P16*AH$3)+AG$5 -> -0.1875 | AH16: =AH$6*(-$O16*AH$3+$P16*AH$2)+AH$5 -> -0.95
